BEGIN:VCALENDAR
VERSION:2.0
PRODID:-//Toledo First Baptist Church - ECPv6.15.17.1//NONSGML v1.0//EN
CALSCALE:GREGORIAN
METHOD:PUBLISH
X-ORIGINAL-URL:https://toledofirstbaptist.com
X-WR-CALDESC:Events for Toledo First Baptist Church
REFRESH-INTERVAL;VALUE=DURATION:PT1H
X-Robots-Tag:noindex
X-PUBLISHED-TTL:PT1H
BEGIN:VTIMEZONE
TZID:America/Los_Angeles
BEGIN:DAYLIGHT
TZOFFSETFROM:-0800
TZOFFSETTO:-0700
TZNAME:PDT
DTSTART:20150308T100000
END:DAYLIGHT
BEGIN:STANDARD
TZOFFSETFROM:-0700
TZOFFSETTO:-0800
TZNAME:PST
DTSTART:20151101T090000
END:STANDARD
BEGIN:DAYLIGHT
TZOFFSETFROM:-0800
TZOFFSETTO:-0700
TZNAME:PDT
DTSTART:20160313T100000
END:DAYLIGHT
BEGIN:STANDARD
TZOFFSETFROM:-0700
TZOFFSETTO:-0800
TZNAME:PST
DTSTART:20161106T090000
END:STANDARD
BEGIN:DAYLIGHT
TZOFFSETFROM:-0800
TZOFFSETTO:-0700
TZNAME:PDT
DTSTART:20170312T100000
END:DAYLIGHT
BEGIN:STANDARD
TZOFFSETFROM:-0700
TZOFFSETTO:-0800
TZNAME:PST
DTSTART:20171105T090000
END:STANDARD
BEGIN:DAYLIGHT
TZOFFSETFROM:-0800
TZOFFSETTO:-0700
TZNAME:PDT
DTSTART:20180311T100000
END:DAYLIGHT
BEGIN:STANDARD
TZOFFSETFROM:-0700
TZOFFSETTO:-0800
TZNAME:PST
DTSTART:20181104T090000
END:STANDARD
BEGIN:DAYLIGHT
TZOFFSETFROM:-0800
TZOFFSETTO:-0700
TZNAME:PDT
DTSTART:20190310T100000
END:DAYLIGHT
BEGIN:STANDARD
TZOFFSETFROM:-0700
TZOFFSETTO:-0800
TZNAME:PST
DTSTART:20191103T090000
END:STANDARD
BEGIN:DAYLIGHT
TZOFFSETFROM:-0800
TZOFFSETTO:-0700
TZNAME:PDT
DTSTART:20200308T100000
END:DAYLIGHT
BEGIN:STANDARD
TZOFFSETFROM:-0700
TZOFFSETTO:-0800
TZNAME:PST
DTSTART:20201101T090000
END:STANDARD
BEGIN:DAYLIGHT
TZOFFSETFROM:-0800
TZOFFSETTO:-0700
TZNAME:PDT
DTSTART:20210314T100000
END:DAYLIGHT
BEGIN:STANDARD
TZOFFSETFROM:-0700
TZOFFSETTO:-0800
TZNAME:PST
DTSTART:20211107T090000
END:STANDARD
BEGIN:DAYLIGHT
TZOFFSETFROM:-0800
TZOFFSETTO:-0700
TZNAME:PDT
DTSTART:20220313T100000
END:DAYLIGHT
BEGIN:STANDARD
TZOFFSETFROM:-0700
TZOFFSETTO:-0800
TZNAME:PST
DTSTART:20221106T090000
END:STANDARD
BEGIN:DAYLIGHT
TZOFFSETFROM:-0800
TZOFFSETTO:-0700
TZNAME:PDT
DTSTART:20230312T100000
END:DAYLIGHT
BEGIN:STANDARD
TZOFFSETFROM:-0700
TZOFFSETTO:-0800
TZNAME:PST
DTSTART:20231105T090000
END:STANDARD
BEGIN:DAYLIGHT
TZOFFSETFROM:-0800
TZOFFSETTO:-0700
TZNAME:PDT
DTSTART:20240310T100000
END:DAYLIGHT
BEGIN:STANDARD
TZOFFSETFROM:-0700
TZOFFSETTO:-0800
TZNAME:PST
DTSTART:20241103T090000
END:STANDARD
BEGIN:DAYLIGHT
TZOFFSETFROM:-0800
TZOFFSETTO:-0700
TZNAME:PDT
DTSTART:20250309T100000
END:DAYLIGHT
BEGIN:STANDARD
TZOFFSETFROM:-0700
TZOFFSETTO:-0800
TZNAME:PST
DTSTART:20251102T090000
END:STANDARD
END:VTIMEZONE
BEGIN:VEVENT
DTSTART;TZID=America/Los_Angeles:20240825T110000
DTEND;TZID=America/Los_Angeles:20240825T143000
DTSTAMP:20260421T223511
CREATED:20240626T172421Z
LAST-MODIFIED:20240815T232305Z
UID:10005660-1724583600-1724596200@toledofirstbaptist.com
SUMMARY:TFBC Church Picnic
DESCRIPTION:Join us for our summer church picnic down at the city park.\nWe will be holding one service at 11 am with a picnic following. \nThere will not be an 8:00 am service or Sunday School this week! \nPlease bring a side dish or dessert to share and lawn chairs or blankets to sit on. \n 
URL:https://toledofirstbaptist.com/event/tfbc-church-picnic/
LOCATION:Toledo Park\, 599 Cedar St\, Toledo\, WA\, 98591\, United States
CATEGORIES:Events,Featured,Services,Summer Events
GEO:46.4372456;-122.8520935
X-APPLE-STRUCTURED-LOCATION;VALUE=URI;X-ADDRESS=Toledo Park 599 Cedar St Toledo WA 98591 United States;X-APPLE-RADIUS=500;X-TITLE=599 Cedar St:geo:-122.8520935,46.4372456
END:VEVENT
BEGIN:VEVENT
DTSTART;TZID=America/Los_Angeles:20240807T183000
DTEND;TZID=America/Los_Angeles:20240807T200000
DTSTAMP:20260421T223511
CREATED:20240626T174733Z
LAST-MODIFIED:20240626T174834Z
UID:10005661-1723055400-1723060800@toledofirstbaptist.com
SUMMARY:TFBC Chili Cookoff
DESCRIPTION:Who makes the best chili??? You think you do!!! Well\, prove it by joining us for our yearly Chili Cookoff! \nBring your best pot of chili down to the park and serve it up! \nBring a friend or family member along with a chair or blanket to sit on. \nWe always have a wonderful time! You won’t want to miss out!
URL:https://toledofirstbaptist.com/event/chilicookoff/
LOCATION:Toledo Park\, 599 Cedar St\, Toledo\, WA\, 98591\, United States
CATEGORIES:Events,Featured,Summer Events
GEO:46.4372456;-122.8520935
X-APPLE-STRUCTURED-LOCATION;VALUE=URI;X-ADDRESS=Toledo Park 599 Cedar St Toledo WA 98591 United States;X-APPLE-RADIUS=500;X-TITLE=599 Cedar St:geo:-122.8520935,46.4372456
END:VEVENT
BEGIN:VEVENT
DTSTART;TZID=America/Los_Angeles:20240717T183000
DTEND;TZID=America/Los_Angeles:20240717T200000
DTSTAMP:20260421T223511
CREATED:20240620T222526Z
LAST-MODIFIED:20240620T233340Z
UID:10005659-1721241000-1721246400@toledofirstbaptist.com
SUMMARY:Pie Social in the Park
DESCRIPTION:It’s Summer Time\, and that means pie and music in the park. \nJoin us for our summer gathering in the park\, which includes pie and music. \nYou don’t want to miss out. Grab the kids\, grandma\, grandpa\, and a pie to share. \nBring a chair or picnic blanket to sit on. \n 
URL:https://toledofirstbaptist.com/event/pie-social-in-the-park/
LOCATION:Toledo Park\, 599 Cedar St\, Toledo\, WA\, 98591\, United States
CATEGORIES:Events,Featured,Summer Events
GEO:46.4372456;-122.8520935
X-APPLE-STRUCTURED-LOCATION;VALUE=URI;X-ADDRESS=Toledo Park 599 Cedar St Toledo WA 98591 United States;X-APPLE-RADIUS=500;X-TITLE=599 Cedar St:geo:-122.8520935,46.4372456
END:VEVENT
BEGIN:VEVENT
DTSTART;TZID=America/Los_Angeles:20230719T183000
DTEND;TZID=America/Los_Angeles:20230719T200000
DTSTAMP:20260421T223511
CREATED:20230606T235112Z
LAST-MODIFIED:20230609T123937Z
UID:10004686-1689791400-1689796800@toledofirstbaptist.com
SUMMARY:Worship in the Park & Pie Social
DESCRIPTION:It’s July\, and time for our worship in the park and time for PIE! \nJoin us as we worship our Lord in the beautiful setting of our City Park. \nBring a pie to share and a lawn chair or picnic blanket to sit on. \nInvite your family and friends to join us. \nChildren | Youth | Adults
URL:https://toledofirstbaptist.com/event/worship-in-the-park-pie-social/
LOCATION:Toledo Park\, 599 Cedar St\, Toledo\, WA\, 98591\, United States
CATEGORIES:Events,Featured,Summer Events
GEO:46.4372456;-122.8520935
X-APPLE-STRUCTURED-LOCATION;VALUE=URI;X-ADDRESS=Toledo Park 599 Cedar St Toledo WA 98591 United States;X-APPLE-RADIUS=500;X-TITLE=599 Cedar St:geo:-122.8520935,46.4372456
END:VEVENT
BEGIN:VEVENT
DTSTART;TZID=America/Los_Angeles:20220831T183000
DTEND;TZID=America/Los_Angeles:20220831T200000
DTSTAMP:20260421T223511
CREATED:20220804T223219Z
LAST-MODIFIED:20220811T163340Z
UID:10001151-1661970600-1661976000@toledofirstbaptist.com
SUMMARY:Worship at the Park & Chili Cookoff
DESCRIPTION:Please join us on Wednesday\, August 31st at 6:30 pm for worship at Toledo City Park. \nAlso\, get those chili recipes ready cause it’s also our annual chili cookoff.\nWho will win this year?? Better come and check all the amazing chili out.\nBring a chair or blanket to sit on. \nGet your family and friends together. See you Wednesday\, August 10th at 6:30 pm \n 
URL:https://toledofirstbaptist.com/event/worship-at-the-pond-and-chili-cookoff/
LOCATION:Toledo Park\, 599 Cedar St\, Toledo\, WA\, 98591\, United States
ATTACH;FMTTYPE=image/jpeg:https://toledofirstbaptist.com/wp-content/uploads/2022/08/chili-cookoff-1.jpg
GEO:46.4372456;-122.8520935
X-APPLE-STRUCTURED-LOCATION;VALUE=URI;X-ADDRESS=Toledo Park 599 Cedar St Toledo WA 98591 United States;X-APPLE-RADIUS=500;X-TITLE=599 Cedar St:geo:-122.8520935,46.4372456
END:VEVENT
BEGIN:VEVENT
DTSTART;TZID=America/Los_Angeles:20220713T180000
DTEND;TZID=America/Los_Angeles:20220713T190000
DTSTAMP:20260421T223511
CREATED:20220705T214926Z
LAST-MODIFIED:20220705T214926Z
UID:10001149-1657735200-1657738800@toledofirstbaptist.com
SUMMARY:Worship & Pie Social In The Park
DESCRIPTION:Join us for an evening of worshiping\, music and PIES!!!\nWe will meet in the City Park at 6:00 pm. \nBring a pie to share\, chairs\, or a picnic blanket for your family.\nSee you then!
URL:https://toledofirstbaptist.com/event/worship-pie-social-in-the-park/
LOCATION:Toledo Park\, 599 Cedar St\, Toledo\, WA\, 98591\, United States
CATEGORIES:Events,Services,Summer Events
ATTACH;FMTTYPE=image/jpeg:https://toledofirstbaptist.com/wp-content/uploads/2022/07/Untitled-1.jpg
GEO:46.4372456;-122.8520935
X-APPLE-STRUCTURED-LOCATION;VALUE=URI;X-ADDRESS=Toledo Park 599 Cedar St Toledo WA 98591 United States;X-APPLE-RADIUS=500;X-TITLE=599 Cedar St:geo:-122.8520935,46.4372456
END:VEVENT
BEGIN:VEVENT
DTSTART;TZID=America/Los_Angeles:20190821T173000
DTEND;TZID=America/Los_Angeles:20190821T200000
DTSTAMP:20260421T223511
CREATED:20190604T233939Z
LAST-MODIFIED:20190821T212108Z
UID:10000511-1566408600-1566417600@toledofirstbaptist.com
SUMMARY:Chili Cook Off & Family Reunion
DESCRIPTION:If you think you make the best pot of chili\, then come to the Chili Cook-Off and prove it. \nThere will be many who would love to prove you wrong. Start planning now\, cause we have some \namazing cooks in our church! \nWhere: Toledo Baseball Park \nWhen: August 21st \nTime: 5:30-8:00 pm \nBring your best pot of chili to share and get judged. Winner holds the title for the year. \nSee you then.
URL:https://toledofirstbaptist.com/event/chili-cook-off-family-reunion/
LOCATION:Toledo Park\, 599 Cedar St\, Toledo\, WA\, 98591\, United States
CATEGORIES:Events,Featured,Summer Events
ATTACH;FMTTYPE=image/jpeg:https://toledofirstbaptist.com/wp-content/uploads/2019/06/chili-cookof.1f-1.jpg
GEO:46.4372456;-122.8520935
X-APPLE-STRUCTURED-LOCATION;VALUE=URI;X-ADDRESS=Toledo Park 599 Cedar St Toledo WA 98591 United States;X-APPLE-RADIUS=500;X-TITLE=599 Cedar St:geo:-122.8520935,46.4372456
END:VEVENT
BEGIN:VEVENT
DTSTART;TZID=America/Los_Angeles:20180815T173000
DTEND;TZID=America/Los_Angeles:20180815T200000
DTSTAMP:20260421T223511
CREATED:20180605T221809Z
LAST-MODIFIED:20180605T221809Z
UID:10000415-1534354200-1534363200@toledofirstbaptist.com
SUMMARY:Baseball and Chili Cookoff
DESCRIPTION:It’s Hot outside\, but not as hot as our Chili Cookoff and Baseball will be. \nCome join us down at the Toledo City Park for an evening of fun. \nIf you think you can make the best pot of chili\, come prove it and bring it on down and see if you win our Chili Cookoff. \nWe here at TFBC sure have some amazing cooks\, you won’t want to miss out. \nDon’t forget to bring your mitt\, bat\, and ball and come work off all that amazing chili by playing some baseball. \nFor more information\, you can call the church office at 360.864.2550\, or drop us an email at office@toledofirstbaptist.com \n 
URL:https://toledofirstbaptist.com/event/baseball-and-chili-cookoff/
LOCATION:Toledo Park\, 599 Cedar St\, Toledo\, WA\, 98591\, United States
CATEGORIES:Events,Featured
ATTACH;FMTTYPE=image/jpeg:https://toledofirstbaptist.com/wp-content/uploads/2018/06/chili-baseball1-1.jpg
GEO:46.4372456;-122.8520935
X-APPLE-STRUCTURED-LOCATION;VALUE=URI;X-ADDRESS=Toledo Park 599 Cedar St Toledo WA 98591 United States;X-APPLE-RADIUS=500;X-TITLE=599 Cedar St:geo:-122.8520935,46.4372456
END:VEVENT
BEGIN:VEVENT
DTSTART;TZID=America/Los_Angeles:20180808T183000
DTEND;TZID=America/Los_Angeles:20180808T200000
DTSTAMP:20260421T223511
CREATED:20180605T234258Z
LAST-MODIFIED:20180731T210709Z
UID:10000416-1533753000-1533758400@toledofirstbaptist.com
SUMMARY:Open Mic & Pie Social
DESCRIPTION:You can’t have a Summer Wednesday Night Event without pie. It’s time for our Pie Social. \nEveryone loves pie\, so bring your favorite whether you cooked it or bought it at the store\, we don’t care! We will eat it! \nBring your comfy lawn chair or blanket to enjoy the evening in style. \nDo you love to sing and have a favorite song you want to share\, please contact Pastor Mike for more information! \nWe look forward to seeing you all. \nFor information on this event\, call the church office @ 360.864.2550 or email us at office@toleodfirstbaptist.com
URL:https://toledofirstbaptist.com/event/open-mic-pie-social/
LOCATION:Toledo Park\, 599 Cedar St\, Toledo\, WA\, 98591\, United States
CATEGORIES:Events,Featured
ATTACH;FMTTYPE=image/jpeg:https://toledofirstbaptist.com/wp-content/uploads/2018/06/Open-Mic-Pie.jpg
GEO:46.4372456;-122.8520935
X-APPLE-STRUCTURED-LOCATION;VALUE=URI;X-ADDRESS=Toledo Park 599 Cedar St Toledo WA 98591 United States;X-APPLE-RADIUS=500;X-TITLE=599 Cedar St:geo:-122.8520935,46.4372456
END:VEVENT
BEGIN:VEVENT
DTSTART;TZID=America/Los_Angeles:20180725T173000
DTEND;TZID=America/Los_Angeles:20180725T200000
DTSTAMP:20260421T223511
CREATED:20180525T224900Z
LAST-MODIFIED:20180612T231842Z
UID:10000414-1532539800-1532548800@toledofirstbaptist.com
SUMMARY:Bluegrass & BBQ Family Night
DESCRIPTION:Do you love Bluegrass Music and great BBQ? Well\, then head on down to the Toledo City Park for a great meal and \na fun evening of amazing Bluegrass Music by several musicians from our area and church. The shade of the beautiful \ntrees in the park is a great place to spend a warm evening. Bring your family\, invite your friends and come join us. \nWe will eat at 5:30\, so bring a side dish or dessert to share. We will provide BBQ from Bonanza BBQ\, and we all know \ntheir food is amazing. So don’t miss it.
URL:https://toledofirstbaptist.com/event/bluegrass-bbq-family-night/
LOCATION:Toledo Park\, 599 Cedar St\, Toledo\, WA\, 98591\, United States
CATEGORIES:Events,Featured
ATTACH;FMTTYPE=image/jpeg:https://toledofirstbaptist.com/wp-content/uploads/2018/05/bluegrass-bbq-7.25-1.jpg
GEO:46.4372456;-122.8520935
X-APPLE-STRUCTURED-LOCATION;VALUE=URI;X-ADDRESS=Toledo Park 599 Cedar St Toledo WA 98591 United States;X-APPLE-RADIUS=500;X-TITLE=599 Cedar St:geo:-122.8520935,46.4372456
END:VEVENT
BEGIN:VEVENT
DTSTART;TZID=America/Los_Angeles:20180701T110000
DTEND;TZID=America/Los_Angeles:20180701T150000
DTSTAMP:20260421T223511
CREATED:20180525T205925Z
LAST-MODIFIED:20180624T042545Z
UID:10000412-1530442800-1530457200@toledofirstbaptist.com
SUMMARY:Friends and Family Picnic
DESCRIPTION:Friends & Family At The Park \nWhen: July 1st \nTime: 11:00 am to 3:00 pm \nWhere: Toledo City Park \nGrab your family and join us after the 11:00 am service for some amazing food\, fun\, and fellowship for our \nannual VBS Family and Friends Day Picnic at the Toledo Park.  You don’t want to miss the fun! \nWe hope to see you there! \nFor more information call the church office at 360.864.2550
URL:https://toledofirstbaptist.com/event/friendsandfamilypicnic5133/
LOCATION:Toledo Park\, 599 Cedar St\, Toledo\, WA\, 98591\, United States
CATEGORIES:Events,Featured
ATTACH;FMTTYPE=image/jpeg:https://toledofirstbaptist.com/wp-content/uploads/2018/05/isignstock_1243_00064-1.jpg
GEO:46.4372456;-122.8520935
X-APPLE-STRUCTURED-LOCATION;VALUE=URI;X-ADDRESS=Toledo Park 599 Cedar St Toledo WA 98591 United States;X-APPLE-RADIUS=500;X-TITLE=599 Cedar St:geo:-122.8520935,46.4372456
END:VEVENT
BEGIN:VEVENT
DTSTART;TZID=America/Los_Angeles:20170820T103000
DTEND;TZID=America/Los_Angeles:20170820T140000
DTSTAMP:20260421T223511
CREATED:20161029T180105Z
LAST-MODIFIED:20170810T232123Z
UID:10000131-1503225000-1503237600@toledofirstbaptist.com
SUMMARY:50th Anniversary Celebration
DESCRIPTION:Join us as we return to the place where it all began\, the Toledo City Park\, to celebrate 50 years of God’s Faithfulness. \nThe service will begin at 10:30am followed by a potluck lunch and baptism. \nHope to see you there! \n  \nTFBC Will be providing the main dish. Please bring side dishes\, salads\, and desserts. \nHear stories about the earliest days of TFBC from the people who were there. \nCelebrate with several who will be baptized that day.
URL:https://toledofirstbaptist.com/event/50years/
LOCATION:Toledo Park\, 599 Cedar St\, Toledo\, WA\, 98591\, United States
CATEGORIES:Events,Featured,Services
ATTACH;FMTTYPE=image/jpeg:https://toledofirstbaptist.com/wp-content/uploads/2016/10/50thanniversarycelebration-1600x545.jpg
GEO:46.4372456;-122.8520935
X-APPLE-STRUCTURED-LOCATION;VALUE=URI;X-ADDRESS=Toledo Park 599 Cedar St Toledo WA 98591 United States;X-APPLE-RADIUS=500;X-TITLE=599 Cedar St:geo:-122.8520935,46.4372456
END:VEVENT
BEGIN:VEVENT
DTSTART;TZID=America/Los_Angeles:20170726T183000
DTEND;TZID=America/Los_Angeles:20170726T200000
DTSTAMP:20260421T223511
CREATED:20170622T231706Z
LAST-MODIFIED:20170723T053338Z
UID:10000325-1501093800-1501099200@toledofirstbaptist.com
SUMMARY:Bluegrass in the Park & Pie Social
DESCRIPTION:Come and hear some great bluegrass and eat some awesome pie at the Toledo Park.  We hope you can make it!
URL:https://toledofirstbaptist.com/event/bluegrass-in-the-park-pie-social/
LOCATION:Toledo Park\, 599 Cedar St\, Toledo\, WA\, 98591\, United States
CATEGORIES:Featured,Summer Events
ATTACH;FMTTYPE=image/jpeg:https://toledofirstbaptist.com/wp-content/uploads/2016/05/bluegrassinthepark.jpg
GEO:46.4372456;-122.8520935
X-APPLE-STRUCTURED-LOCATION;VALUE=URI;X-ADDRESS=Toledo Park 599 Cedar St Toledo WA 98591 United States;X-APPLE-RADIUS=500;X-TITLE=599 Cedar St:geo:-122.8520935,46.4372456
END:VEVENT
BEGIN:VEVENT
DTSTART;TZID=America/Los_Angeles:20170702T123000
DTEND;TZID=America/Los_Angeles:20170702T160000
DTSTAMP:20260421T223511
CREATED:20170129T055127Z
LAST-MODIFIED:20170604T183123Z
UID:10000240-1498998600-1499011200@toledofirstbaptist.com
SUMMARY:VBS Family and Friends Day Picnic
DESCRIPTION:Join us for some good food\, fun\, and laughter as we have our annual VBS Family and Friends Day Picnic at the Toledo Park.  We hope to see you there!
URL:https://toledofirstbaptist.com/event/vbs-family-and-friends-day-picnic/
LOCATION:Toledo Park\, 599 Cedar St\, Toledo\, WA\, 98591\, United States
CATEGORIES:Events
ATTACH;FMTTYPE=image/jpeg:https://toledofirstbaptist.com/wp-content/uploads/2016/12/VBS-2017-Banner-temp.jpg
GEO:46.4372456;-122.8520935
X-APPLE-STRUCTURED-LOCATION;VALUE=URI;X-ADDRESS=Toledo Park 599 Cedar St Toledo WA 98591 United States;X-APPLE-RADIUS=500;X-TITLE=599 Cedar St:geo:-122.8520935,46.4372456
END:VEVENT
BEGIN:VEVENT
DTSTART;TZID=America/Los_Angeles:20160803T183000
DTEND;TZID=America/Los_Angeles:20160803T200000
DTSTAMP:20260421T223511
CREATED:20160524T060914Z
LAST-MODIFIED:20160805T194905Z
UID:10000021-1470249000-1470254400@toledofirstbaptist.com
SUMMARY:Bluegrass and Chili Cookoff
DESCRIPTION:We gonna be playin’ some great here music and eatin’ some mighty fine chili at yer local Toledo Park.   So come bring yer listenin’ ears and yer best home brewed chili and compete with yer fellow church folks to see who got’s the best chili in town!  I reckon this event isn’t somethin’ yer gonna wanna miss!
URL:https://toledofirstbaptist.com/event/bluegrassandchilicookoff/
LOCATION:Toledo Park\, 599 Cedar St\, Toledo\, WA\, 98591\, United States
CATEGORIES:Services
ATTACH;FMTTYPE=image/jpeg:https://toledofirstbaptist.com/wp-content/uploads/2016/05/bluegrassinthepark.jpg
GEO:46.4372456;-122.8520935
X-APPLE-STRUCTURED-LOCATION;VALUE=URI;X-ADDRESS=Toledo Park 599 Cedar St Toledo WA 98591 United States;X-APPLE-RADIUS=500;X-TITLE=599 Cedar St:geo:-122.8520935,46.4372456
END:VEVENT
BEGIN:VEVENT
DTSTART;TZID=America/Los_Angeles:20160706T183000
DTEND;TZID=America/Los_Angeles:20160706T200000
DTSTAMP:20260421T223511
CREATED:20160525T215735Z
LAST-MODIFIED:20160707T003842Z
UID:10000025-1467829800-1467835200@toledofirstbaptist.com
SUMMARY:Freedom Fest Concert & Pie Social
DESCRIPTION:9Join us this Wednesday at the Toledo Park for a fun time of music\, pie\, and a great message by Pastor Scott in celebration of being free in Christ.  Bring yourself\, your friends\, and your family!  Oh and don’t forget to bring your signature pie to share! \nMusicians: Mike Stavig\, John Britten\, Britton Holman\, and more! 
URL:https://toledofirstbaptist.com/event/freedomfestpiesocial2016/
LOCATION:Toledo Park\, 599 Cedar St\, Toledo\, WA\, 98591\, United States
CATEGORIES:Events
ATTACH;FMTTYPE=image/jpeg:https://toledofirstbaptist.com/wp-content/uploads/2016/05/worshipinthepark.jpg
GEO:46.4372456;-122.8520935
X-APPLE-STRUCTURED-LOCATION;VALUE=URI;X-ADDRESS=Toledo Park 599 Cedar St Toledo WA 98591 United States;X-APPLE-RADIUS=500;X-TITLE=599 Cedar St:geo:-122.8520935,46.4372456
END:VEVENT
END:VCALENDAR