BEGIN:VCALENDAR
VERSION:2.0
PRODID:-//Toledo First Baptist Church - ECPv6.15.17.1//NONSGML v1.0//EN
CALSCALE:GREGORIAN
METHOD:PUBLISH
X-WR-CALNAME:Toledo First Baptist Church
X-ORIGINAL-URL:https://toledofirstbaptist.com
X-WR-CALDESC:Events for Toledo First Baptist Church
REFRESH-INTERVAL;VALUE=DURATION:PT1H
X-Robots-Tag:noindex
X-PUBLISHED-TTL:PT1H
BEGIN:VTIMEZONE
TZID:America/Los_Angeles
BEGIN:DAYLIGHT
TZOFFSETFROM:-0800
TZOFFSETTO:-0700
TZNAME:PDT
DTSTART:20240310T100000
END:DAYLIGHT
BEGIN:STANDARD
TZOFFSETFROM:-0700
TZOFFSETTO:-0800
TZNAME:PST
DTSTART:20241103T090000
END:STANDARD
BEGIN:DAYLIGHT
TZOFFSETFROM:-0800
TZOFFSETTO:-0700
TZNAME:PDT
DTSTART:20250309T100000
END:DAYLIGHT
BEGIN:STANDARD
TZOFFSETFROM:-0700
TZOFFSETTO:-0800
TZNAME:PST
DTSTART:20251102T090000
END:STANDARD
BEGIN:DAYLIGHT
TZOFFSETFROM:-0800
TZOFFSETTO:-0700
TZNAME:PDT
DTSTART:20260308T100000
END:DAYLIGHT
BEGIN:STANDARD
TZOFFSETFROM:-0700
TZOFFSETTO:-0800
TZNAME:PST
DTSTART:20261101T090000
END:STANDARD
END:VTIMEZONE
BEGIN:VEVENT
DTSTART;TZID=America/Los_Angeles:20250824T110000
DTEND;TZID=America/Los_Angeles:20250824T143000
DTSTAMP:20260421T210110
CREATED:20250808T195849Z
LAST-MODIFIED:20250808T203134Z
UID:10005876-1756033200-1756045800@toledofirstbaptist.com
SUMMARY:Combined Service and BBQ
DESCRIPTION:[vc_row][vc_column][vc_column_text css=””] \nCombined Service and Church BBQ\n🌞 End-of-Summer Combined Service & BBQ in the Park 🌳 \nJoin us as we close out our summer events with a special time of worship and fellowship in the park! \n🗓 Sunday Morning-August 24th at 11 am📍 At Kemp Olson Memorial Park\n598 S. 6th St.\nToledo\, WA 98591 \nWe’ll worship together under the trees and enjoy a delicious BBQ meal afterward. \n🍽 What to Bring: \nA side dish or dessert to share \nA lawn chair and/or picnic blanket for seating \nA friend! Everyone is welcome \n🍔 The church will provide the main meal. \n❗ Please note:There will be no 8:00 a.m. service and no Sunday School at 9:30 a.m. on this day. \nLet’s wrap up the summer in community! \n[/vc_column_text][/vc_column][/vc_row]
URL:https://toledofirstbaptist.com/event/combined-service-and-bbq/
LOCATION:Kemp Olson Memorial Park\, 598 S. 6th St.\, Toleod\, WA\, 98591
CATEGORIES:Events,Featured,Services,Summer Events
ATTACH;FMTTYPE=image/png:https://toledofirstbaptist.com/wp-content/uploads/2025/08/6.png
END:VEVENT
BEGIN:VEVENT
DTSTART;TZID=America/Los_Angeles:20250806T183000
DTEND;TZID=America/Los_Angeles:20250806T200000
DTSTAMP:20260421T210111
CREATED:20250619T013128Z
LAST-MODIFIED:20250619T013128Z
UID:10005851-1754505000-1754510400@toledofirstbaptist.com
SUMMARY:TFBC Chili Cookoff
DESCRIPTION:The TFBC Chili Cookoff is coming\, and past years have been a lot of fun. \nTFBC has had a running winner for the last few years\, so chili makers\, you’ll need to up your game if you want to beat the champ. \nGet those special chili pots ready and plan your strategy. Who will win this year??? \nDon’t forget to bring your lawn chair or picnic blanket. \nWe look forward to seeing you and a friend or family member you invite to come with you.
URL:https://toledofirstbaptist.com/event/tfbc-chili-cookoff/
LOCATION:Kemp Olson Memorial Park\, 598 S. 6th St.\, Toleod\, WA\, 98591
CATEGORIES:Events,Featured,Summer Events
ATTACH;FMTTYPE=image/png:https://toledofirstbaptist.com/wp-content/uploads/2025/06/5.png
END:VEVENT
BEGIN:VEVENT
DTSTART;TZID=America/Los_Angeles:20250709T183000
DTEND;TZID=America/Los_Angeles:20250709T200000
DTSTAMP:20260421T210111
CREATED:20250618T235406Z
LAST-MODIFIED:20250618T235727Z
UID:10005849-1752085800-1752091200@toledofirstbaptist.com
SUMMARY:Pie Social & Music in the Park
DESCRIPTION:It’s time for our summer pie social and music in the park. Get those yummy pie recipes out and start planning what you’re going to bake! \nGrab a lawn chair\, pie\, or a picnic blanket\, and head down to the Park in Toledo to join us for a night of fellowship and great pie on a beautiful summer night in Toledo. \nWe look forward to seeing you. Oh… invite someone to come with you—a neighbor\, family member\, or friend.
URL:https://toledofirstbaptist.com/event/pie-social-music-in-the-park/
LOCATION:Kemp Olson Memorial Park\, 598 S. 6th St.\, Toleod\, WA\, 98591
CATEGORIES:Events,Featured,Summer Events
ATTACH;FMTTYPE=image/jpeg:https://toledofirstbaptist.com/wp-content/uploads/2025/06/Pie-in-the-park.jpg
END:VEVENT
END:VCALENDAR