BEGIN:VCALENDAR
VERSION:2.0
PRODID:-//Toledo First Baptist Church - ECPv6.15.17.1//NONSGML v1.0//EN
CALSCALE:GREGORIAN
METHOD:PUBLISH
X-ORIGINAL-URL:https://toledofirstbaptist.com
X-WR-CALDESC:Events for Toledo First Baptist Church
REFRESH-INTERVAL;VALUE=DURATION:PT1H
X-Robots-Tag:noindex
X-PUBLISHED-TTL:PT1H
BEGIN:VTIMEZONE
TZID:America/Los_Angeles
BEGIN:DAYLIGHT
TZOFFSETFROM:-0800
TZOFFSETTO:-0700
TZNAME:PDT
DTSTART:20190310T100000
END:DAYLIGHT
BEGIN:STANDARD
TZOFFSETFROM:-0700
TZOFFSETTO:-0800
TZNAME:PST
DTSTART:20191103T090000
END:STANDARD
BEGIN:DAYLIGHT
TZOFFSETFROM:-0800
TZOFFSETTO:-0700
TZNAME:PDT
DTSTART:20200308T100000
END:DAYLIGHT
BEGIN:STANDARD
TZOFFSETFROM:-0700
TZOFFSETTO:-0800
TZNAME:PST
DTSTART:20201101T090000
END:STANDARD
BEGIN:DAYLIGHT
TZOFFSETFROM:-0800
TZOFFSETTO:-0700
TZNAME:PDT
DTSTART:20210314T100000
END:DAYLIGHT
BEGIN:STANDARD
TZOFFSETFROM:-0700
TZOFFSETTO:-0800
TZNAME:PST
DTSTART:20211107T090000
END:STANDARD
BEGIN:DAYLIGHT
TZOFFSETFROM:-0800
TZOFFSETTO:-0700
TZNAME:PDT
DTSTART:20220313T100000
END:DAYLIGHT
BEGIN:STANDARD
TZOFFSETFROM:-0700
TZOFFSETTO:-0800
TZNAME:PST
DTSTART:20221106T090000
END:STANDARD
BEGIN:DAYLIGHT
TZOFFSETFROM:-0800
TZOFFSETTO:-0700
TZNAME:PDT
DTSTART:20230312T100000
END:DAYLIGHT
BEGIN:STANDARD
TZOFFSETFROM:-0700
TZOFFSETTO:-0800
TZNAME:PST
DTSTART:20231105T090000
END:STANDARD
BEGIN:DAYLIGHT
TZOFFSETFROM:-0800
TZOFFSETTO:-0700
TZNAME:PDT
DTSTART:20240310T100000
END:DAYLIGHT
BEGIN:STANDARD
TZOFFSETFROM:-0700
TZOFFSETTO:-0800
TZNAME:PST
DTSTART:20241103T090000
END:STANDARD
END:VTIMEZONE
BEGIN:VEVENT
DTSTART;TZID=America/Los_Angeles:20230619T160000
DTEND;TZID=America/Los_Angeles:20230619T180000
DTSTAMP:20260421T210149
CREATED:20230316T182759Z
LAST-MODIFIED:20230316T184039Z
UID:10002144-1687190400-1687197600@toledofirstbaptist.com
SUMMARY:Community House Ministry
DESCRIPTION:Are you looking for a way to serve? Working in the Community House\, cooking dinner once a month\, is a great way to serve and share God’s love.\nEvery 3rd Monday\, TFBC sends a crew to cook a hot meal for the\nresidence of the Community House in Longview.\nIf you are interested in helping with this ministry\, get a hold of\nPastor Mike at mikes@toledofirstbaptist.com.
URL:https://toledofirstbaptist.com/event/community-house-ministry-2/2023-06-19/
LOCATION:Community House\, 1107 Broadway St\, Longview\, WA\, 98632\, United States
CATEGORIES:Events,Featured,Youth Service Project
ATTACH;FMTTYPE=image/jpeg:https://toledofirstbaptist.com/wp-content/uploads/2023/03/community-house-banner.jpg
END:VEVENT
BEGIN:VEVENT
DTSTART;TZID=America/Los_Angeles:20230515T160000
DTEND;TZID=America/Los_Angeles:20230515T180000
DTSTAMP:20260421T210149
CREATED:20230316T182759Z
LAST-MODIFIED:20230316T184039Z
UID:10002143-1684166400-1684173600@toledofirstbaptist.com
SUMMARY:Community House Ministry
DESCRIPTION:Are you looking for a way to serve? Working in the Community House\, cooking dinner once a month\, is a great way to serve and share God’s love.\nEvery 3rd Monday\, TFBC sends a crew to cook a hot meal for the\nresidence of the Community House in Longview.\nIf you are interested in helping with this ministry\, get a hold of\nPastor Mike at mikes@toledofirstbaptist.com.
URL:https://toledofirstbaptist.com/event/community-house-ministry-2/2023-05-15/
LOCATION:Community House\, 1107 Broadway St\, Longview\, WA\, 98632\, United States
CATEGORIES:Events,Featured,Youth Service Project
ATTACH;FMTTYPE=image/jpeg:https://toledofirstbaptist.com/wp-content/uploads/2023/03/community-house-banner.jpg
END:VEVENT
BEGIN:VEVENT
DTSTART;TZID=America/Los_Angeles:20230417T160000
DTEND;TZID=America/Los_Angeles:20230417T180000
DTSTAMP:20260421T210149
CREATED:20230316T182759Z
LAST-MODIFIED:20230316T184039Z
UID:10002142-1681747200-1681754400@toledofirstbaptist.com
SUMMARY:Community House Ministry
DESCRIPTION:Are you looking for a way to serve? Working in the Community House\, cooking dinner once a month\, is a great way to serve and share God’s love.\nEvery 3rd Monday\, TFBC sends a crew to cook a hot meal for the\nresidence of the Community House in Longview.\nIf you are interested in helping with this ministry\, get a hold of\nPastor Mike at mikes@toledofirstbaptist.com.
URL:https://toledofirstbaptist.com/event/community-house-ministry-2/2023-04-17/
LOCATION:Community House\, 1107 Broadway St\, Longview\, WA\, 98632\, United States
CATEGORIES:Events,Featured,Youth Service Project
ATTACH;FMTTYPE=image/jpeg:https://toledofirstbaptist.com/wp-content/uploads/2023/03/community-house-banner.jpg
END:VEVENT
BEGIN:VEVENT
DTSTART;TZID=America/Los_Angeles:20230320T160000
DTEND;TZID=America/Los_Angeles:20230320T180000
DTSTAMP:20260421T210149
CREATED:20230316T182759Z
LAST-MODIFIED:20230316T184039Z
UID:10002141-1679328000-1679335200@toledofirstbaptist.com
SUMMARY:Community House Ministry
DESCRIPTION:Are you looking for a way to serve? Working in the Community House\, cooking dinner once a month\, is a great way to serve and share God’s love.\nEvery 3rd Monday\, TFBC sends a crew to cook a hot meal for the\nresidence of the Community House in Longview.\nIf you are interested in helping with this ministry\, get a hold of\nPastor Mike at mikes@toledofirstbaptist.com.
URL:https://toledofirstbaptist.com/event/community-house-ministry-2/2023-03-20/
LOCATION:Community House\, 1107 Broadway St\, Longview\, WA\, 98632\, United States
CATEGORIES:Events,Featured,Youth Service Project
ATTACH;FMTTYPE=image/jpeg:https://toledofirstbaptist.com/wp-content/uploads/2023/03/community-house-banner.jpg
END:VEVENT
BEGIN:VEVENT
DTSTART;TZID=America/Los_Angeles:20220718T160000
DTEND;TZID=America/Los_Angeles:20220718T183000
DTSTAMP:20260421T210149
CREATED:20220623T221626Z
LAST-MODIFIED:20220623T222137Z
UID:10001146-1658160000-1658169000@toledofirstbaptist.com
SUMMARY:Community House Ministry
DESCRIPTION:If you love to serve and need a ministry to help in\, we have a ministry that needs your help. \nCommunity House is located in Longview and once a month on the 3rd Monday\, we prepare and serve dinner to the residence of the Community House. \nThis is a great chance to share God’s love and show our love to the people living there. We could use your help. \nIf your interested and want more information please contact Pastor Mike at mikes@toledofirstbaptist.com \n  \n  \n 
URL:https://toledofirstbaptist.com/event/community-house-ministry/
LOCATION:Community House\, 1107 Broadway St\, Longview\, WA\, 98632\, United States
CATEGORIES:Youth Service Project
ATTACH;FMTTYPE=image/jpeg:https://toledofirstbaptist.com/wp-content/uploads/2022/06/community-house-banner.jpg
END:VEVENT
BEGIN:VEVENT
DTSTART;TZID=America/Los_Angeles:20201221T160000
DTEND;TZID=America/Los_Angeles:20201221T180000
DTSTAMP:20260421T210149
CREATED:20180424T220246Z
LAST-MODIFIED:20200213T122649Z
UID:10000407-1608566400-1608573600@toledofirstbaptist.com
SUMMARY:Community House
DESCRIPTION:[vc_row][vc_column][vc_column_text]We as a church go to The Community House to cook on the 3rd Monday of every month. We always are in need of volunteers to come help cook for the families that reside at The Community House in Longview. \nIf you are interested in helping us\, please fill out the form below or call Pastor Mike for more information at 360.864.2550. \nIf you are under 18 and wish to participate in this event\, please have your parent or guardian fill out the form below: \nIf you are human\, leave this field blank.[/vc_column_text][/vc_column][/vc_row][vc_row][vc_column][vc_single_image image=”4895″ img_size=”large” alignment=”center”][/vc_column][/vc_row]
URL:https://toledofirstbaptist.com/event/community-house/2020-12-21/
LOCATION:Community House\, 1107 Broadway St\, Longview\, WA\, 98632\, United States
CATEGORIES:Events,Featured
ATTACH;FMTTYPE=image/jpeg:https://toledofirstbaptist.com/wp-content/uploads/2018/04/Community-House-2017.jpg
END:VEVENT
BEGIN:VEVENT
DTSTART;TZID=America/Los_Angeles:20201116T160000
DTEND;TZID=America/Los_Angeles:20201116T180000
DTSTAMP:20260421T210149
CREATED:20180424T220246Z
LAST-MODIFIED:20200213T122649Z
UID:10000406-1605542400-1605549600@toledofirstbaptist.com
SUMMARY:Community House
DESCRIPTION:[vc_row][vc_column][vc_column_text]We as a church go to The Community House to cook on the 3rd Monday of every month. We always are in need of volunteers to come help cook for the families that reside at The Community House in Longview. \nIf you are interested in helping us\, please fill out the form below or call Pastor Mike for more information at 360.864.2550. \nIf you are under 18 and wish to participate in this event\, please have your parent or guardian fill out the form below: \nIf you are human\, leave this field blank.[/vc_column_text][/vc_column][/vc_row][vc_row][vc_column][vc_single_image image=”4895″ img_size=”large” alignment=”center”][/vc_column][/vc_row]
URL:https://toledofirstbaptist.com/event/community-house/2020-11-16/
LOCATION:Community House\, 1107 Broadway St\, Longview\, WA\, 98632\, United States
CATEGORIES:Events,Featured
ATTACH;FMTTYPE=image/jpeg:https://toledofirstbaptist.com/wp-content/uploads/2018/04/Community-House-2017.jpg
END:VEVENT
BEGIN:VEVENT
DTSTART;TZID=America/Los_Angeles:20201019T160000
DTEND;TZID=America/Los_Angeles:20201019T180000
DTSTAMP:20260421T210149
CREATED:20180424T220246Z
LAST-MODIFIED:20200213T122649Z
UID:10000405-1603123200-1603130400@toledofirstbaptist.com
SUMMARY:Community House
DESCRIPTION:[vc_row][vc_column][vc_column_text]We as a church go to The Community House to cook on the 3rd Monday of every month. We always are in need of volunteers to come help cook for the families that reside at The Community House in Longview. \nIf you are interested in helping us\, please fill out the form below or call Pastor Mike for more information at 360.864.2550. \nIf you are under 18 and wish to participate in this event\, please have your parent or guardian fill out the form below: \nIf you are human\, leave this field blank.[/vc_column_text][/vc_column][/vc_row][vc_row][vc_column][vc_single_image image=”4895″ img_size=”large” alignment=”center”][/vc_column][/vc_row]
URL:https://toledofirstbaptist.com/event/community-house/2020-10-19/
LOCATION:Community House\, 1107 Broadway St\, Longview\, WA\, 98632\, United States
CATEGORIES:Events,Featured
ATTACH;FMTTYPE=image/jpeg:https://toledofirstbaptist.com/wp-content/uploads/2018/04/Community-House-2017.jpg
END:VEVENT
BEGIN:VEVENT
DTSTART;TZID=America/Los_Angeles:20200921T160000
DTEND;TZID=America/Los_Angeles:20200921T180000
DTSTAMP:20260421T210149
CREATED:20180424T220246Z
LAST-MODIFIED:20200213T122649Z
UID:10000404-1600704000-1600711200@toledofirstbaptist.com
SUMMARY:Community House
DESCRIPTION:[vc_row][vc_column][vc_column_text]We as a church go to The Community House to cook on the 3rd Monday of every month. We always are in need of volunteers to come help cook for the families that reside at The Community House in Longview. \nIf you are interested in helping us\, please fill out the form below or call Pastor Mike for more information at 360.864.2550. \nIf you are under 18 and wish to participate in this event\, please have your parent or guardian fill out the form below: \nIf you are human\, leave this field blank.[/vc_column_text][/vc_column][/vc_row][vc_row][vc_column][vc_single_image image=”4895″ img_size=”large” alignment=”center”][/vc_column][/vc_row]
URL:https://toledofirstbaptist.com/event/community-house/2020-09-21/
LOCATION:Community House\, 1107 Broadway St\, Longview\, WA\, 98632\, United States
CATEGORIES:Events,Featured
ATTACH;FMTTYPE=image/jpeg:https://toledofirstbaptist.com/wp-content/uploads/2018/04/Community-House-2017.jpg
END:VEVENT
BEGIN:VEVENT
DTSTART;TZID=America/Los_Angeles:20200817T160000
DTEND;TZID=America/Los_Angeles:20200817T180000
DTSTAMP:20260421T210149
CREATED:20180424T220246Z
LAST-MODIFIED:20200213T122649Z
UID:10000403-1597680000-1597687200@toledofirstbaptist.com
SUMMARY:Community House
DESCRIPTION:[vc_row][vc_column][vc_column_text]We as a church go to The Community House to cook on the 3rd Monday of every month. We always are in need of volunteers to come help cook for the families that reside at The Community House in Longview. \nIf you are interested in helping us\, please fill out the form below or call Pastor Mike for more information at 360.864.2550. \nIf you are under 18 and wish to participate in this event\, please have your parent or guardian fill out the form below: \nIf you are human\, leave this field blank.[/vc_column_text][/vc_column][/vc_row][vc_row][vc_column][vc_single_image image=”4895″ img_size=”large” alignment=”center”][/vc_column][/vc_row]
URL:https://toledofirstbaptist.com/event/community-house/2020-08-17/
LOCATION:Community House\, 1107 Broadway St\, Longview\, WA\, 98632\, United States
CATEGORIES:Events,Featured
ATTACH;FMTTYPE=image/jpeg:https://toledofirstbaptist.com/wp-content/uploads/2018/04/Community-House-2017.jpg
END:VEVENT
BEGIN:VEVENT
DTSTART;TZID=America/Los_Angeles:20200720T160000
DTEND;TZID=America/Los_Angeles:20200720T180000
DTSTAMP:20260421T210149
CREATED:20180424T220246Z
LAST-MODIFIED:20200213T122649Z
UID:10000402-1595260800-1595268000@toledofirstbaptist.com
SUMMARY:Community House
DESCRIPTION:[vc_row][vc_column][vc_column_text]We as a church go to The Community House to cook on the 3rd Monday of every month. We always are in need of volunteers to come help cook for the families that reside at The Community House in Longview. \nIf you are interested in helping us\, please fill out the form below or call Pastor Mike for more information at 360.864.2550. \nIf you are under 18 and wish to participate in this event\, please have your parent or guardian fill out the form below: \nIf you are human\, leave this field blank.[/vc_column_text][/vc_column][/vc_row][vc_row][vc_column][vc_single_image image=”4895″ img_size=”large” alignment=”center”][/vc_column][/vc_row]
URL:https://toledofirstbaptist.com/event/community-house/2020-07-20/
LOCATION:Community House\, 1107 Broadway St\, Longview\, WA\, 98632\, United States
CATEGORIES:Events,Featured
ATTACH;FMTTYPE=image/jpeg:https://toledofirstbaptist.com/wp-content/uploads/2018/04/Community-House-2017.jpg
END:VEVENT
BEGIN:VEVENT
DTSTART;TZID=America/Los_Angeles:20200615T160000
DTEND;TZID=America/Los_Angeles:20200615T180000
DTSTAMP:20260421T210149
CREATED:20180424T220246Z
LAST-MODIFIED:20200213T122649Z
UID:10000401-1592236800-1592244000@toledofirstbaptist.com
SUMMARY:Community House
DESCRIPTION:[vc_row][vc_column][vc_column_text]We as a church go to The Community House to cook on the 3rd Monday of every month. We always are in need of volunteers to come help cook for the families that reside at The Community House in Longview. \nIf you are interested in helping us\, please fill out the form below or call Pastor Mike for more information at 360.864.2550. \nIf you are under 18 and wish to participate in this event\, please have your parent or guardian fill out the form below: \nIf you are human\, leave this field blank.[/vc_column_text][/vc_column][/vc_row][vc_row][vc_column][vc_single_image image=”4895″ img_size=”large” alignment=”center”][/vc_column][/vc_row]
URL:https://toledofirstbaptist.com/event/community-house/2020-06-15/
LOCATION:Community House\, 1107 Broadway St\, Longview\, WA\, 98632\, United States
CATEGORIES:Events,Featured
ATTACH;FMTTYPE=image/jpeg:https://toledofirstbaptist.com/wp-content/uploads/2018/04/Community-House-2017.jpg
END:VEVENT
BEGIN:VEVENT
DTSTART;TZID=America/Los_Angeles:20200518T160000
DTEND;TZID=America/Los_Angeles:20200518T180000
DTSTAMP:20260421T210149
CREATED:20180424T220246Z
LAST-MODIFIED:20200213T122649Z
UID:10000400-1589817600-1589824800@toledofirstbaptist.com
SUMMARY:Community House
DESCRIPTION:[vc_row][vc_column][vc_column_text]We as a church go to The Community House to cook on the 3rd Monday of every month. We always are in need of volunteers to come help cook for the families that reside at The Community House in Longview. \nIf you are interested in helping us\, please fill out the form below or call Pastor Mike for more information at 360.864.2550. \nIf you are under 18 and wish to participate in this event\, please have your parent or guardian fill out the form below: \nIf you are human\, leave this field blank.[/vc_column_text][/vc_column][/vc_row][vc_row][vc_column][vc_single_image image=”4895″ img_size=”large” alignment=”center”][/vc_column][/vc_row]
URL:https://toledofirstbaptist.com/event/community-house/2020-05-18/
LOCATION:Community House\, 1107 Broadway St\, Longview\, WA\, 98632\, United States
CATEGORIES:Events,Featured
ATTACH;FMTTYPE=image/jpeg:https://toledofirstbaptist.com/wp-content/uploads/2018/04/Community-House-2017.jpg
END:VEVENT
BEGIN:VEVENT
DTSTART;TZID=America/Los_Angeles:20200420T160000
DTEND;TZID=America/Los_Angeles:20200420T180000
DTSTAMP:20260421T210149
CREATED:20180424T220246Z
LAST-MODIFIED:20200213T122649Z
UID:10000399-1587398400-1587405600@toledofirstbaptist.com
SUMMARY:Community House
DESCRIPTION:[vc_row][vc_column][vc_column_text]We as a church go to The Community House to cook on the 3rd Monday of every month. We always are in need of volunteers to come help cook for the families that reside at The Community House in Longview. \nIf you are interested in helping us\, please fill out the form below or call Pastor Mike for more information at 360.864.2550. \nIf you are under 18 and wish to participate in this event\, please have your parent or guardian fill out the form below: \nIf you are human\, leave this field blank.[/vc_column_text][/vc_column][/vc_row][vc_row][vc_column][vc_single_image image=”4895″ img_size=”large” alignment=”center”][/vc_column][/vc_row]
URL:https://toledofirstbaptist.com/event/community-house/2020-04-20/
LOCATION:Community House\, 1107 Broadway St\, Longview\, WA\, 98632\, United States
CATEGORIES:Events,Featured
ATTACH;FMTTYPE=image/jpeg:https://toledofirstbaptist.com/wp-content/uploads/2018/04/Community-House-2017.jpg
END:VEVENT
BEGIN:VEVENT
DTSTART;TZID=America/Los_Angeles:20200217T160000
DTEND;TZID=America/Los_Angeles:20200217T180000
DTSTAMP:20260421T210149
CREATED:20180424T220246Z
LAST-MODIFIED:20200213T122649Z
UID:10000398-1581955200-1581962400@toledofirstbaptist.com
SUMMARY:Community House
DESCRIPTION:[vc_row][vc_column][vc_column_text]We as a church go to The Community House to cook on the 3rd Monday of every month. We always are in need of volunteers to come help cook for the families that reside at The Community House in Longview. \nIf you are interested in helping us\, please fill out the form below or call Pastor Mike for more information at 360.864.2550. \nIf you are under 18 and wish to participate in this event\, please have your parent or guardian fill out the form below: \nIf you are human\, leave this field blank.[/vc_column_text][/vc_column][/vc_row][vc_row][vc_column][vc_single_image image=”4895″ img_size=”large” alignment=”center”][/vc_column][/vc_row]
URL:https://toledofirstbaptist.com/event/community-house/2020-02-17/
LOCATION:Community House\, 1107 Broadway St\, Longview\, WA\, 98632\, United States
CATEGORIES:Events,Featured
ATTACH;FMTTYPE=image/jpeg:https://toledofirstbaptist.com/wp-content/uploads/2018/04/Community-House-2017.jpg
END:VEVENT
END:VCALENDAR