BEGIN:VCALENDAR
VERSION:2.0
PRODID:-//Toledo First Baptist Church - ECPv6.15.17.1//NONSGML v1.0//EN
CALSCALE:GREGORIAN
METHOD:PUBLISH
X-WR-CALNAME:Toledo First Baptist Church
X-ORIGINAL-URL:https://toledofirstbaptist.com
X-WR-CALDESC:Events for Toledo First Baptist Church
REFRESH-INTERVAL;VALUE=DURATION:PT1H
X-Robots-Tag:noindex
X-PUBLISHED-TTL:PT1H
BEGIN:VTIMEZONE
TZID:America/Los_Angeles
BEGIN:DAYLIGHT
TZOFFSETFROM:-0800
TZOFFSETTO:-0700
TZNAME:PDT
DTSTART:20250309T100000
END:DAYLIGHT
BEGIN:STANDARD
TZOFFSETFROM:-0700
TZOFFSETTO:-0800
TZNAME:PST
DTSTART:20251102T090000
END:STANDARD
BEGIN:DAYLIGHT
TZOFFSETFROM:-0800
TZOFFSETTO:-0700
TZNAME:PDT
DTSTART:20260308T100000
END:DAYLIGHT
BEGIN:STANDARD
TZOFFSETFROM:-0700
TZOFFSETTO:-0800
TZNAME:PST
DTSTART:20261101T090000
END:STANDARD
BEGIN:DAYLIGHT
TZOFFSETFROM:-0800
TZOFFSETTO:-0700
TZNAME:PDT
DTSTART:20270314T100000
END:DAYLIGHT
BEGIN:STANDARD
TZOFFSETFROM:-0700
TZOFFSETTO:-0800
TZNAME:PST
DTSTART:20271107T090000
END:STANDARD
END:VTIMEZONE
BEGIN:VEVENT
DTSTART;VALUE=DATE:20260727
DTEND;VALUE=DATE:20260801
DTSTAMP:20260421T190823
CREATED:20260309T183439Z
LAST-MODIFIED:20260309T183439Z
UID:10006318-1785110400-1785542399@toledofirstbaptist.com
SUMMARY:TFBC Kids Camp 2026
DESCRIPTION:SAVE THE DATE!\n\n  \n  \n  \n  \n  \nIt’s that time of year when we here at TFBC are getting ready for Kids Camp up at Clear Lake Grace Brothren Camp in Eastern Washington. \nThis year\, step through the mist into Rainforest Falls\, overflowing with wild waterfalls\, towering trees\, and colorful creatures. Beneath a canopy of chattering birds and howling monkeys\, kids plunge into a lifelong adventure of discovering the nature of God. They’ll explore what it means to be rooted in a relationship with God\, their creator\, and to find a safe place in life’s storms. \nWe are excited this year to teach the kids how a relationship with God can help them in their lives and learn how to let God guide them through hard times. \nOur registrations will be coming\, so watch here on our website or in the bulletin for information on how to register your children. \n 
URL:https://toledofirstbaptist.com/event/tfbc-kids-camp-2026/
LOCATION:Clear Lake Grace Brethren Camp\, 11660 Tieton Rd.\, Naches\, WA\, 98937\, United States
CATEGORIES:Events,Featured,Kids Events,Summer Events
ATTACH;FMTTYPE=image/png:https://toledofirstbaptist.com/wp-content/uploads/2026/03/WS-Save-the-date-Image.png
GEO:46.62266;-121.300828
X-APPLE-STRUCTURED-LOCATION;VALUE=URI;X-ADDRESS=Clear Lake Grace Brethren Camp 11660 Tieton Rd. Naches WA 98937 United States;X-APPLE-RADIUS=500;X-TITLE=11660 Tieton Rd.:geo:-121.300828,46.62266
END:VEVENT
END:VCALENDAR