BEGIN:VCALENDAR
VERSION:2.0
PRODID:-//Toledo First Baptist Church - ECPv6.15.17.1//NONSGML v1.0//EN
CALSCALE:GREGORIAN
METHOD:PUBLISH
X-ORIGINAL-URL:https://toledofirstbaptist.com
X-WR-CALDESC:Events for Toledo First Baptist Church
REFRESH-INTERVAL;VALUE=DURATION:PT1H
X-Robots-Tag:noindex
X-PUBLISHED-TTL:PT1H
BEGIN:VTIMEZONE
TZID:America/Los_Angeles
BEGIN:DAYLIGHT
TZOFFSETFROM:-0800
TZOFFSETTO:-0700
TZNAME:PDT
DTSTART:20150308T100000
END:DAYLIGHT
BEGIN:STANDARD
TZOFFSETFROM:-0700
TZOFFSETTO:-0800
TZNAME:PST
DTSTART:20151101T090000
END:STANDARD
BEGIN:DAYLIGHT
TZOFFSETFROM:-0800
TZOFFSETTO:-0700
TZNAME:PDT
DTSTART:20160313T100000
END:DAYLIGHT
BEGIN:STANDARD
TZOFFSETFROM:-0700
TZOFFSETTO:-0800
TZNAME:PST
DTSTART:20161106T090000
END:STANDARD
BEGIN:DAYLIGHT
TZOFFSETFROM:-0800
TZOFFSETTO:-0700
TZNAME:PDT
DTSTART:20170312T100000
END:DAYLIGHT
BEGIN:STANDARD
TZOFFSETFROM:-0700
TZOFFSETTO:-0800
TZNAME:PST
DTSTART:20171105T090000
END:STANDARD
BEGIN:DAYLIGHT
TZOFFSETFROM:-0800
TZOFFSETTO:-0700
TZNAME:PDT
DTSTART:20180311T100000
END:DAYLIGHT
BEGIN:STANDARD
TZOFFSETFROM:-0700
TZOFFSETTO:-0800
TZNAME:PST
DTSTART:20181104T090000
END:STANDARD
BEGIN:DAYLIGHT
TZOFFSETFROM:-0800
TZOFFSETTO:-0700
TZNAME:PDT
DTSTART:20190310T100000
END:DAYLIGHT
BEGIN:STANDARD
TZOFFSETFROM:-0700
TZOFFSETTO:-0800
TZNAME:PST
DTSTART:20191103T090000
END:STANDARD
BEGIN:DAYLIGHT
TZOFFSETFROM:-0800
TZOFFSETTO:-0700
TZNAME:PDT
DTSTART:20200308T100000
END:DAYLIGHT
BEGIN:STANDARD
TZOFFSETFROM:-0700
TZOFFSETTO:-0800
TZNAME:PST
DTSTART:20201101T090000
END:STANDARD
BEGIN:DAYLIGHT
TZOFFSETFROM:-0800
TZOFFSETTO:-0700
TZNAME:PDT
DTSTART:20210314T100000
END:DAYLIGHT
BEGIN:STANDARD
TZOFFSETFROM:-0700
TZOFFSETTO:-0800
TZNAME:PST
DTSTART:20211107T090000
END:STANDARD
BEGIN:DAYLIGHT
TZOFFSETFROM:-0800
TZOFFSETTO:-0700
TZNAME:PDT
DTSTART:20220313T100000
END:DAYLIGHT
BEGIN:STANDARD
TZOFFSETFROM:-0700
TZOFFSETTO:-0800
TZNAME:PST
DTSTART:20221106T090000
END:STANDARD
BEGIN:DAYLIGHT
TZOFFSETFROM:-0800
TZOFFSETTO:-0700
TZNAME:PDT
DTSTART:20230312T100000
END:DAYLIGHT
BEGIN:STANDARD
TZOFFSETFROM:-0700
TZOFFSETTO:-0800
TZNAME:PST
DTSTART:20231105T090000
END:STANDARD
BEGIN:DAYLIGHT
TZOFFSETFROM:-0800
TZOFFSETTO:-0700
TZNAME:PDT
DTSTART:20240310T100000
END:DAYLIGHT
BEGIN:STANDARD
TZOFFSETFROM:-0700
TZOFFSETTO:-0800
TZNAME:PST
DTSTART:20241103T090000
END:STANDARD
BEGIN:DAYLIGHT
TZOFFSETFROM:-0800
TZOFFSETTO:-0700
TZNAME:PDT
DTSTART:20250309T100000
END:DAYLIGHT
BEGIN:STANDARD
TZOFFSETFROM:-0700
TZOFFSETTO:-0800
TZNAME:PST
DTSTART:20251102T090000
END:STANDARD
BEGIN:DAYLIGHT
TZOFFSETFROM:-0800
TZOFFSETTO:-0700
TZNAME:PDT
DTSTART:20260308T100000
END:DAYLIGHT
BEGIN:STANDARD
TZOFFSETFROM:-0700
TZOFFSETTO:-0800
TZNAME:PST
DTSTART:20261101T090000
END:STANDARD
END:VTIMEZONE
BEGIN:VEVENT
DTSTART;VALUE=DATE:20250728
DTEND;VALUE=DATE:20250802
DTSTAMP:20260421T210145
CREATED:20241205T001340Z
LAST-MODIFIED:20250619T164218Z
UID:10005718-1753660800-1754092799@toledofirstbaptist.com
SUMMARY:Kids Camp 2025
DESCRIPTION:Kids Camp 2025 \nWhen: July 28th- August 1st\nWhere: Grace Brethren Church Camp\nHey\, kids\, the planning of Kids Camp has started\, and it’s going to be a blast as we take adventures through the Alaska Wilderness. You won’t want to miss this year’s adventures up in the mountains by the lake. Start inviting your friends\, and let’s go to the kids ‘ camp. \nThis year\, kids’ camp is going to Point Kids to Jesus\, a faithful friend we can always trust.\nWe’ll guide kids on the ultimate Alaskan adventure\, where the Northern Lights glow over majestic mountains\, rushing rivers\, and glistening glaciers. As kids trek the tundra\, they’ll explore how easy it is to lose sight of what’s true in our wild world today. Pointing them toward Jesus\, True North shows them that he is a faithful friend we can always trust. He’s our True North! \nJoin us for a week of adventure at the beautiful Clear Lake Camp in Eastern Washington. \nThis camp is for children in grades 1st through 5th. \nThe cost is $175.00. Scholarships may be available upon request. \nIf you can’t or are unable to help with camp this year\, don’t worry—you can still help.\nPlease consider sponsoring a child to attend camp by donating to the camp scholarship fund. \nIt’s easy. Please send a check or use the online giving link HERE!\nPlease mark your gift for Camp Scholarships. \nTo register your kids for Camp\, click here!\nPlease fill out a registration form for each child.\nIf you are going to volunteer at Camp\, please register here.
URL:https://toledofirstbaptist.com/event/kids-camp-2025/
LOCATION:Clear Lake Grace Brethren Camp\, 11660 Tieton Rd.\, Naches\, WA\, 98937\, United States
CATEGORIES:Events,Featured,Summer Events
ATTACH;FMTTYPE=image/jpeg:https://toledofirstbaptist.com/wp-content/uploads/2025/05/Kids-Camp-ws-slide-1.jpg
GEO:46.62266;-121.300828
X-APPLE-STRUCTURED-LOCATION;VALUE=URI;X-ADDRESS=Clear Lake Grace Brethren Camp 11660 Tieton Rd. Naches WA 98937 United States;X-APPLE-RADIUS=500;X-TITLE=11660 Tieton Rd.:geo:-121.300828,46.62266
END:VEVENT
BEGIN:VEVENT
DTSTART;TZID=America/Los_Angeles:20240821T133000
DTEND;TZID=America/Los_Angeles:20240821T203000
DTSTAMP:20260421T210145
CREATED:20240816T171946Z
LAST-MODIFIED:20240816T172604Z
UID:10005664-1724247000-1724272200@toledofirstbaptist.com
SUMMARY:Kamiakan Butte Hike
DESCRIPTION:If you served on the Kids’ Camp this year\, you know that on our last day\, we were chased out by the smoke from the Retreat Fire and did not get to go on our annual hike to the top of Kamiakan Butte. \nWell\, good news! We’re going this Wednesday\, August 21. The details: \n\n1:30 PM – Meet at TFBC Parking Lot\n2:00 PM – Leave for Clear Lake Grace Brethren Camp\n4:00 PM – Begin Hike\n6:00 PM – Return to CLGBC for a “brown bag” dinner\n8:30 PM – Return to TFBC Parking Lot\n\nDue to a lack of space\, we must limit this trip to only those students who served at the TFBC Kids’ Camp this summer and the New Youth Graduates. \nBe sure to wear good shoes for hiking (no open-toed shoes) and bring a water bottle and a “brown bag” dinner. \nIf you’d like to go\, you’ll need to have your parent fill out this registration form before Wednesday\, August 21: \nIf you are human\, leave this field blank.Parent Permission and Liability Waiver FormFill out this form prior to participating in this Youth event:Name *ParticipantAddress *CountryUnited States (US)United Kingdom (UK)CanadaAustralia---AfghanistanÅland IslandsAlbaniaAlgeriaAndorraAngolaAnguillaAntarcticaAntigua and BarbudaArgentinaArmeniaArubaAmerican SamoaAustriaAzerbaijanBahamasBahrainBangladeshBarbadosBelarusBelgiumBelauBelizeBeninBermudaBhutanBoliviaBonaire\, Saint Eustatius and SabaBosnia and HerzegovinaBotswanaBouvet IslandBrazilBritish Indian Ocean TerritoryBritish Virgin IslandsBruneiBulgariaBurkina FasoBurundiCambodiaCameroonCape VerdeCayman IslandsCentral African RepublicChadChileChinaChristmas IslandCocos (Keeling) IslandsColombiaComorosCongo (Brazzaville)Congo (Kinshasa)Cook IslandsCosta RicaCroatiaCubaCuraÇaoCyprusCzech RepublicDenmarkDjiboutiDominicaDominican RepublicEcuadorEgyptEl SalvadorEquatorial GuineaEritreaEstoniaEthiopiaFalkland IslandsFaroe IslandsFijiFinlandFranceFrench GuianaFrench PolynesiaFrench Southern TerritoriesGabonGambiaGeorgiaGermanyGhanaGibraltarGreeceGreenlandGrenadaGuadeloupeGuatemalaGuernseyGuineaGuinea-BissauGuyanaHaitiHeard Island and McDonald IslandsHondurasHong KongHungaryIcelandIndiaIndonesiaIranIraqRepublic of IrelandIsle of ManIsraelItalyIvory CoastJamaicaJapanJerseyJordanKazakhstanKenyaKiribatiKuwaitKyrgyzstanLaosLatviaLebanonLesothoLiberiaLibyaLiechtensteinLithuaniaLuxembourgMacao S.A.R.\, ChinaMacedoniaMadagascarMalawiMalaysiaMaldivesMaliMaltaMarshall IslandsMartiniqueMauritaniaMauritiusMayotteMexicoMicronesiaMoldovaMonacoMongoliaMontenegroMontserratMoroccoMozambiqueMyanmarNamibiaNauruNepalNetherlandsNetherlands AntillesNew CaledoniaNew ZealandNicaraguaNigerNigeriaNiueNorfolk IslandNorth KoreaNorwayOmanPakistanPalestinian TerritoryPanamaPapua New GuineaParaguayPeruPhilippinesPitcairnPolandPortugalQatarReunionRomaniaRussiaRwandaSaint BarthélemySaint HelenaSaint Kitts and NevisSaint LuciaSaint Martin (French part)Saint Martin (Dutch part)Saint Pierre and MiquelonSaint Vincent and the GrenadinesSan MarinoSão Tomé and PríncipeSaudi ArabiaSenegalSerbiaSeychellesSierra LeoneSingaporeSlovakiaSloveniaSolomon IslandsSomaliaSouth AfricaSouth Georgia/Sandwich IslandsSouth KoreaSouth SudanSpainSri LankaSudanSurinameSvalbard and Jan MayenSwazilandSwedenSwitzerlandSyriaTaiwanTajikistanTanzaniaThailandTimor-LesteTogoTokelauTongaTrinidad and TobagoTunisiaTurkeyTurkmenistanTurks and Caicos IslandsTuvaluUgandaUkraineUnited Arab EmiratesUruguayUzbekistanVanuatuVaticanVenezuelaVietnamWallis and FutunaWestern SaharaWestern SamoaYemenZambiaZimbabweCityStateAlabamaAlaskaArizonaArkansasCaliforniaColoradoConnecticutDelawareDistrict Of ColumbiaFloridaGeorgiaHawaiiIdahoIllinoisIndianaIowaKansasKentuckyLouisianaMaineMarylandMassachusettsMichiganMinnesotaMississippiMissouriMontanaNebraskaNevadaNew HampshireNew JerseyNew MexicoNew YorkNorth CarolinaNorth DakotaOhioOklahomaOregonPennsylvaniaRhode IslandSouth CarolinaSouth DakotaTennesseeTexasUtahVermontVirginiaWashingtonWest VirginiaWisconsinWyomingArmed Forces (AA)Armed Forces (AE)Armed Forces (AP)American SamoaGuamNorthern Mariana IslandsPuerto RicoUS Minor Outlying IslandsUS Virgin IslandsZip codePhone *Email *Emergency Contact Name *Parent/GuardianEmergency Contact Phone Number *Parent/Guardian Phone NumberLiability and Medical WaiverI\, being the Parent or Legal Guardian of the above-named student do hereby give my approval for the previously mentioned minor to attend the Youth Event described above and sponsored by Toledo Baptist Church (hereafter referred to as the sponsors). I\, as the parent/guardian of the above-named youth\, assume all risks and hazards incidental to the conduct of the activities during the event. I do hereby release and hold harmless the sponsors\, the organizers\, and supervisors from any and all loss\, injury\, or other damage incurred to me or the above-named individual arising out of the event. In case of injury to my child\, I hereby waive all claims against the organizers\, the sponsors\, or any other supervisors appointed by them. I also grant permission to an attending physician or hospital to perform whatever care is necessary for the welfare of my child until such time as you are able to reach me personally. \nSignature *Use your mouse to sign below:Reset SignatureSignature is required.Captcha *reCAPTCHA is required.Submit
URL:https://toledofirstbaptist.com/event/kamiakan-butte-hike/
LOCATION:Clear Lake Grace Brethren Camp\, 11660 Tieton Rd.\, Naches\, WA\, 98937\, United States
CATEGORIES:Youth Events,Youth Ministry
ATTACH;FMTTYPE=image/jpeg:https://toledofirstbaptist.com/wp-content/uploads/2024/08/Kamiakan-Butte.jpg
ORGANIZER;CN="TFBC Youth":MAILTO:dannyb@toledofirstbaptist.com
GEO:46.62266;-121.300828
X-APPLE-STRUCTURED-LOCATION;VALUE=URI;X-ADDRESS=Clear Lake Grace Brethren Camp 11660 Tieton Rd. Naches WA 98937 United States;X-APPLE-RADIUS=500;X-TITLE=11660 Tieton Rd.:geo:-121.300828,46.62266
END:VEVENT
BEGIN:VEVENT
DTSTART;TZID=America/Los_Angeles:20240722T080000
DTEND;TZID=America/Los_Angeles:20240726T170000
DTSTAMP:20260421T210145
CREATED:20240312T231449Z
LAST-MODIFIED:20240617T221103Z
UID:10005591-1721635200-1722013200@toledofirstbaptist.com
SUMMARY:TFBC Kid's Camp - 2024
DESCRIPTION:Hey kids\, we’re planning Kids Camp already\, and it’s going to be so fun! \nThis year\, we’re going to take the kids deep into an amazing undersea adventure where they’ll experience the ever-flowing\, never-ending love of God. At Scuba Kid’s Camp\, kids will be immersed in the Word and discover what living water is really all about! Kids\, you don’t want to miss this great adventure. Plus\, all the fun activities and games\, along with great food\, bonfires\, and\, of course\, s’mores. \nJoin us for a week of adventure at the beautiful Clear Lake Camp in Eastern Washington. \nThe cost is $175.00 \nScholarships may be available upon request. \nTo Register\, please click here!
URL:https://toledofirstbaptist.com/event/tfbc-kids-camp-2024/
LOCATION:Clear Lake Grace Brethren Camp\, 11660 Tieton Rd.\, Naches\, WA\, 98937\, United States
CATEGORIES:Events,Summer Events
ATTACH;FMTTYPE=image/jpeg:https://toledofirstbaptist.com/wp-content/uploads/2024/03/ws.jpg
GEO:46.62266;-121.300828
X-APPLE-STRUCTURED-LOCATION;VALUE=URI;X-ADDRESS=Clear Lake Grace Brethren Camp 11660 Tieton Rd. Naches WA 98937 United States;X-APPLE-RADIUS=500;X-TITLE=11660 Tieton Rd.:geo:-121.300828,46.62266
END:VEVENT
BEGIN:VEVENT
DTSTART;TZID=America/Los_Angeles:20230724T080000
DTEND;TZID=America/Los_Angeles:20230728T123000
DTSTAMP:20260421T210145
CREATED:20230425T224306Z
LAST-MODIFIED:20230609T123649Z
UID:10004260-1690185600-1690547400@toledofirstbaptist.com
SUMMARY:Kids' Camp 2023
DESCRIPTION:At Kids’ Camp\, we will launch kids on a cosmic quest where they’ll have a blast shining Jesus’ light to the world. Stellar rockets kids on an out-of-this-world adventure that’s light years of faith-building fun. \nThe cost is $175.00 \nScholarships are available upon request. \nRegister your kids HERE \nChildren | Youth | Adults
URL:https://toledofirstbaptist.com/event/kids-camp-2023/
LOCATION:Clear Lake Grace Brethren Camp\, 11660 Tieton Rd.\, Naches\, WA\, 98937\, United States
CATEGORIES:Events,Featured
ATTACH;FMTTYPE=image/jpeg:https://toledofirstbaptist.com/wp-content/uploads/2023/04/TFBC-Kids-Camp-2023-1.jpg
GEO:46.62266;-121.300828
X-APPLE-STRUCTURED-LOCATION;VALUE=URI;X-ADDRESS=Clear Lake Grace Brethren Camp 11660 Tieton Rd. Naches WA 98937 United States;X-APPLE-RADIUS=500;X-TITLE=11660 Tieton Rd.:geo:-121.300828,46.62266
END:VEVENT
BEGIN:VEVENT
DTSTART;VALUE=DATE:20220725
DTEND;VALUE=DATE:20220730
DTSTAMP:20260421T210145
CREATED:20220325T233211Z
LAST-MODIFIED:20220510T204905Z
UID:10000787-1658707200-1659139199@toledofirstbaptist.com
SUMMARY:Kid's Camp
DESCRIPTION:Kid’s Camp 2022 is on the calendar! We are getting excited for camp this year. It’s time to sign your kids up. It’s easy just click here. \nKids camp is a big event especially this year. We have missed going up to the camp these last two years. Camp is located on beautiful Clear Lake in the Cascade Mountains\, and is for children 1st-6th grade. This camp allows children to get into a different environment so they can focus totally on growing in their relationship with Jesus. You don’t want your kids to miss out on this fun and exciting adventure! \nContinue to watch our website for more information as we get closer.
URL:https://toledofirstbaptist.com/event/kids-camp/
LOCATION:Clear Lake Grace Brethren Camp\, 11660 Tieton Rd.\, Naches\, WA\, 98937\, United States
ATTACH;FMTTYPE=image/jpeg:https://toledofirstbaptist.com/wp-content/uploads/2022/03/website-4.jpg
GEO:46.62266;-121.300828
X-APPLE-STRUCTURED-LOCATION;VALUE=URI;X-ADDRESS=Clear Lake Grace Brethren Camp 11660 Tieton Rd. Naches WA 98937 United States;X-APPLE-RADIUS=500;X-TITLE=11660 Tieton Rd.:geo:-121.300828,46.62266
END:VEVENT
BEGIN:VEVENT
DTSTART;TZID=America/Los_Angeles:20200727T080000
DTEND;TZID=America/Los_Angeles:20200731T130000
DTSTAMP:20260421T210145
CREATED:20200227T215915Z
LAST-MODIFIED:20200323T215840Z
UID:10000642-1595836800-1596200400@toledofirstbaptist.com
SUMMARY:Kid's Camp 2020
DESCRIPTION:Get your ticket on the Kid’s Camp train!\n\nClimb aboard for mountains of fun at Rocky Railway! On this faith-filled adventure\, kids discover that trusting Jesus pulls them through life’s ups and downs.\n\nDates: July 27-31\nLocation: Clear Lake Grace Brethren Camp\nCost $175.00\nFor kids who have completed 1st-6th grades \nPlease register each child attending camp. \n \n 
URL:https://toledofirstbaptist.com/event/kids-camp-2020/
LOCATION:Clear Lake Grace Brethren Camp\, 11660 Tieton Rd.\, Naches\, WA\, 98937\, United States
CATEGORIES:Events,Featured
ATTACH;FMTTYPE=image/jpeg:https://toledofirstbaptist.com/wp-content/uploads/2020/02/Website-1.jpg
GEO:46.62266;-121.300828
X-APPLE-STRUCTURED-LOCATION;VALUE=URI;X-ADDRESS=Clear Lake Grace Brethren Camp 11660 Tieton Rd. Naches WA 98937 United States;X-APPLE-RADIUS=500;X-TITLE=11660 Tieton Rd.:geo:-121.300828,46.62266
END:VEVENT
BEGIN:VEVENT
DTSTART;VALUE=DATE:20180716
DTEND;VALUE=DATE:20180721
DTSTAMP:20260421T210145
CREATED:20180523T221756Z
LAST-MODIFIED:20180523T221756Z
UID:10000410-1531699200-1532131199@toledofirstbaptist.com
SUMMARY:Kid's Camp 2018
DESCRIPTION:Grab your megaphones\, lace up your cleats\, tune up your instruments. Game On!! Kids camp is coming and \nare we going to have fun!!! \nKids\, who have finished 1st-6th grades\, will realize that God has given them His ultimate playbook. \nHe wants them to join His team. Click on the links above to sign up or pick up a registration \nform at the welcome desk in the foyer. Please fill out a form for each camper going. \nVolunteers click on your link above to sign up as well. \nCost includes a T-Shirt and Snack Shack.  Mission Offering is whatever your child wants to give. \nScholarships are available! \nHave a question or need more information\, please call the church office \nat 360-864-2550 or send an email to office@toledofirstbaptist.com. \n 
URL:https://toledofirstbaptist.com/event/kids-camp-2018/
LOCATION:Clear Lake Grace Brethren Camp\, 11660 Tieton Rd.\, Naches\, WA\, 98937\, United States
CATEGORIES:Events,Featured
ATTACH;FMTTYPE=image/jpeg:https://toledofirstbaptist.com/wp-content/uploads/2018/05/Logo1.jpg
GEO:46.62266;-121.300828
X-APPLE-STRUCTURED-LOCATION;VALUE=URI;X-ADDRESS=Clear Lake Grace Brethren Camp 11660 Tieton Rd. Naches WA 98937 United States;X-APPLE-RADIUS=500;X-TITLE=11660 Tieton Rd.:geo:-121.300828,46.62266
END:VEVENT
BEGIN:VEVENT
DTSTART;VALUE=DATE:20170717
DTEND;VALUE=DATE:20170722
DTSTAMP:20260421T210145
CREATED:20170525T174328Z
LAST-MODIFIED:20170602T185844Z
UID:10000323-1500249600-1500681599@toledofirstbaptist.com
SUMMARY:Kids Camp
DESCRIPTION:[vc_row][vc_column][vc_column_text]Kids camp\, for children who have completed 1st-6th grade\, is one of our annual summer camps and is located on beautiful Clear Lake in the Cascade Mountains.  This camp allows children to get into a different environment so they can focus totally on joyously growing in their relationship with Jesus. Children can expect to have a lot of fun with tons of activities like swimming\, paddle boating\, row boating\, crafts\, games\, recreation\, and so much more! We have our own camp nurse and kitchen crew to make sure all of the children stay safe and well fed. \nMore details will be available as the event draws nearer! \n\nTo Register your Child\, Click Here\nTo Register as a Volunteer\, Click Here\n\n[/vc_column_text][/vc_column][/vc_row][vc_row][vc_column][vc_column_text] \nReady to Pay?  Go ahead and click the “Pay Here” Button to get started! \n[/vc_column_text][vc_row_inner][vc_column_inner width=”1/3″][/vc_column_inner][vc_column_inner width=”1/3″][vc_column_text] \n[give_form id=”3461″] \n[/vc_column_text][/vc_column_inner][vc_column_inner width=”1/3″][/vc_column_inner][/vc_row_inner][/vc_column][/vc_row]
URL:https://toledofirstbaptist.com/event/kids-camp-2017/
LOCATION:Clear Lake Grace Brethren Camp\, 11660 Tieton Rd.\, Naches\, WA\, 98937\, United States
CATEGORIES:Events,Featured
ATTACH;FMTTYPE=image/jpeg:https://toledofirstbaptist.com/wp-content/uploads/2017/01/kidscampbanner.jpg
GEO:46.62266;-121.300828
X-APPLE-STRUCTURED-LOCATION;VALUE=URI;X-ADDRESS=Clear Lake Grace Brethren Camp 11660 Tieton Rd. Naches WA 98937 United States;X-APPLE-RADIUS=500;X-TITLE=11660 Tieton Rd.:geo:-121.300828,46.62266
END:VEVENT
BEGIN:VEVENT
DTSTART;VALUE=DATE:20160718
DTEND;VALUE=DATE:20160723
DTSTAMP:20260421T210146
CREATED:20160525T223425Z
LAST-MODIFIED:20160728T215405Z
UID:10000035-1468800000-1469231999@toledofirstbaptist.com
SUMMARY:Kids Camp - Cave Quest
DESCRIPTION:[vc_row][vc_column][vc_column_text]Kids camp\, for children who have completed 1st-6th grade\, is one of our annual summer camps and is located on beautiful Clear Lake in the Cascade Mountains.  This camp allows children to get into a different environment so they can focus totally on joyously growing in their relationship with Jesus. Children can expect to have a lot of fun with tons of activities like swimming\, paddle boating\, row boating\, crafts\, games\, recreation\, and so much more! We have our own camp nurse and kitchen crew to make sure all of the children stay safe and well fed. This year’s theme is focused on how to follow Jesus and be the light of the world.  So gear up and dig in for a one-of-a-kind adventure! The cost of this camp is $170 (No late fee this year!).  To pay for this camp\, you can either pay online below or by sending in cash or a check to the church office. If you are registering a child\, please click here. If you are a volunteer who has not registered yet\, please click here.[/vc_column_text][vc_column_text][give_form id=”1344″][/vc_column_text][/vc_column][/vc_row]
URL:https://toledofirstbaptist.com/event/kids-camp-cave-quest/
LOCATION:1278 State Route 505\, Toledo\, WA\, 98591\, United States
CATEGORIES:Events
ATTACH;FMTTYPE=image/jpeg:https://toledofirstbaptist.com/wp-content/uploads/2016/05/Kids-Camp-2016.jpg
END:VEVENT
END:VCALENDAR