BEGIN:VCALENDAR
VERSION:2.0
PRODID:-//Toledo First Baptist Church - ECPv6.15.17.1//NONSGML v1.0//EN
CALSCALE:GREGORIAN
METHOD:PUBLISH
X-WR-CALNAME:Toledo First Baptist Church
X-ORIGINAL-URL:https://toledofirstbaptist.com
X-WR-CALDESC:Events for Toledo First Baptist Church
REFRESH-INTERVAL;VALUE=DURATION:PT1H
X-Robots-Tag:noindex
X-PUBLISHED-TTL:PT1H
BEGIN:VTIMEZONE
TZID:America/Los_Angeles
BEGIN:DAYLIGHT
TZOFFSETFROM:-0800
TZOFFSETTO:-0700
TZNAME:PDT
DTSTART:20160313T100000
END:DAYLIGHT
BEGIN:STANDARD
TZOFFSETFROM:-0700
TZOFFSETTO:-0800
TZNAME:PST
DTSTART:20161106T090000
END:STANDARD
BEGIN:DAYLIGHT
TZOFFSETFROM:-0800
TZOFFSETTO:-0700
TZNAME:PDT
DTSTART:20170312T100000
END:DAYLIGHT
BEGIN:STANDARD
TZOFFSETFROM:-0700
TZOFFSETTO:-0800
TZNAME:PST
DTSTART:20171105T090000
END:STANDARD
BEGIN:DAYLIGHT
TZOFFSETFROM:-0800
TZOFFSETTO:-0700
TZNAME:PDT
DTSTART:20180311T100000
END:DAYLIGHT
BEGIN:STANDARD
TZOFFSETFROM:-0700
TZOFFSETTO:-0800
TZNAME:PST
DTSTART:20181104T090000
END:STANDARD
BEGIN:DAYLIGHT
TZOFFSETFROM:-0800
TZOFFSETTO:-0700
TZNAME:PDT
DTSTART:20190310T100000
END:DAYLIGHT
BEGIN:STANDARD
TZOFFSETFROM:-0700
TZOFFSETTO:-0800
TZNAME:PST
DTSTART:20191103T090000
END:STANDARD
BEGIN:DAYLIGHT
TZOFFSETFROM:-0800
TZOFFSETTO:-0700
TZNAME:PDT
DTSTART:20200308T100000
END:DAYLIGHT
BEGIN:STANDARD
TZOFFSETFROM:-0700
TZOFFSETTO:-0800
TZNAME:PST
DTSTART:20201101T090000
END:STANDARD
BEGIN:DAYLIGHT
TZOFFSETFROM:-0800
TZOFFSETTO:-0700
TZNAME:PDT
DTSTART:20210314T100000
END:DAYLIGHT
BEGIN:STANDARD
TZOFFSETFROM:-0700
TZOFFSETTO:-0800
TZNAME:PST
DTSTART:20211107T090000
END:STANDARD
BEGIN:DAYLIGHT
TZOFFSETFROM:-0800
TZOFFSETTO:-0700
TZNAME:PDT
DTSTART:20220313T100000
END:DAYLIGHT
BEGIN:STANDARD
TZOFFSETFROM:-0700
TZOFFSETTO:-0800
TZNAME:PST
DTSTART:20221106T090000
END:STANDARD
BEGIN:DAYLIGHT
TZOFFSETFROM:-0800
TZOFFSETTO:-0700
TZNAME:PDT
DTSTART:20230312T100000
END:DAYLIGHT
BEGIN:STANDARD
TZOFFSETFROM:-0700
TZOFFSETTO:-0800
TZNAME:PST
DTSTART:20231105T090000
END:STANDARD
BEGIN:DAYLIGHT
TZOFFSETFROM:-0800
TZOFFSETTO:-0700
TZNAME:PDT
DTSTART:20240310T100000
END:DAYLIGHT
BEGIN:STANDARD
TZOFFSETFROM:-0700
TZOFFSETTO:-0800
TZNAME:PST
DTSTART:20241103T090000
END:STANDARD
END:VTIMEZONE
BEGIN:VEVENT
DTSTART;VALUE=DATE:20230709
DTEND;VALUE=DATE:20230715
DTSTAMP:20260422T203222
CREATED:20210617T232123Z
LAST-MODIFIED:20230609T121441Z
UID:10000651-1688860800-1689379199@toledofirstbaptist.com
SUMMARY:Mission Adventure Youth Camp
DESCRIPTION:It’s not your average youth camp experience. We’re going to dive into missional living!\nMission Adventures is a week-long missions camp for youth groups located in Salem\, Oregon. \nMission Adventures will give our youth group the training\, opportunity\, and challenge we need to engage our faith and move from simply believing Jesus to proclaiming Jesus! Times of teaching\, prayer\, worship\, outreach\, and of course\, FUN for our youth group are all included! We will go home equipped and encouraged for any opportunity to walk out their faith – a conversation with a stranger in line at the store\, a chance to give a quick message about Jesus to a group\, or a conversation with a friend or classmate. \nIf you’re interested\, just click the link below to request details and get your summer camp experience started! \nYouth 6-12 Grade
URL:https://toledofirstbaptist.com/event/mission-adventure-camp/
LOCATION:Salem YWAM Base\, 7085 Battle Creek Rd SE\, Salem\, OR\, 97317\, United States
CATEGORIES:Events,Youth Events,Youth Ministry
ATTACH;FMTTYPE=image/jpeg:https://toledofirstbaptist.com/wp-content/uploads/2016/04/Mission-Adventures.jpg
ORGANIZER;CN="Danny Brown":MAILTO:dannyb@toledofirstbaptist.com
END:VEVENT
BEGIN:VEVENT
DTSTART;TZID=America/Los_Angeles:20200214T170000
DTEND;TZID=America/Los_Angeles:20200214T210000
DTSTAMP:20260422T203222
CREATED:20200205T213554Z
LAST-MODIFIED:20200205T220802Z
UID:10000635-1581699600-1581714000@toledofirstbaptist.com
SUMMARY:Valentine's Date Night 2020
DESCRIPTION:CHECK THIS OUT!\nLove is in the air…\nValentine’s Day is coming up and the Youth at TFBC want to help you make the most of this holiday that is all about love (and chocolate). \nFrom 5:00-9:00 PM our youth and some very caring and experienced adults will be offering free child care for your big night!\n(Wait\, what? Did that say “free”? YEP!) \nA couple of conditions though… \n\nThis is for children 4 years old through 6th grade and everyone needs to be potty trained.\nNo early drop-offs or late pick-ups so\, keep an eye on that clock.\nYou must fill out the form below with all the pertinent information so we know how to best care for your little cherubs.\n\nIf you truly must ease your conscience by offering some kind of monetary compensation\, there will be a “tip” jar at the door. ALL donations go 100% to the Kid’s Camp Scholarship Fund. \nIf you are human\, leave this field blank.
URL:https://toledofirstbaptist.com/event/valentines-date-night-2020/
LOCATION:Toledo First Baptist Church\, 1278 Hwy 505\, Toledo\, WA\, 98591
CATEGORIES:Events,Featured
ATTACH;FMTTYPE=image/jpeg:https://toledofirstbaptist.com/wp-content/uploads/2020/02/Website-Valentines-Date-Night.jpg
ORGANIZER;CN="Danny Brown":MAILTO:dannyb@toledofirstbaptist.com
END:VEVENT
BEGIN:VEVENT
DTSTART;TZID=America/Los_Angeles:20191115T180000
DTEND;TZID=America/Los_Angeles:20191115T200000
DTSTAMP:20260422T203222
CREATED:20191108T002053Z
LAST-MODIFIED:20191108T002353Z
UID:10000623-1573840800-1573848000@toledofirstbaptist.com
SUMMARY:Youth Game Night
DESCRIPTION:Come and hang out with your friends for a night of games\, laughs\, and food! \nBring some friends\, some snacks\, and some drinks. \nWe have plenty of games but you’re welcome to bring some if you want! \n  \nIf you are human\, leave this field blank.Parent Permission and Liability Waiver FormFill out this form prior to participating in this Youth event:Name *ParticipantAddress *CountryUnited States (US)United Kingdom (UK)CanadaAustralia---AfghanistanÅland IslandsAlbaniaAlgeriaAndorraAngolaAnguillaAntarcticaAntigua and BarbudaArgentinaArmeniaArubaAmerican SamoaAustriaAzerbaijanBahamasBahrainBangladeshBarbadosBelarusBelgiumBelauBelizeBeninBermudaBhutanBoliviaBonaire\, Saint Eustatius and SabaBosnia and HerzegovinaBotswanaBouvet IslandBrazilBritish Indian Ocean TerritoryBritish Virgin IslandsBruneiBulgariaBurkina FasoBurundiCambodiaCameroonCape VerdeCayman IslandsCentral African RepublicChadChileChinaChristmas IslandCocos (Keeling) IslandsColombiaComorosCongo (Brazzaville)Congo (Kinshasa)Cook IslandsCosta RicaCroatiaCubaCuraÇaoCyprusCzech RepublicDenmarkDjiboutiDominicaDominican RepublicEcuadorEgyptEl SalvadorEquatorial GuineaEritreaEstoniaEthiopiaFalkland IslandsFaroe IslandsFijiFinlandFranceFrench GuianaFrench PolynesiaFrench Southern TerritoriesGabonGambiaGeorgiaGermanyGhanaGibraltarGreeceGreenlandGrenadaGuadeloupeGuatemalaGuernseyGuineaGuinea-BissauGuyanaHaitiHeard Island and McDonald IslandsHondurasHong KongHungaryIcelandIndiaIndonesiaIranIraqRepublic of IrelandIsle of ManIsraelItalyIvory CoastJamaicaJapanJerseyJordanKazakhstanKenyaKiribatiKuwaitKyrgyzstanLaosLatviaLebanonLesothoLiberiaLibyaLiechtensteinLithuaniaLuxembourgMacao S.A.R.\, ChinaMacedoniaMadagascarMalawiMalaysiaMaldivesMaliMaltaMarshall IslandsMartiniqueMauritaniaMauritiusMayotteMexicoMicronesiaMoldovaMonacoMongoliaMontenegroMontserratMoroccoMozambiqueMyanmarNamibiaNauruNepalNetherlandsNetherlands AntillesNew CaledoniaNew ZealandNicaraguaNigerNigeriaNiueNorfolk IslandNorth KoreaNorwayOmanPakistanPalestinian TerritoryPanamaPapua New GuineaParaguayPeruPhilippinesPitcairnPolandPortugalQatarReunionRomaniaRussiaRwandaSaint BarthélemySaint HelenaSaint Kitts and NevisSaint LuciaSaint Martin (French part)Saint Martin (Dutch part)Saint Pierre and MiquelonSaint Vincent and the GrenadinesSan MarinoSão Tomé and PríncipeSaudi ArabiaSenegalSerbiaSeychellesSierra LeoneSingaporeSlovakiaSloveniaSolomon IslandsSomaliaSouth AfricaSouth Georgia/Sandwich IslandsSouth KoreaSouth SudanSpainSri LankaSudanSurinameSvalbard and Jan MayenSwazilandSwedenSwitzerlandSyriaTaiwanTajikistanTanzaniaThailandTimor-LesteTogoTokelauTongaTrinidad and TobagoTunisiaTurkeyTurkmenistanTurks and Caicos IslandsTuvaluUgandaUkraineUnited Arab EmiratesUruguayUzbekistanVanuatuVaticanVenezuelaVietnamWallis and FutunaWestern SaharaWestern SamoaYemenZambiaZimbabweCityStateAlabamaAlaskaArizonaArkansasCaliforniaColoradoConnecticutDelawareDistrict Of ColumbiaFloridaGeorgiaHawaiiIdahoIllinoisIndianaIowaKansasKentuckyLouisianaMaineMarylandMassachusettsMichiganMinnesotaMississippiMissouriMontanaNebraskaNevadaNew HampshireNew JerseyNew MexicoNew YorkNorth CarolinaNorth DakotaOhioOklahomaOregonPennsylvaniaRhode IslandSouth CarolinaSouth DakotaTennesseeTexasUtahVermontVirginiaWashingtonWest VirginiaWisconsinWyomingArmed Forces (AA)Armed Forces (AE)Armed Forces (AP)American SamoaGuamNorthern Mariana IslandsPuerto RicoUS Minor Outlying IslandsUS Virgin IslandsZip codePhone *Email *Emergency Contact Name *Parent/GuardianEmergency Contact Phone Number *Parent/Guardian Phone NumberLiability and Medical WaiverI\, being the Parent or Legal Guardian of the above-named student do hereby give my approval for the previously mentioned minor to attend the Youth Event described above and sponsored by Toledo Baptist Church (hereafter referred to as the sponsors). I\, as the parent/guardian of the above-named youth\, assume all risks and hazards incidental to the conduct of the activities during the event. I do hereby release and hold harmless the sponsors\, the organizers\, and supervisors from any and all loss\, injury\, or other damage incurred to me or the above-named individual arising out of the event. In case of injury to my child\, I hereby waive all claims against the organizers\, the sponsors\, or any other supervisors appointed by them. I also grant permission to an attending physician or hospital to perform whatever care is necessary for the welfare of my child until such time as you are able to reach me personally. \nSignature *Use your mouse to sign below:Reset SignatureSignature is required.Captcha *reCAPTCHA is required.Submit
URL:https://toledofirstbaptist.com/event/youth-game-night/
LOCATION:Toledo First Baptist Church\, 1278 Hwy 505\, Toledo\, WA\, 98591
ATTACH;FMTTYPE=image/jpeg:https://toledofirstbaptist.com/wp-content/uploads/2019/11/Website.jpg
ORGANIZER;CN="Danny Brown":MAILTO:dannyb@toledofirstbaptist.com
END:VEVENT
BEGIN:VEVENT
DTSTART;VALUE=DATE:20170814
DTEND;VALUE=DATE:20170819
DTSTAMP:20260422T203222
CREATED:20170127T050053Z
LAST-MODIFIED:20170707T213952Z
UID:10000239-1502668800-1503100799@toledofirstbaptist.com
SUMMARY:Youth Camp
DESCRIPTION:[vc_row][vc_column][vc_column_text]Youth Camp is a time when we escape the humdrum of our everyday lives and spend a week in a beautiful location connecting with God and each other. This year\, we’ll be staying on Clear Lake at Camp Dudley. The lake is familiar to many of you but the camp is probably not. \nCamp Dudley is situated on the North East side of Clear Lake\, across the way from where we have Kid’s Camp each year. This camp is known for its amazing rock climbing wall\, awesome lake-view swimming pool\, lake kayaking\, and incredible outdoor chapel. \nWe’re rewriting the script on Youth Camp this year and you won’t want to miss it! \nHere’s the really BIG NEWS! Camp this year is only $150! (That’s $75 off of last year’s price.)  If you’re already registered and ready to pay now\, go ahead and scroll down and press the ‘Pay Here’ button. \nRegister Today![/vc_column_text][vc_separator color=”mulled_wine” style=”shadow”][vc_tta_accordion active_section=”0″ collapsible_all=”true”][vc_tta_section title=”Click Here to Expand Registration Form” tab_id=”ycregform”][vc_column_text]If you are human\, leave this field blank.[/vc_column_text][/vc_tta_section][/vc_tta_accordion][/vc_column][/vc_row][vc_row][vc_column width=”1/3″][/vc_column][vc_column width=”1/3″][vc_column_text] \nReady to Pay?\n[give_form id=”3775″] \n[/vc_column_text][/vc_column][vc_column width=”1/3″][/vc_column][/vc_row]
URL:https://toledofirstbaptist.com/event/youth-camp-2017/
LOCATION:1278 State Route 505\, Toledo\, 98591\, United States
CATEGORIES:Events,Featured
ATTACH;FMTTYPE=image/jpeg:https://toledofirstbaptist.com/wp-content/uploads/2017/01/YC2017Banner1.jpg
ORGANIZER;CN="Danny Brown":MAILTO:dannyb@toledofirstbaptist.com
END:VEVENT
END:VCALENDAR