BEGIN:VCALENDAR
VERSION:2.0
PRODID:-//Toledo First Baptist Church - ECPv6.15.17.1//NONSGML v1.0//EN
CALSCALE:GREGORIAN
METHOD:PUBLISH
X-WR-CALNAME:Toledo First Baptist Church
X-ORIGINAL-URL:https://toledofirstbaptist.com
X-WR-CALDESC:Events for Toledo First Baptist Church
REFRESH-INTERVAL;VALUE=DURATION:PT1H
X-Robots-Tag:noindex
X-PUBLISHED-TTL:PT1H
BEGIN:VTIMEZONE
TZID:America/Los_Angeles
BEGIN:DAYLIGHT
TZOFFSETFROM:-0800
TZOFFSETTO:-0700
TZNAME:PDT
DTSTART:20220313T100000
END:DAYLIGHT
BEGIN:STANDARD
TZOFFSETFROM:-0700
TZOFFSETTO:-0800
TZNAME:PST
DTSTART:20221106T090000
END:STANDARD
BEGIN:DAYLIGHT
TZOFFSETFROM:-0800
TZOFFSETTO:-0700
TZNAME:PDT
DTSTART:20230312T100000
END:DAYLIGHT
BEGIN:STANDARD
TZOFFSETFROM:-0700
TZOFFSETTO:-0800
TZNAME:PST
DTSTART:20231105T090000
END:STANDARD
BEGIN:DAYLIGHT
TZOFFSETFROM:-0800
TZOFFSETTO:-0700
TZNAME:PDT
DTSTART:20240310T100000
END:DAYLIGHT
BEGIN:STANDARD
TZOFFSETFROM:-0700
TZOFFSETTO:-0800
TZNAME:PST
DTSTART:20241103T090000
END:STANDARD
BEGIN:DAYLIGHT
TZOFFSETFROM:-0800
TZOFFSETTO:-0700
TZNAME:PDT
DTSTART:20250309T100000
END:DAYLIGHT
BEGIN:STANDARD
TZOFFSETFROM:-0700
TZOFFSETTO:-0800
TZNAME:PST
DTSTART:20251102T090000
END:STANDARD
END:VTIMEZONE
BEGIN:VEVENT
DTSTART;TZID=America/Los_Angeles:20240512T093000
DTEND;TZID=America/Los_Angeles:20240512T223000
DTSTAMP:20260423T170558
CREATED:20231204T204850Z
LAST-MODIFIED:20231204T204909Z
UID:10005293-1715506200-1715553000@toledofirstbaptist.com
SUMMARY:Sunday Cool
DESCRIPTION:Sunday Cool is an opportunity for students to get introduced to scripture in an affirming space with caring Small Group Leaders. Separate classes for Middle School and High School students help keep the conversation relevant to the stage of life the students are currently in. \n#youth
URL:https://toledofirstbaptist.com/event/sunday-cool/2024-05-12/
LOCATION:Toledo First Baptist Church\, 1278 Hwy 505\, Toledo\, WA\, 98591
CATEGORIES:Sunday Cool,Youth Ministry
ATTACH;FMTTYPE=image/jpeg:https://toledofirstbaptist.com/wp-content/uploads/2023/06/SCool-16_545.jpg
END:VEVENT
BEGIN:VEVENT
DTSTART;TZID=America/Los_Angeles:20240505T093000
DTEND;TZID=America/Los_Angeles:20240505T223000
DTSTAMP:20260423T170558
CREATED:20231204T204850Z
LAST-MODIFIED:20231204T204909Z
UID:10005292-1714901400-1714948200@toledofirstbaptist.com
SUMMARY:Sunday Cool
DESCRIPTION:Sunday Cool is an opportunity for students to get introduced to scripture in an affirming space with caring Small Group Leaders. Separate classes for Middle School and High School students help keep the conversation relevant to the stage of life the students are currently in. \n#youth
URL:https://toledofirstbaptist.com/event/sunday-cool/2024-05-05/
LOCATION:Toledo First Baptist Church\, 1278 Hwy 505\, Toledo\, WA\, 98591
CATEGORIES:Sunday Cool,Youth Ministry
ATTACH;FMTTYPE=image/jpeg:https://toledofirstbaptist.com/wp-content/uploads/2023/06/SCool-16_545.jpg
END:VEVENT
BEGIN:VEVENT
DTSTART;TZID=America/Los_Angeles:20240428T093000
DTEND;TZID=America/Los_Angeles:20240428T223000
DTSTAMP:20260423T170558
CREATED:20231204T204850Z
LAST-MODIFIED:20231204T204909Z
UID:10005291-1714296600-1714343400@toledofirstbaptist.com
SUMMARY:Sunday Cool
DESCRIPTION:Sunday Cool is an opportunity for students to get introduced to scripture in an affirming space with caring Small Group Leaders. Separate classes for Middle School and High School students help keep the conversation relevant to the stage of life the students are currently in. \n#youth
URL:https://toledofirstbaptist.com/event/sunday-cool/2024-04-28/
LOCATION:Toledo First Baptist Church\, 1278 Hwy 505\, Toledo\, WA\, 98591
CATEGORIES:Sunday Cool,Youth Ministry
ATTACH;FMTTYPE=image/jpeg:https://toledofirstbaptist.com/wp-content/uploads/2023/06/SCool-16_545.jpg
END:VEVENT
BEGIN:VEVENT
DTSTART;TZID=America/Los_Angeles:20240421T093000
DTEND;TZID=America/Los_Angeles:20240421T223000
DTSTAMP:20260423T170558
CREATED:20231204T204850Z
LAST-MODIFIED:20231204T204909Z
UID:10005290-1713691800-1713738600@toledofirstbaptist.com
SUMMARY:Sunday Cool
DESCRIPTION:Sunday Cool is an opportunity for students to get introduced to scripture in an affirming space with caring Small Group Leaders. Separate classes for Middle School and High School students help keep the conversation relevant to the stage of life the students are currently in. \n#youth
URL:https://toledofirstbaptist.com/event/sunday-cool/2024-04-21/
LOCATION:Toledo First Baptist Church\, 1278 Hwy 505\, Toledo\, WA\, 98591
CATEGORIES:Sunday Cool,Youth Ministry
ATTACH;FMTTYPE=image/jpeg:https://toledofirstbaptist.com/wp-content/uploads/2023/06/SCool-16_545.jpg
END:VEVENT
BEGIN:VEVENT
DTSTART;TZID=America/Los_Angeles:20240414T093000
DTEND;TZID=America/Los_Angeles:20240414T223000
DTSTAMP:20260423T170558
CREATED:20231204T204850Z
LAST-MODIFIED:20231204T204909Z
UID:10005289-1713087000-1713133800@toledofirstbaptist.com
SUMMARY:Sunday Cool
DESCRIPTION:Sunday Cool is an opportunity for students to get introduced to scripture in an affirming space with caring Small Group Leaders. Separate classes for Middle School and High School students help keep the conversation relevant to the stage of life the students are currently in. \n#youth
URL:https://toledofirstbaptist.com/event/sunday-cool/2024-04-14/
LOCATION:Toledo First Baptist Church\, 1278 Hwy 505\, Toledo\, WA\, 98591
CATEGORIES:Sunday Cool,Youth Ministry
ATTACH;FMTTYPE=image/jpeg:https://toledofirstbaptist.com/wp-content/uploads/2023/06/SCool-16_545.jpg
END:VEVENT
BEGIN:VEVENT
DTSTART;TZID=America/Los_Angeles:20240407T093000
DTEND;TZID=America/Los_Angeles:20240407T223000
DTSTAMP:20260423T170558
CREATED:20231204T204850Z
LAST-MODIFIED:20231204T204909Z
UID:10005288-1712482200-1712529000@toledofirstbaptist.com
SUMMARY:Sunday Cool
DESCRIPTION:Sunday Cool is an opportunity for students to get introduced to scripture in an affirming space with caring Small Group Leaders. Separate classes for Middle School and High School students help keep the conversation relevant to the stage of life the students are currently in. \n#youth
URL:https://toledofirstbaptist.com/event/sunday-cool/2024-04-07/
LOCATION:Toledo First Baptist Church\, 1278 Hwy 505\, Toledo\, WA\, 98591
CATEGORIES:Sunday Cool,Youth Ministry
ATTACH;FMTTYPE=image/jpeg:https://toledofirstbaptist.com/wp-content/uploads/2023/06/SCool-16_545.jpg
END:VEVENT
BEGIN:VEVENT
DTSTART;TZID=America/Los_Angeles:20240331T093000
DTEND;TZID=America/Los_Angeles:20240331T223000
DTSTAMP:20260423T170558
CREATED:20231204T204850Z
LAST-MODIFIED:20231204T204909Z
UID:10005287-1711877400-1711924200@toledofirstbaptist.com
SUMMARY:Sunday Cool
DESCRIPTION:Sunday Cool is an opportunity for students to get introduced to scripture in an affirming space with caring Small Group Leaders. Separate classes for Middle School and High School students help keep the conversation relevant to the stage of life the students are currently in. \n#youth
URL:https://toledofirstbaptist.com/event/sunday-cool/2024-03-31/
LOCATION:Toledo First Baptist Church\, 1278 Hwy 505\, Toledo\, WA\, 98591
CATEGORIES:Sunday Cool,Youth Ministry
ATTACH;FMTTYPE=image/jpeg:https://toledofirstbaptist.com/wp-content/uploads/2023/06/SCool-16_545.jpg
END:VEVENT
BEGIN:VEVENT
DTSTART;TZID=America/Los_Angeles:20240324T093000
DTEND;TZID=America/Los_Angeles:20240324T223000
DTSTAMP:20260423T170558
CREATED:20231204T204850Z
LAST-MODIFIED:20231204T204909Z
UID:10005286-1711272600-1711319400@toledofirstbaptist.com
SUMMARY:Sunday Cool
DESCRIPTION:Sunday Cool is an opportunity for students to get introduced to scripture in an affirming space with caring Small Group Leaders. Separate classes for Middle School and High School students help keep the conversation relevant to the stage of life the students are currently in. \n#youth
URL:https://toledofirstbaptist.com/event/sunday-cool/2024-03-24/
LOCATION:Toledo First Baptist Church\, 1278 Hwy 505\, Toledo\, WA\, 98591
CATEGORIES:Sunday Cool,Youth Ministry
ATTACH;FMTTYPE=image/jpeg:https://toledofirstbaptist.com/wp-content/uploads/2023/06/SCool-16_545.jpg
END:VEVENT
BEGIN:VEVENT
DTSTART;TZID=America/Los_Angeles:20240317T093000
DTEND;TZID=America/Los_Angeles:20240317T223000
DTSTAMP:20260423T170558
CREATED:20231204T204850Z
LAST-MODIFIED:20231204T204909Z
UID:10005285-1710667800-1710714600@toledofirstbaptist.com
SUMMARY:Sunday Cool
DESCRIPTION:Sunday Cool is an opportunity for students to get introduced to scripture in an affirming space with caring Small Group Leaders. Separate classes for Middle School and High School students help keep the conversation relevant to the stage of life the students are currently in. \n#youth
URL:https://toledofirstbaptist.com/event/sunday-cool/2024-03-17/
LOCATION:Toledo First Baptist Church\, 1278 Hwy 505\, Toledo\, WA\, 98591
CATEGORIES:Sunday Cool,Youth Ministry
ATTACH;FMTTYPE=image/jpeg:https://toledofirstbaptist.com/wp-content/uploads/2023/06/SCool-16_545.jpg
END:VEVENT
BEGIN:VEVENT
DTSTART;TZID=America/Los_Angeles:20240310T093000
DTEND;TZID=America/Los_Angeles:20240310T223000
DTSTAMP:20260423T170558
CREATED:20231204T204850Z
LAST-MODIFIED:20231204T204909Z
UID:10005284-1710063000-1710109800@toledofirstbaptist.com
SUMMARY:Sunday Cool
DESCRIPTION:Sunday Cool is an opportunity for students to get introduced to scripture in an affirming space with caring Small Group Leaders. Separate classes for Middle School and High School students help keep the conversation relevant to the stage of life the students are currently in. \n#youth
URL:https://toledofirstbaptist.com/event/sunday-cool/2024-03-10/
LOCATION:Toledo First Baptist Church\, 1278 Hwy 505\, Toledo\, WA\, 98591
CATEGORIES:Sunday Cool,Youth Ministry
ATTACH;FMTTYPE=image/jpeg:https://toledofirstbaptist.com/wp-content/uploads/2023/06/SCool-16_545.jpg
END:VEVENT
BEGIN:VEVENT
DTSTART;TZID=America/Los_Angeles:20240303T093000
DTEND;TZID=America/Los_Angeles:20240303T223000
DTSTAMP:20260423T170558
CREATED:20231204T204850Z
LAST-MODIFIED:20231204T204909Z
UID:10005283-1709458200-1709505000@toledofirstbaptist.com
SUMMARY:Sunday Cool
DESCRIPTION:Sunday Cool is an opportunity for students to get introduced to scripture in an affirming space with caring Small Group Leaders. Separate classes for Middle School and High School students help keep the conversation relevant to the stage of life the students are currently in. \n#youth
URL:https://toledofirstbaptist.com/event/sunday-cool/2024-03-03/
LOCATION:Toledo First Baptist Church\, 1278 Hwy 505\, Toledo\, WA\, 98591
CATEGORIES:Sunday Cool,Youth Ministry
ATTACH;FMTTYPE=image/jpeg:https://toledofirstbaptist.com/wp-content/uploads/2023/06/SCool-16_545.jpg
END:VEVENT
BEGIN:VEVENT
DTSTART;TZID=America/Los_Angeles:20240225T093000
DTEND;TZID=America/Los_Angeles:20240225T223000
DTSTAMP:20260423T170558
CREATED:20231204T204850Z
LAST-MODIFIED:20231204T204909Z
UID:10005282-1708853400-1708900200@toledofirstbaptist.com
SUMMARY:Sunday Cool
DESCRIPTION:Sunday Cool is an opportunity for students to get introduced to scripture in an affirming space with caring Small Group Leaders. Separate classes for Middle School and High School students help keep the conversation relevant to the stage of life the students are currently in. \n#youth
URL:https://toledofirstbaptist.com/event/sunday-cool/2024-02-25/
LOCATION:Toledo First Baptist Church\, 1278 Hwy 505\, Toledo\, WA\, 98591
CATEGORIES:Sunday Cool,Youth Ministry
ATTACH;FMTTYPE=image/jpeg:https://toledofirstbaptist.com/wp-content/uploads/2023/06/SCool-16_545.jpg
END:VEVENT
BEGIN:VEVENT
DTSTART;TZID=America/Los_Angeles:20240218T093000
DTEND;TZID=America/Los_Angeles:20240218T223000
DTSTAMP:20260423T170558
CREATED:20231204T204850Z
LAST-MODIFIED:20231204T204909Z
UID:10005281-1708248600-1708295400@toledofirstbaptist.com
SUMMARY:Sunday Cool
DESCRIPTION:Sunday Cool is an opportunity for students to get introduced to scripture in an affirming space with caring Small Group Leaders. Separate classes for Middle School and High School students help keep the conversation relevant to the stage of life the students are currently in. \n#youth
URL:https://toledofirstbaptist.com/event/sunday-cool/2024-02-18/
LOCATION:Toledo First Baptist Church\, 1278 Hwy 505\, Toledo\, WA\, 98591
CATEGORIES:Sunday Cool,Youth Ministry
ATTACH;FMTTYPE=image/jpeg:https://toledofirstbaptist.com/wp-content/uploads/2023/06/SCool-16_545.jpg
END:VEVENT
BEGIN:VEVENT
DTSTART;TZID=America/Los_Angeles:20240211T093000
DTEND;TZID=America/Los_Angeles:20240211T223000
DTSTAMP:20260423T170558
CREATED:20231204T204850Z
LAST-MODIFIED:20231204T204909Z
UID:10005280-1707643800-1707690600@toledofirstbaptist.com
SUMMARY:Sunday Cool
DESCRIPTION:Sunday Cool is an opportunity for students to get introduced to scripture in an affirming space with caring Small Group Leaders. Separate classes for Middle School and High School students help keep the conversation relevant to the stage of life the students are currently in. \n#youth
URL:https://toledofirstbaptist.com/event/sunday-cool/2024-02-11/
LOCATION:Toledo First Baptist Church\, 1278 Hwy 505\, Toledo\, WA\, 98591
CATEGORIES:Sunday Cool,Youth Ministry
ATTACH;FMTTYPE=image/jpeg:https://toledofirstbaptist.com/wp-content/uploads/2023/06/SCool-16_545.jpg
END:VEVENT
BEGIN:VEVENT
DTSTART;TZID=America/Los_Angeles:20240204T093000
DTEND;TZID=America/Los_Angeles:20240204T223000
DTSTAMP:20260423T170558
CREATED:20231204T204850Z
LAST-MODIFIED:20231204T204909Z
UID:10005279-1707039000-1707085800@toledofirstbaptist.com
SUMMARY:Sunday Cool
DESCRIPTION:Sunday Cool is an opportunity for students to get introduced to scripture in an affirming space with caring Small Group Leaders. Separate classes for Middle School and High School students help keep the conversation relevant to the stage of life the students are currently in. \n#youth
URL:https://toledofirstbaptist.com/event/sunday-cool/2024-02-04/
LOCATION:Toledo First Baptist Church\, 1278 Hwy 505\, Toledo\, WA\, 98591
CATEGORIES:Sunday Cool,Youth Ministry
ATTACH;FMTTYPE=image/jpeg:https://toledofirstbaptist.com/wp-content/uploads/2023/06/SCool-16_545.jpg
END:VEVENT
BEGIN:VEVENT
DTSTART;TZID=America/Los_Angeles:20240128T093000
DTEND;TZID=America/Los_Angeles:20240128T223000
DTSTAMP:20260423T170558
CREATED:20231204T204850Z
LAST-MODIFIED:20231204T204909Z
UID:10005278-1706434200-1706481000@toledofirstbaptist.com
SUMMARY:Sunday Cool
DESCRIPTION:Sunday Cool is an opportunity for students to get introduced to scripture in an affirming space with caring Small Group Leaders. Separate classes for Middle School and High School students help keep the conversation relevant to the stage of life the students are currently in. \n#youth
URL:https://toledofirstbaptist.com/event/sunday-cool/2024-01-28/
LOCATION:Toledo First Baptist Church\, 1278 Hwy 505\, Toledo\, WA\, 98591
CATEGORIES:Sunday Cool,Youth Ministry
ATTACH;FMTTYPE=image/jpeg:https://toledofirstbaptist.com/wp-content/uploads/2023/06/SCool-16_545.jpg
END:VEVENT
BEGIN:VEVENT
DTSTART;TZID=America/Los_Angeles:20240121T093000
DTEND;TZID=America/Los_Angeles:20240121T223000
DTSTAMP:20260423T170558
CREATED:20231204T204850Z
LAST-MODIFIED:20231204T204909Z
UID:10005277-1705829400-1705876200@toledofirstbaptist.com
SUMMARY:Sunday Cool
DESCRIPTION:Sunday Cool is an opportunity for students to get introduced to scripture in an affirming space with caring Small Group Leaders. Separate classes for Middle School and High School students help keep the conversation relevant to the stage of life the students are currently in. \n#youth
URL:https://toledofirstbaptist.com/event/sunday-cool/2024-01-21/
LOCATION:Toledo First Baptist Church\, 1278 Hwy 505\, Toledo\, WA\, 98591
CATEGORIES:Sunday Cool,Youth Ministry
ATTACH;FMTTYPE=image/jpeg:https://toledofirstbaptist.com/wp-content/uploads/2023/06/SCool-16_545.jpg
END:VEVENT
BEGIN:VEVENT
DTSTART;TZID=America/Los_Angeles:20240114T093000
DTEND;TZID=America/Los_Angeles:20240114T223000
DTSTAMP:20260423T170558
CREATED:20231204T204850Z
LAST-MODIFIED:20231204T204909Z
UID:10005276-1705224600-1705271400@toledofirstbaptist.com
SUMMARY:Sunday Cool
DESCRIPTION:Sunday Cool is an opportunity for students to get introduced to scripture in an affirming space with caring Small Group Leaders. Separate classes for Middle School and High School students help keep the conversation relevant to the stage of life the students are currently in. \n#youth
URL:https://toledofirstbaptist.com/event/sunday-cool/2024-01-14/
LOCATION:Toledo First Baptist Church\, 1278 Hwy 505\, Toledo\, WA\, 98591
CATEGORIES:Sunday Cool,Youth Ministry
ATTACH;FMTTYPE=image/jpeg:https://toledofirstbaptist.com/wp-content/uploads/2023/06/SCool-16_545.jpg
END:VEVENT
BEGIN:VEVENT
DTSTART;TZID=America/Los_Angeles:20240107T093000
DTEND;TZID=America/Los_Angeles:20240107T223000
DTSTAMP:20260423T170558
CREATED:20231204T204850Z
LAST-MODIFIED:20231204T204909Z
UID:10005275-1704619800-1704666600@toledofirstbaptist.com
SUMMARY:Sunday Cool
DESCRIPTION:Sunday Cool is an opportunity for students to get introduced to scripture in an affirming space with caring Small Group Leaders. Separate classes for Middle School and High School students help keep the conversation relevant to the stage of life the students are currently in. \n#youth
URL:https://toledofirstbaptist.com/event/sunday-cool/2024-01-07/
LOCATION:Toledo First Baptist Church\, 1278 Hwy 505\, Toledo\, WA\, 98591
CATEGORIES:Sunday Cool,Youth Ministry
ATTACH;FMTTYPE=image/jpeg:https://toledofirstbaptist.com/wp-content/uploads/2023/06/SCool-16_545.jpg
END:VEVENT
BEGIN:VEVENT
DTSTART;TZID=America/Los_Angeles:20231231T093000
DTEND;TZID=America/Los_Angeles:20231231T223000
DTSTAMP:20260423T170558
CREATED:20231204T204850Z
LAST-MODIFIED:20231204T204909Z
UID:10005274-1704015000-1704061800@toledofirstbaptist.com
SUMMARY:Sunday Cool
DESCRIPTION:Sunday Cool is an opportunity for students to get introduced to scripture in an affirming space with caring Small Group Leaders. Separate classes for Middle School and High School students help keep the conversation relevant to the stage of life the students are currently in. \n#youth
URL:https://toledofirstbaptist.com/event/sunday-cool/2023-12-31/
LOCATION:Toledo First Baptist Church\, 1278 Hwy 505\, Toledo\, WA\, 98591
CATEGORIES:Sunday Cool,Youth Ministry
ATTACH;FMTTYPE=image/jpeg:https://toledofirstbaptist.com/wp-content/uploads/2023/06/SCool-16_545.jpg
END:VEVENT
BEGIN:VEVENT
DTSTART;TZID=America/Los_Angeles:20231224T093000
DTEND;TZID=America/Los_Angeles:20231224T223000
DTSTAMP:20260423T170558
CREATED:20231204T204850Z
LAST-MODIFIED:20231204T204909Z
UID:10005273-1703410200-1703457000@toledofirstbaptist.com
SUMMARY:Sunday Cool
DESCRIPTION:Sunday Cool is an opportunity for students to get introduced to scripture in an affirming space with caring Small Group Leaders. Separate classes for Middle School and High School students help keep the conversation relevant to the stage of life the students are currently in. \n#youth
URL:https://toledofirstbaptist.com/event/sunday-cool/2023-12-24/
LOCATION:Toledo First Baptist Church\, 1278 Hwy 505\, Toledo\, WA\, 98591
CATEGORIES:Sunday Cool,Youth Ministry
ATTACH;FMTTYPE=image/jpeg:https://toledofirstbaptist.com/wp-content/uploads/2023/06/SCool-16_545.jpg
END:VEVENT
BEGIN:VEVENT
DTSTART;TZID=America/Los_Angeles:20231217T093000
DTEND;TZID=America/Los_Angeles:20231217T223000
DTSTAMP:20260423T170558
CREATED:20231204T204850Z
LAST-MODIFIED:20231204T204909Z
UID:10005272-1702805400-1702852200@toledofirstbaptist.com
SUMMARY:Sunday Cool
DESCRIPTION:Sunday Cool is an opportunity for students to get introduced to scripture in an affirming space with caring Small Group Leaders. Separate classes for Middle School and High School students help keep the conversation relevant to the stage of life the students are currently in. \n#youth
URL:https://toledofirstbaptist.com/event/sunday-cool/2023-12-17/
LOCATION:Toledo First Baptist Church\, 1278 Hwy 505\, Toledo\, WA\, 98591
CATEGORIES:Sunday Cool,Youth Ministry
ATTACH;FMTTYPE=image/jpeg:https://toledofirstbaptist.com/wp-content/uploads/2023/06/SCool-16_545.jpg
END:VEVENT
BEGIN:VEVENT
DTSTART;TZID=America/Los_Angeles:20231210T093000
DTEND;TZID=America/Los_Angeles:20231210T223000
DTSTAMP:20260423T170558
CREATED:20231204T204850Z
LAST-MODIFIED:20231204T204909Z
UID:10005271-1702200600-1702247400@toledofirstbaptist.com
SUMMARY:Sunday Cool
DESCRIPTION:Sunday Cool is an opportunity for students to get introduced to scripture in an affirming space with caring Small Group Leaders. Separate classes for Middle School and High School students help keep the conversation relevant to the stage of life the students are currently in. \n#youth
URL:https://toledofirstbaptist.com/event/sunday-cool/2023-12-10/
LOCATION:Toledo First Baptist Church\, 1278 Hwy 505\, Toledo\, WA\, 98591
CATEGORIES:Sunday Cool,Youth Ministry
ATTACH;FMTTYPE=image/jpeg:https://toledofirstbaptist.com/wp-content/uploads/2023/06/SCool-16_545.jpg
END:VEVENT
END:VCALENDAR