BEGIN:VCALENDAR
VERSION:2.0
PRODID:-//Toledo First Baptist Church - ECPv6.15.17.1//NONSGML v1.0//EN
CALSCALE:GREGORIAN
METHOD:PUBLISH
X-ORIGINAL-URL:https://toledofirstbaptist.com
X-WR-CALDESC:Events for Toledo First Baptist Church
REFRESH-INTERVAL;VALUE=DURATION:PT1H
X-Robots-Tag:noindex
X-PUBLISHED-TTL:PT1H
BEGIN:VTIMEZONE
TZID:America/Los_Angeles
BEGIN:DAYLIGHT
TZOFFSETFROM:-0800
TZOFFSETTO:-0700
TZNAME:PDT
DTSTART:20230312T100000
END:DAYLIGHT
BEGIN:STANDARD
TZOFFSETFROM:-0700
TZOFFSETTO:-0800
TZNAME:PST
DTSTART:20231105T090000
END:STANDARD
BEGIN:DAYLIGHT
TZOFFSETFROM:-0800
TZOFFSETTO:-0700
TZNAME:PDT
DTSTART:20240310T100000
END:DAYLIGHT
BEGIN:STANDARD
TZOFFSETFROM:-0700
TZOFFSETTO:-0800
TZNAME:PST
DTSTART:20241103T090000
END:STANDARD
BEGIN:DAYLIGHT
TZOFFSETFROM:-0800
TZOFFSETTO:-0700
TZNAME:PDT
DTSTART:20250309T100000
END:DAYLIGHT
BEGIN:STANDARD
TZOFFSETFROM:-0700
TZOFFSETTO:-0800
TZNAME:PST
DTSTART:20251102T090000
END:STANDARD
END:VTIMEZONE
BEGIN:VEVENT
DTSTART;TZID=America/Los_Angeles:20240728T093000
DTEND;TZID=America/Los_Angeles:20240728T223000
DTSTAMP:20260422T003944
CREATED:20231204T204850Z
LAST-MODIFIED:20231204T204909Z
UID:10005304-1722159000-1722205800@toledofirstbaptist.com
SUMMARY:Sunday Cool
DESCRIPTION:Sunday Cool is an opportunity for students to get introduced to scripture in an affirming space with caring Small Group Leaders. Separate classes for Middle School and High School students help keep the conversation relevant to the stage of life the students are currently in. \n#youth
URL:https://toledofirstbaptist.com/event/sunday-cool/2024-07-28/
LOCATION:Toledo First Baptist Church\, 1278 Hwy 505\, Toledo\, WA\, 98591
CATEGORIES:Sunday Cool,Youth Ministry
ATTACH;FMTTYPE=image/jpeg:https://toledofirstbaptist.com/wp-content/uploads/2023/06/SCool-16_545.jpg
END:VEVENT
BEGIN:VEVENT
DTSTART;TZID=America/Los_Angeles:20240724T183000
DTEND;TZID=America/Los_Angeles:20240724T200000
DTSTAMP:20260422T003944
CREATED:20230823T002753Z
LAST-MODIFIED:20240127T190720Z
UID:10005565-1721845800-1721851200@toledofirstbaptist.com
SUMMARY:MdWk ReFUEL
DESCRIPTION:Come and get filled up and encouraged as you head into the last part of the week. \nIt’s a great place to get introduced to “church” without any of the awkwardness that sometimes comes with Sunday Morning. \n6th-12th Grade | Main Auditorium \n#youth
URL:https://toledofirstbaptist.com/event/mdwk/2024-07-24/
LOCATION:Toledo First Baptist Church\, 1278 Hwy 505\, Toledo\, WA\, 98591
CATEGORIES:MdWk ReFUEL,Youth Ministry
ATTACH;FMTTYPE=image/jpeg:https://toledofirstbaptist.com/wp-content/uploads/2020/06/Refuel-1600_545.jpg
END:VEVENT
BEGIN:VEVENT
DTSTART;TZID=America/Los_Angeles:20240721T093000
DTEND;TZID=America/Los_Angeles:20240721T223000
DTSTAMP:20260422T003944
CREATED:20231204T204850Z
LAST-MODIFIED:20231204T204909Z
UID:10005303-1721554200-1721601000@toledofirstbaptist.com
SUMMARY:Sunday Cool
DESCRIPTION:Sunday Cool is an opportunity for students to get introduced to scripture in an affirming space with caring Small Group Leaders. Separate classes for Middle School and High School students help keep the conversation relevant to the stage of life the students are currently in. \n#youth
URL:https://toledofirstbaptist.com/event/sunday-cool/2024-07-21/
LOCATION:Toledo First Baptist Church\, 1278 Hwy 505\, Toledo\, WA\, 98591
CATEGORIES:Sunday Cool,Youth Ministry
ATTACH;FMTTYPE=image/jpeg:https://toledofirstbaptist.com/wp-content/uploads/2023/06/SCool-16_545.jpg
END:VEVENT
BEGIN:VEVENT
DTSTART;TZID=America/Los_Angeles:20240717T183000
DTEND;TZID=America/Los_Angeles:20240717T200000
DTSTAMP:20260422T003944
CREATED:20230823T002753Z
LAST-MODIFIED:20240127T190720Z
UID:10005564-1721241000-1721246400@toledofirstbaptist.com
SUMMARY:MdWk ReFUEL
DESCRIPTION:Come and get filled up and encouraged as you head into the last part of the week. \nIt’s a great place to get introduced to “church” without any of the awkwardness that sometimes comes with Sunday Morning. \n6th-12th Grade | Main Auditorium \n#youth
URL:https://toledofirstbaptist.com/event/mdwk/2024-07-17/
LOCATION:Toledo First Baptist Church\, 1278 Hwy 505\, Toledo\, WA\, 98591
CATEGORIES:MdWk ReFUEL,Youth Ministry
ATTACH;FMTTYPE=image/jpeg:https://toledofirstbaptist.com/wp-content/uploads/2020/06/Refuel-1600_545.jpg
END:VEVENT
BEGIN:VEVENT
DTSTART;TZID=America/Los_Angeles:20240715T160000
DTEND;TZID=America/Los_Angeles:20240715T180000
DTSTAMP:20260422T003944
CREATED:20230316T182759Z
LAST-MODIFIED:20230316T184039Z
UID:10002157-1721059200-1721066400@toledofirstbaptist.com
SUMMARY:Community House Ministry
DESCRIPTION:Are you looking for a way to serve? Working in the Community House\, cooking dinner once a month\, is a great way to serve and share God’s love.\nEvery 3rd Monday\, TFBC sends a crew to cook a hot meal for the\nresidence of the Community House in Longview.\nIf you are interested in helping with this ministry\, get a hold of\nPastor Mike at mikes@toledofirstbaptist.com.
URL:https://toledofirstbaptist.com/event/community-house-ministry-2/2024-07-15/
LOCATION:Community House\, 1107 Broadway St\, Longview\, WA\, 98632\, United States
CATEGORIES:Events,Featured,Youth Service Project
ATTACH;FMTTYPE=image/jpeg:https://toledofirstbaptist.com/wp-content/uploads/2023/03/community-house-banner.jpg
END:VEVENT
BEGIN:VEVENT
DTSTART;TZID=America/Los_Angeles:20240714T093000
DTEND;TZID=America/Los_Angeles:20240714T223000
DTSTAMP:20260422T003944
CREATED:20231204T204850Z
LAST-MODIFIED:20231204T204909Z
UID:10005302-1720949400-1720996200@toledofirstbaptist.com
SUMMARY:Sunday Cool
DESCRIPTION:Sunday Cool is an opportunity for students to get introduced to scripture in an affirming space with caring Small Group Leaders. Separate classes for Middle School and High School students help keep the conversation relevant to the stage of life the students are currently in. \n#youth
URL:https://toledofirstbaptist.com/event/sunday-cool/2024-07-14/
LOCATION:Toledo First Baptist Church\, 1278 Hwy 505\, Toledo\, WA\, 98591
CATEGORIES:Sunday Cool,Youth Ministry
ATTACH;FMTTYPE=image/jpeg:https://toledofirstbaptist.com/wp-content/uploads/2023/06/SCool-16_545.jpg
END:VEVENT
BEGIN:VEVENT
DTSTART;TZID=America/Los_Angeles:20240710T183000
DTEND;TZID=America/Los_Angeles:20240710T200000
DTSTAMP:20260422T003944
CREATED:20230823T002753Z
LAST-MODIFIED:20240127T190720Z
UID:10005563-1720636200-1720641600@toledofirstbaptist.com
SUMMARY:MdWk ReFUEL
DESCRIPTION:Come and get filled up and encouraged as you head into the last part of the week. \nIt’s a great place to get introduced to “church” without any of the awkwardness that sometimes comes with Sunday Morning. \n6th-12th Grade | Main Auditorium \n#youth
URL:https://toledofirstbaptist.com/event/mdwk/2024-07-10/
LOCATION:Toledo First Baptist Church\, 1278 Hwy 505\, Toledo\, WA\, 98591
CATEGORIES:MdWk ReFUEL,Youth Ministry
ATTACH;FMTTYPE=image/jpeg:https://toledofirstbaptist.com/wp-content/uploads/2020/06/Refuel-1600_545.jpg
END:VEVENT
BEGIN:VEVENT
DTSTART;TZID=America/Los_Angeles:20240707T093000
DTEND;TZID=America/Los_Angeles:20240707T223000
DTSTAMP:20260422T003944
CREATED:20231204T204850Z
LAST-MODIFIED:20231204T204909Z
UID:10005301-1720344600-1720391400@toledofirstbaptist.com
SUMMARY:Sunday Cool
DESCRIPTION:Sunday Cool is an opportunity for students to get introduced to scripture in an affirming space with caring Small Group Leaders. Separate classes for Middle School and High School students help keep the conversation relevant to the stage of life the students are currently in. \n#youth
URL:https://toledofirstbaptist.com/event/sunday-cool/2024-07-07/
LOCATION:Toledo First Baptist Church\, 1278 Hwy 505\, Toledo\, WA\, 98591
CATEGORIES:Sunday Cool,Youth Ministry
ATTACH;FMTTYPE=image/jpeg:https://toledofirstbaptist.com/wp-content/uploads/2023/06/SCool-16_545.jpg
END:VEVENT
BEGIN:VEVENT
DTSTART;TZID=America/Los_Angeles:20240703T183000
DTEND;TZID=America/Los_Angeles:20240703T200000
DTSTAMP:20260422T003944
CREATED:20230823T002753Z
LAST-MODIFIED:20240127T190720Z
UID:10005562-1720031400-1720036800@toledofirstbaptist.com
SUMMARY:MdWk ReFUEL
DESCRIPTION:Come and get filled up and encouraged as you head into the last part of the week. \nIt’s a great place to get introduced to “church” without any of the awkwardness that sometimes comes with Sunday Morning. \n6th-12th Grade | Main Auditorium \n#youth
URL:https://toledofirstbaptist.com/event/mdwk/2024-07-03/
LOCATION:Toledo First Baptist Church\, 1278 Hwy 505\, Toledo\, WA\, 98591
CATEGORIES:MdWk ReFUEL,Youth Ministry
ATTACH;FMTTYPE=image/jpeg:https://toledofirstbaptist.com/wp-content/uploads/2020/06/Refuel-1600_545.jpg
END:VEVENT
BEGIN:VEVENT
DTSTART;TZID=America/Los_Angeles:20240630T093000
DTEND;TZID=America/Los_Angeles:20240630T223000
DTSTAMP:20260422T003944
CREATED:20231204T204850Z
LAST-MODIFIED:20231204T204909Z
UID:10005300-1719739800-1719786600@toledofirstbaptist.com
SUMMARY:Sunday Cool
DESCRIPTION:Sunday Cool is an opportunity for students to get introduced to scripture in an affirming space with caring Small Group Leaders. Separate classes for Middle School and High School students help keep the conversation relevant to the stage of life the students are currently in. \n#youth
URL:https://toledofirstbaptist.com/event/sunday-cool/2024-06-30/
LOCATION:Toledo First Baptist Church\, 1278 Hwy 505\, Toledo\, WA\, 98591
CATEGORIES:Sunday Cool,Youth Ministry
ATTACH;FMTTYPE=image/jpeg:https://toledofirstbaptist.com/wp-content/uploads/2023/06/SCool-16_545.jpg
END:VEVENT
BEGIN:VEVENT
DTSTART;TZID=America/Los_Angeles:20240626T183000
DTEND;TZID=America/Los_Angeles:20240626T200000
DTSTAMP:20260422T003944
CREATED:20230823T002753Z
LAST-MODIFIED:20240127T190720Z
UID:10005561-1719426600-1719432000@toledofirstbaptist.com
SUMMARY:MdWk ReFUEL
DESCRIPTION:Come and get filled up and encouraged as you head into the last part of the week. \nIt’s a great place to get introduced to “church” without any of the awkwardness that sometimes comes with Sunday Morning. \n6th-12th Grade | Main Auditorium \n#youth
URL:https://toledofirstbaptist.com/event/mdwk/2024-06-26/
LOCATION:Toledo First Baptist Church\, 1278 Hwy 505\, Toledo\, WA\, 98591
CATEGORIES:MdWk ReFUEL,Youth Ministry
ATTACH;FMTTYPE=image/jpeg:https://toledofirstbaptist.com/wp-content/uploads/2020/06/Refuel-1600_545.jpg
END:VEVENT
BEGIN:VEVENT
DTSTART;TZID=America/Los_Angeles:20240623T093000
DTEND;TZID=America/Los_Angeles:20240623T223000
DTSTAMP:20260422T003944
CREATED:20231204T204850Z
LAST-MODIFIED:20231204T204909Z
UID:10005299-1719135000-1719181800@toledofirstbaptist.com
SUMMARY:Sunday Cool
DESCRIPTION:Sunday Cool is an opportunity for students to get introduced to scripture in an affirming space with caring Small Group Leaders. Separate classes for Middle School and High School students help keep the conversation relevant to the stage of life the students are currently in. \n#youth
URL:https://toledofirstbaptist.com/event/sunday-cool/2024-06-23/
LOCATION:Toledo First Baptist Church\, 1278 Hwy 505\, Toledo\, WA\, 98591
CATEGORIES:Sunday Cool,Youth Ministry
ATTACH;FMTTYPE=image/jpeg:https://toledofirstbaptist.com/wp-content/uploads/2023/06/SCool-16_545.jpg
END:VEVENT
BEGIN:VEVENT
DTSTART;TZID=America/Los_Angeles:20240619T183000
DTEND;TZID=America/Los_Angeles:20240619T200000
DTSTAMP:20260422T003944
CREATED:20230823T002753Z
LAST-MODIFIED:20240127T190720Z
UID:10005560-1718821800-1718827200@toledofirstbaptist.com
SUMMARY:MdWk ReFUEL
DESCRIPTION:Come and get filled up and encouraged as you head into the last part of the week. \nIt’s a great place to get introduced to “church” without any of the awkwardness that sometimes comes with Sunday Morning. \n6th-12th Grade | Main Auditorium \n#youth
URL:https://toledofirstbaptist.com/event/mdwk/2024-06-19/
LOCATION:Toledo First Baptist Church\, 1278 Hwy 505\, Toledo\, WA\, 98591
CATEGORIES:MdWk ReFUEL,Youth Ministry
ATTACH;FMTTYPE=image/jpeg:https://toledofirstbaptist.com/wp-content/uploads/2020/06/Refuel-1600_545.jpg
END:VEVENT
BEGIN:VEVENT
DTSTART;TZID=America/Los_Angeles:20240617T160000
DTEND;TZID=America/Los_Angeles:20240617T180000
DTSTAMP:20260422T003944
CREATED:20230316T182759Z
LAST-MODIFIED:20230316T184039Z
UID:10002156-1718640000-1718647200@toledofirstbaptist.com
SUMMARY:Community House Ministry
DESCRIPTION:Are you looking for a way to serve? Working in the Community House\, cooking dinner once a month\, is a great way to serve and share God’s love.\nEvery 3rd Monday\, TFBC sends a crew to cook a hot meal for the\nresidence of the Community House in Longview.\nIf you are interested in helping with this ministry\, get a hold of\nPastor Mike at mikes@toledofirstbaptist.com.
URL:https://toledofirstbaptist.com/event/community-house-ministry-2/2024-06-17/
LOCATION:Community House\, 1107 Broadway St\, Longview\, WA\, 98632\, United States
CATEGORIES:Events,Featured,Youth Service Project
ATTACH;FMTTYPE=image/jpeg:https://toledofirstbaptist.com/wp-content/uploads/2023/03/community-house-banner.jpg
END:VEVENT
BEGIN:VEVENT
DTSTART;TZID=America/Los_Angeles:20240616T093000
DTEND;TZID=America/Los_Angeles:20240616T223000
DTSTAMP:20260422T003944
CREATED:20231204T204850Z
LAST-MODIFIED:20231204T204909Z
UID:10005298-1718530200-1718577000@toledofirstbaptist.com
SUMMARY:Sunday Cool
DESCRIPTION:Sunday Cool is an opportunity for students to get introduced to scripture in an affirming space with caring Small Group Leaders. Separate classes for Middle School and High School students help keep the conversation relevant to the stage of life the students are currently in. \n#youth
URL:https://toledofirstbaptist.com/event/sunday-cool/2024-06-16/
LOCATION:Toledo First Baptist Church\, 1278 Hwy 505\, Toledo\, WA\, 98591
CATEGORIES:Sunday Cool,Youth Ministry
ATTACH;FMTTYPE=image/jpeg:https://toledofirstbaptist.com/wp-content/uploads/2023/06/SCool-16_545.jpg
END:VEVENT
BEGIN:VEVENT
DTSTART;TZID=America/Los_Angeles:20240612T183000
DTEND;TZID=America/Los_Angeles:20240612T200000
DTSTAMP:20260422T003944
CREATED:20230823T002753Z
LAST-MODIFIED:20240127T190720Z
UID:10005559-1718217000-1718222400@toledofirstbaptist.com
SUMMARY:MdWk ReFUEL
DESCRIPTION:Come and get filled up and encouraged as you head into the last part of the week. \nIt’s a great place to get introduced to “church” without any of the awkwardness that sometimes comes with Sunday Morning. \n6th-12th Grade | Main Auditorium \n#youth
URL:https://toledofirstbaptist.com/event/mdwk/2024-06-12/
LOCATION:Toledo First Baptist Church\, 1278 Hwy 505\, Toledo\, WA\, 98591
CATEGORIES:MdWk ReFUEL,Youth Ministry
ATTACH;FMTTYPE=image/jpeg:https://toledofirstbaptist.com/wp-content/uploads/2020/06/Refuel-1600_545.jpg
END:VEVENT
BEGIN:VEVENT
DTSTART;TZID=America/Los_Angeles:20240609T093000
DTEND;TZID=America/Los_Angeles:20240609T223000
DTSTAMP:20260422T003944
CREATED:20231204T204850Z
LAST-MODIFIED:20231204T204909Z
UID:10005297-1717925400-1717972200@toledofirstbaptist.com
SUMMARY:Sunday Cool
DESCRIPTION:Sunday Cool is an opportunity for students to get introduced to scripture in an affirming space with caring Small Group Leaders. Separate classes for Middle School and High School students help keep the conversation relevant to the stage of life the students are currently in. \n#youth
URL:https://toledofirstbaptist.com/event/sunday-cool/2024-06-09/
LOCATION:Toledo First Baptist Church\, 1278 Hwy 505\, Toledo\, WA\, 98591
CATEGORIES:Sunday Cool,Youth Ministry
ATTACH;FMTTYPE=image/jpeg:https://toledofirstbaptist.com/wp-content/uploads/2023/06/SCool-16_545.jpg
END:VEVENT
BEGIN:VEVENT
DTSTART;TZID=America/Los_Angeles:20240605T183000
DTEND;TZID=America/Los_Angeles:20240605T200000
DTSTAMP:20260422T003944
CREATED:20230823T002753Z
LAST-MODIFIED:20240127T190720Z
UID:10005558-1717612200-1717617600@toledofirstbaptist.com
SUMMARY:MdWk ReFUEL
DESCRIPTION:Come and get filled up and encouraged as you head into the last part of the week. \nIt’s a great place to get introduced to “church” without any of the awkwardness that sometimes comes with Sunday Morning. \n6th-12th Grade | Main Auditorium \n#youth
URL:https://toledofirstbaptist.com/event/mdwk/2024-06-05/
LOCATION:Toledo First Baptist Church\, 1278 Hwy 505\, Toledo\, WA\, 98591
CATEGORIES:MdWk ReFUEL,Youth Ministry
ATTACH;FMTTYPE=image/jpeg:https://toledofirstbaptist.com/wp-content/uploads/2020/06/Refuel-1600_545.jpg
END:VEVENT
BEGIN:VEVENT
DTSTART;TZID=America/Los_Angeles:20240602T093000
DTEND;TZID=America/Los_Angeles:20240602T223000
DTSTAMP:20260422T003944
CREATED:20231204T204850Z
LAST-MODIFIED:20231204T204909Z
UID:10005296-1717320600-1717367400@toledofirstbaptist.com
SUMMARY:Sunday Cool
DESCRIPTION:Sunday Cool is an opportunity for students to get introduced to scripture in an affirming space with caring Small Group Leaders. Separate classes for Middle School and High School students help keep the conversation relevant to the stage of life the students are currently in. \n#youth
URL:https://toledofirstbaptist.com/event/sunday-cool/2024-06-02/
LOCATION:Toledo First Baptist Church\, 1278 Hwy 505\, Toledo\, WA\, 98591
CATEGORIES:Sunday Cool,Youth Ministry
ATTACH;FMTTYPE=image/jpeg:https://toledofirstbaptist.com/wp-content/uploads/2023/06/SCool-16_545.jpg
END:VEVENT
BEGIN:VEVENT
DTSTART;TZID=America/Los_Angeles:20240529T183000
DTEND;TZID=America/Los_Angeles:20240529T200000
DTSTAMP:20260422T003944
CREATED:20230823T002753Z
LAST-MODIFIED:20240127T190720Z
UID:10005557-1717007400-1717012800@toledofirstbaptist.com
SUMMARY:MdWk ReFUEL
DESCRIPTION:Come and get filled up and encouraged as you head into the last part of the week. \nIt’s a great place to get introduced to “church” without any of the awkwardness that sometimes comes with Sunday Morning. \n6th-12th Grade | Main Auditorium \n#youth
URL:https://toledofirstbaptist.com/event/mdwk/2024-05-29/
LOCATION:Toledo First Baptist Church\, 1278 Hwy 505\, Toledo\, WA\, 98591
CATEGORIES:MdWk ReFUEL,Youth Ministry
ATTACH;FMTTYPE=image/jpeg:https://toledofirstbaptist.com/wp-content/uploads/2020/06/Refuel-1600_545.jpg
END:VEVENT
BEGIN:VEVENT
DTSTART;TZID=America/Los_Angeles:20240526T093000
DTEND;TZID=America/Los_Angeles:20240526T223000
DTSTAMP:20260422T003944
CREATED:20231204T204850Z
LAST-MODIFIED:20231204T204909Z
UID:10005295-1716715800-1716762600@toledofirstbaptist.com
SUMMARY:Sunday Cool
DESCRIPTION:Sunday Cool is an opportunity for students to get introduced to scripture in an affirming space with caring Small Group Leaders. Separate classes for Middle School and High School students help keep the conversation relevant to the stage of life the students are currently in. \n#youth
URL:https://toledofirstbaptist.com/event/sunday-cool/2024-05-26/
LOCATION:Toledo First Baptist Church\, 1278 Hwy 505\, Toledo\, WA\, 98591
CATEGORIES:Sunday Cool,Youth Ministry
ATTACH;FMTTYPE=image/jpeg:https://toledofirstbaptist.com/wp-content/uploads/2023/06/SCool-16_545.jpg
END:VEVENT
BEGIN:VEVENT
DTSTART;TZID=America/Los_Angeles:20240522T183000
DTEND;TZID=America/Los_Angeles:20240522T200000
DTSTAMP:20260422T003944
CREATED:20230823T002753Z
LAST-MODIFIED:20240127T190720Z
UID:10005556-1716402600-1716408000@toledofirstbaptist.com
SUMMARY:MdWk ReFUEL
DESCRIPTION:Come and get filled up and encouraged as you head into the last part of the week. \nIt’s a great place to get introduced to “church” without any of the awkwardness that sometimes comes with Sunday Morning. \n6th-12th Grade | Main Auditorium \n#youth
URL:https://toledofirstbaptist.com/event/mdwk/2024-05-22/
LOCATION:Toledo First Baptist Church\, 1278 Hwy 505\, Toledo\, WA\, 98591
CATEGORIES:MdWk ReFUEL,Youth Ministry
ATTACH;FMTTYPE=image/jpeg:https://toledofirstbaptist.com/wp-content/uploads/2020/06/Refuel-1600_545.jpg
END:VEVENT
BEGIN:VEVENT
DTSTART;TZID=America/Los_Angeles:20240520T160000
DTEND;TZID=America/Los_Angeles:20240520T180000
DTSTAMP:20260422T003944
CREATED:20230316T182759Z
LAST-MODIFIED:20230316T184039Z
UID:10002155-1716220800-1716228000@toledofirstbaptist.com
SUMMARY:Community House Ministry
DESCRIPTION:Are you looking for a way to serve? Working in the Community House\, cooking dinner once a month\, is a great way to serve and share God’s love.\nEvery 3rd Monday\, TFBC sends a crew to cook a hot meal for the\nresidence of the Community House in Longview.\nIf you are interested in helping with this ministry\, get a hold of\nPastor Mike at mikes@toledofirstbaptist.com.
URL:https://toledofirstbaptist.com/event/community-house-ministry-2/2024-05-20/
LOCATION:Community House\, 1107 Broadway St\, Longview\, WA\, 98632\, United States
CATEGORIES:Events,Featured,Youth Service Project
ATTACH;FMTTYPE=image/jpeg:https://toledofirstbaptist.com/wp-content/uploads/2023/03/community-house-banner.jpg
END:VEVENT
BEGIN:VEVENT
DTSTART;TZID=America/Los_Angeles:20240519T093000
DTEND;TZID=America/Los_Angeles:20240519T223000
DTSTAMP:20260422T003944
CREATED:20231204T204850Z
LAST-MODIFIED:20231204T204909Z
UID:10005294-1716111000-1716157800@toledofirstbaptist.com
SUMMARY:Sunday Cool
DESCRIPTION:Sunday Cool is an opportunity for students to get introduced to scripture in an affirming space with caring Small Group Leaders. Separate classes for Middle School and High School students help keep the conversation relevant to the stage of life the students are currently in. \n#youth
URL:https://toledofirstbaptist.com/event/sunday-cool/2024-05-19/
LOCATION:Toledo First Baptist Church\, 1278 Hwy 505\, Toledo\, WA\, 98591
CATEGORIES:Sunday Cool,Youth Ministry
ATTACH;FMTTYPE=image/jpeg:https://toledofirstbaptist.com/wp-content/uploads/2023/06/SCool-16_545.jpg
END:VEVENT
BEGIN:VEVENT
DTSTART;TZID=America/Los_Angeles:20240515T183000
DTEND;TZID=America/Los_Angeles:20240515T200000
DTSTAMP:20260422T003944
CREATED:20230823T002753Z
LAST-MODIFIED:20240127T190720Z
UID:10005555-1715797800-1715803200@toledofirstbaptist.com
SUMMARY:MdWk ReFUEL
DESCRIPTION:Come and get filled up and encouraged as you head into the last part of the week. \nIt’s a great place to get introduced to “church” without any of the awkwardness that sometimes comes with Sunday Morning. \n6th-12th Grade | Main Auditorium \n#youth
URL:https://toledofirstbaptist.com/event/mdwk/2024-05-15/
LOCATION:Toledo First Baptist Church\, 1278 Hwy 505\, Toledo\, WA\, 98591
CATEGORIES:MdWk ReFUEL,Youth Ministry
ATTACH;FMTTYPE=image/jpeg:https://toledofirstbaptist.com/wp-content/uploads/2020/06/Refuel-1600_545.jpg
END:VEVENT
BEGIN:VEVENT
DTSTART;TZID=America/Los_Angeles:20240512T093000
DTEND;TZID=America/Los_Angeles:20240512T223000
DTSTAMP:20260422T003944
CREATED:20231204T204850Z
LAST-MODIFIED:20231204T204909Z
UID:10005293-1715506200-1715553000@toledofirstbaptist.com
SUMMARY:Sunday Cool
DESCRIPTION:Sunday Cool is an opportunity for students to get introduced to scripture in an affirming space with caring Small Group Leaders. Separate classes for Middle School and High School students help keep the conversation relevant to the stage of life the students are currently in. \n#youth
URL:https://toledofirstbaptist.com/event/sunday-cool/2024-05-12/
LOCATION:Toledo First Baptist Church\, 1278 Hwy 505\, Toledo\, WA\, 98591
CATEGORIES:Sunday Cool,Youth Ministry
ATTACH;FMTTYPE=image/jpeg:https://toledofirstbaptist.com/wp-content/uploads/2023/06/SCool-16_545.jpg
END:VEVENT
BEGIN:VEVENT
DTSTART;TZID=America/Los_Angeles:20240508T183000
DTEND;TZID=America/Los_Angeles:20240508T200000
DTSTAMP:20260422T003944
CREATED:20230823T002753Z
LAST-MODIFIED:20240127T190720Z
UID:10005554-1715193000-1715198400@toledofirstbaptist.com
SUMMARY:MdWk ReFUEL
DESCRIPTION:Come and get filled up and encouraged as you head into the last part of the week. \nIt’s a great place to get introduced to “church” without any of the awkwardness that sometimes comes with Sunday Morning. \n6th-12th Grade | Main Auditorium \n#youth
URL:https://toledofirstbaptist.com/event/mdwk/2024-05-08/
LOCATION:Toledo First Baptist Church\, 1278 Hwy 505\, Toledo\, WA\, 98591
CATEGORIES:MdWk ReFUEL,Youth Ministry
ATTACH;FMTTYPE=image/jpeg:https://toledofirstbaptist.com/wp-content/uploads/2020/06/Refuel-1600_545.jpg
END:VEVENT
BEGIN:VEVENT
DTSTART;TZID=America/Los_Angeles:20240505T093000
DTEND;TZID=America/Los_Angeles:20240505T223000
DTSTAMP:20260422T003944
CREATED:20231204T204850Z
LAST-MODIFIED:20231204T204909Z
UID:10005292-1714901400-1714948200@toledofirstbaptist.com
SUMMARY:Sunday Cool
DESCRIPTION:Sunday Cool is an opportunity for students to get introduced to scripture in an affirming space with caring Small Group Leaders. Separate classes for Middle School and High School students help keep the conversation relevant to the stage of life the students are currently in. \n#youth
URL:https://toledofirstbaptist.com/event/sunday-cool/2024-05-05/
LOCATION:Toledo First Baptist Church\, 1278 Hwy 505\, Toledo\, WA\, 98591
CATEGORIES:Sunday Cool,Youth Ministry
ATTACH;FMTTYPE=image/jpeg:https://toledofirstbaptist.com/wp-content/uploads/2023/06/SCool-16_545.jpg
END:VEVENT
BEGIN:VEVENT
DTSTART;TZID=America/Los_Angeles:20240501T183000
DTEND;TZID=America/Los_Angeles:20240501T200000
DTSTAMP:20260422T003944
CREATED:20230823T002753Z
LAST-MODIFIED:20240127T190720Z
UID:10005553-1714588200-1714593600@toledofirstbaptist.com
SUMMARY:MdWk ReFUEL
DESCRIPTION:Come and get filled up and encouraged as you head into the last part of the week. \nIt’s a great place to get introduced to “church” without any of the awkwardness that sometimes comes with Sunday Morning. \n6th-12th Grade | Main Auditorium \n#youth
URL:https://toledofirstbaptist.com/event/mdwk/2024-05-01/
LOCATION:Toledo First Baptist Church\, 1278 Hwy 505\, Toledo\, WA\, 98591
CATEGORIES:MdWk ReFUEL,Youth Ministry
ATTACH;FMTTYPE=image/jpeg:https://toledofirstbaptist.com/wp-content/uploads/2020/06/Refuel-1600_545.jpg
END:VEVENT
BEGIN:VEVENT
DTSTART;TZID=America/Los_Angeles:20240428T093000
DTEND;TZID=America/Los_Angeles:20240428T223000
DTSTAMP:20260422T003944
CREATED:20231204T204850Z
LAST-MODIFIED:20231204T204909Z
UID:10005291-1714296600-1714343400@toledofirstbaptist.com
SUMMARY:Sunday Cool
DESCRIPTION:Sunday Cool is an opportunity for students to get introduced to scripture in an affirming space with caring Small Group Leaders. Separate classes for Middle School and High School students help keep the conversation relevant to the stage of life the students are currently in. \n#youth
URL:https://toledofirstbaptist.com/event/sunday-cool/2024-04-28/
LOCATION:Toledo First Baptist Church\, 1278 Hwy 505\, Toledo\, WA\, 98591
CATEGORIES:Sunday Cool,Youth Ministry
ATTACH;FMTTYPE=image/jpeg:https://toledofirstbaptist.com/wp-content/uploads/2023/06/SCool-16_545.jpg
END:VEVENT
END:VCALENDAR