BEGIN:VCALENDAR
VERSION:2.0
PRODID:-//Toledo First Baptist Church - ECPv6.15.17.1//NONSGML v1.0//EN
CALSCALE:GREGORIAN
METHOD:PUBLISH
X-ORIGINAL-URL:https://toledofirstbaptist.com
X-WR-CALDESC:Events for Toledo First Baptist Church
REFRESH-INTERVAL;VALUE=DURATION:PT1H
X-Robots-Tag:noindex
X-PUBLISHED-TTL:PT1H
BEGIN:VTIMEZONE
TZID:America/Los_Angeles
BEGIN:DAYLIGHT
TZOFFSETFROM:-0800
TZOFFSETTO:-0700
TZNAME:PDT
DTSTART:20270314T100000
END:DAYLIGHT
BEGIN:STANDARD
TZOFFSETFROM:-0700
TZOFFSETTO:-0800
TZNAME:PST
DTSTART:20271107T090000
END:STANDARD
BEGIN:DAYLIGHT
TZOFFSETFROM:-0800
TZOFFSETTO:-0700
TZNAME:PDT
DTSTART:20280312T100000
END:DAYLIGHT
BEGIN:STANDARD
TZOFFSETFROM:-0700
TZOFFSETTO:-0800
TZNAME:PST
DTSTART:20281105T090000
END:STANDARD
BEGIN:DAYLIGHT
TZOFFSETFROM:-0800
TZOFFSETTO:-0700
TZNAME:PDT
DTSTART:20290311T100000
END:DAYLIGHT
BEGIN:STANDARD
TZOFFSETFROM:-0700
TZOFFSETTO:-0800
TZNAME:PST
DTSTART:20291104T090000
END:STANDARD
END:VTIMEZONE
BEGIN:VEVENT
DTSTART;TZID=America/Los_Angeles:20280206T093000
DTEND;TZID=America/Los_Angeles:20280206T223000
DTSTAMP:20260422T151612
CREATED:20231204T204850Z
LAST-MODIFIED:20231204T204909Z
UID:10005488-1833442200-1833489000@toledofirstbaptist.com
SUMMARY:Sunday Cool
DESCRIPTION:Sunday Cool is an opportunity for students to get introduced to scripture in an affirming space with caring Small Group Leaders. Separate classes for Middle School and High School students help keep the conversation relevant to the stage of life the students are currently in. \n#youth
URL:https://toledofirstbaptist.com/event/sunday-cool/2028-02-06/
LOCATION:Toledo First Baptist Church\, 1278 Hwy 505\, Toledo\, WA\, 98591
CATEGORIES:Sunday Cool,Youth Ministry
ATTACH;FMTTYPE=image/jpeg:https://toledofirstbaptist.com/wp-content/uploads/2023/06/SCool-16_545.jpg
END:VEVENT
BEGIN:VEVENT
DTSTART;TZID=America/Los_Angeles:20280213T093000
DTEND;TZID=America/Los_Angeles:20280213T223000
DTSTAMP:20260422T151612
CREATED:20231204T204850Z
LAST-MODIFIED:20231204T204909Z
UID:10005489-1834047000-1834093800@toledofirstbaptist.com
SUMMARY:Sunday Cool
DESCRIPTION:Sunday Cool is an opportunity for students to get introduced to scripture in an affirming space with caring Small Group Leaders. Separate classes for Middle School and High School students help keep the conversation relevant to the stage of life the students are currently in. \n#youth
URL:https://toledofirstbaptist.com/event/sunday-cool/2028-02-13/
LOCATION:Toledo First Baptist Church\, 1278 Hwy 505\, Toledo\, WA\, 98591
CATEGORIES:Sunday Cool,Youth Ministry
ATTACH;FMTTYPE=image/jpeg:https://toledofirstbaptist.com/wp-content/uploads/2023/06/SCool-16_545.jpg
END:VEVENT
BEGIN:VEVENT
DTSTART;TZID=America/Los_Angeles:20280220T093000
DTEND;TZID=America/Los_Angeles:20280220T223000
DTSTAMP:20260422T151612
CREATED:20231204T204850Z
LAST-MODIFIED:20231204T204909Z
UID:10005490-1834651800-1834698600@toledofirstbaptist.com
SUMMARY:Sunday Cool
DESCRIPTION:Sunday Cool is an opportunity for students to get introduced to scripture in an affirming space with caring Small Group Leaders. Separate classes for Middle School and High School students help keep the conversation relevant to the stage of life the students are currently in. \n#youth
URL:https://toledofirstbaptist.com/event/sunday-cool/2028-02-20/
LOCATION:Toledo First Baptist Church\, 1278 Hwy 505\, Toledo\, WA\, 98591
CATEGORIES:Sunday Cool,Youth Ministry
ATTACH;FMTTYPE=image/jpeg:https://toledofirstbaptist.com/wp-content/uploads/2023/06/SCool-16_545.jpg
END:VEVENT
BEGIN:VEVENT
DTSTART;TZID=America/Los_Angeles:20280227T093000
DTEND;TZID=America/Los_Angeles:20280227T223000
DTSTAMP:20260422T151612
CREATED:20231204T204850Z
LAST-MODIFIED:20231204T204909Z
UID:10005491-1835256600-1835303400@toledofirstbaptist.com
SUMMARY:Sunday Cool
DESCRIPTION:Sunday Cool is an opportunity for students to get introduced to scripture in an affirming space with caring Small Group Leaders. Separate classes for Middle School and High School students help keep the conversation relevant to the stage of life the students are currently in. \n#youth
URL:https://toledofirstbaptist.com/event/sunday-cool/2028-02-27/
LOCATION:Toledo First Baptist Church\, 1278 Hwy 505\, Toledo\, WA\, 98591
CATEGORIES:Sunday Cool,Youth Ministry
ATTACH;FMTTYPE=image/jpeg:https://toledofirstbaptist.com/wp-content/uploads/2023/06/SCool-16_545.jpg
END:VEVENT
BEGIN:VEVENT
DTSTART;TZID=America/Los_Angeles:20280305T093000
DTEND;TZID=America/Los_Angeles:20280305T223000
DTSTAMP:20260422T151612
CREATED:20231204T204850Z
LAST-MODIFIED:20231204T204909Z
UID:10005492-1835861400-1835908200@toledofirstbaptist.com
SUMMARY:Sunday Cool
DESCRIPTION:Sunday Cool is an opportunity for students to get introduced to scripture in an affirming space with caring Small Group Leaders. Separate classes for Middle School and High School students help keep the conversation relevant to the stage of life the students are currently in. \n#youth
URL:https://toledofirstbaptist.com/event/sunday-cool/2028-03-05/
LOCATION:Toledo First Baptist Church\, 1278 Hwy 505\, Toledo\, WA\, 98591
CATEGORIES:Sunday Cool,Youth Ministry
ATTACH;FMTTYPE=image/jpeg:https://toledofirstbaptist.com/wp-content/uploads/2023/06/SCool-16_545.jpg
END:VEVENT
BEGIN:VEVENT
DTSTART;TZID=America/Los_Angeles:20280312T093000
DTEND;TZID=America/Los_Angeles:20280312T223000
DTSTAMP:20260422T151612
CREATED:20231204T204850Z
LAST-MODIFIED:20231204T204909Z
UID:10005493-1836466200-1836513000@toledofirstbaptist.com
SUMMARY:Sunday Cool
DESCRIPTION:Sunday Cool is an opportunity for students to get introduced to scripture in an affirming space with caring Small Group Leaders. Separate classes for Middle School and High School students help keep the conversation relevant to the stage of life the students are currently in. \n#youth
URL:https://toledofirstbaptist.com/event/sunday-cool/2028-03-12/
LOCATION:Toledo First Baptist Church\, 1278 Hwy 505\, Toledo\, WA\, 98591
CATEGORIES:Sunday Cool,Youth Ministry
ATTACH;FMTTYPE=image/jpeg:https://toledofirstbaptist.com/wp-content/uploads/2023/06/SCool-16_545.jpg
END:VEVENT
BEGIN:VEVENT
DTSTART;TZID=America/Los_Angeles:20280319T093000
DTEND;TZID=America/Los_Angeles:20280319T223000
DTSTAMP:20260422T151612
CREATED:20231204T204850Z
LAST-MODIFIED:20231204T204909Z
UID:10005494-1837071000-1837117800@toledofirstbaptist.com
SUMMARY:Sunday Cool
DESCRIPTION:Sunday Cool is an opportunity for students to get introduced to scripture in an affirming space with caring Small Group Leaders. Separate classes for Middle School and High School students help keep the conversation relevant to the stage of life the students are currently in. \n#youth
URL:https://toledofirstbaptist.com/event/sunday-cool/2028-03-19/
LOCATION:Toledo First Baptist Church\, 1278 Hwy 505\, Toledo\, WA\, 98591
CATEGORIES:Sunday Cool,Youth Ministry
ATTACH;FMTTYPE=image/jpeg:https://toledofirstbaptist.com/wp-content/uploads/2023/06/SCool-16_545.jpg
END:VEVENT
BEGIN:VEVENT
DTSTART;TZID=America/Los_Angeles:20280326T093000
DTEND;TZID=America/Los_Angeles:20280326T223000
DTSTAMP:20260422T151612
CREATED:20231204T204850Z
LAST-MODIFIED:20231204T204909Z
UID:10005495-1837675800-1837722600@toledofirstbaptist.com
SUMMARY:Sunday Cool
DESCRIPTION:Sunday Cool is an opportunity for students to get introduced to scripture in an affirming space with caring Small Group Leaders. Separate classes for Middle School and High School students help keep the conversation relevant to the stage of life the students are currently in. \n#youth
URL:https://toledofirstbaptist.com/event/sunday-cool/2028-03-26/
LOCATION:Toledo First Baptist Church\, 1278 Hwy 505\, Toledo\, WA\, 98591
CATEGORIES:Sunday Cool,Youth Ministry
ATTACH;FMTTYPE=image/jpeg:https://toledofirstbaptist.com/wp-content/uploads/2023/06/SCool-16_545.jpg
END:VEVENT
BEGIN:VEVENT
DTSTART;TZID=America/Los_Angeles:20280402T093000
DTEND;TZID=America/Los_Angeles:20280402T223000
DTSTAMP:20260422T151612
CREATED:20231204T204850Z
LAST-MODIFIED:20231204T204909Z
UID:10005496-1838280600-1838327400@toledofirstbaptist.com
SUMMARY:Sunday Cool
DESCRIPTION:Sunday Cool is an opportunity for students to get introduced to scripture in an affirming space with caring Small Group Leaders. Separate classes for Middle School and High School students help keep the conversation relevant to the stage of life the students are currently in. \n#youth
URL:https://toledofirstbaptist.com/event/sunday-cool/2028-04-02/
LOCATION:Toledo First Baptist Church\, 1278 Hwy 505\, Toledo\, WA\, 98591
CATEGORIES:Sunday Cool,Youth Ministry
ATTACH;FMTTYPE=image/jpeg:https://toledofirstbaptist.com/wp-content/uploads/2023/06/SCool-16_545.jpg
END:VEVENT
BEGIN:VEVENT
DTSTART;TZID=America/Los_Angeles:20280409T093000
DTEND;TZID=America/Los_Angeles:20280409T223000
DTSTAMP:20260422T151612
CREATED:20231204T204850Z
LAST-MODIFIED:20231204T204909Z
UID:10005497-1838885400-1838932200@toledofirstbaptist.com
SUMMARY:Sunday Cool
DESCRIPTION:Sunday Cool is an opportunity for students to get introduced to scripture in an affirming space with caring Small Group Leaders. Separate classes for Middle School and High School students help keep the conversation relevant to the stage of life the students are currently in. \n#youth
URL:https://toledofirstbaptist.com/event/sunday-cool/2028-04-09/
LOCATION:Toledo First Baptist Church\, 1278 Hwy 505\, Toledo\, WA\, 98591
CATEGORIES:Sunday Cool,Youth Ministry
ATTACH;FMTTYPE=image/jpeg:https://toledofirstbaptist.com/wp-content/uploads/2023/06/SCool-16_545.jpg
END:VEVENT
BEGIN:VEVENT
DTSTART;TZID=America/Los_Angeles:20280416T093000
DTEND;TZID=America/Los_Angeles:20280416T223000
DTSTAMP:20260422T151612
CREATED:20231204T204850Z
LAST-MODIFIED:20231204T204909Z
UID:10005498-1839490200-1839537000@toledofirstbaptist.com
SUMMARY:Sunday Cool
DESCRIPTION:Sunday Cool is an opportunity for students to get introduced to scripture in an affirming space with caring Small Group Leaders. Separate classes for Middle School and High School students help keep the conversation relevant to the stage of life the students are currently in. \n#youth
URL:https://toledofirstbaptist.com/event/sunday-cool/2028-04-16/
LOCATION:Toledo First Baptist Church\, 1278 Hwy 505\, Toledo\, WA\, 98591
CATEGORIES:Sunday Cool,Youth Ministry
ATTACH;FMTTYPE=image/jpeg:https://toledofirstbaptist.com/wp-content/uploads/2023/06/SCool-16_545.jpg
END:VEVENT
BEGIN:VEVENT
DTSTART;TZID=America/Los_Angeles:20280423T093000
DTEND;TZID=America/Los_Angeles:20280423T223000
DTSTAMP:20260422T151612
CREATED:20231204T204850Z
LAST-MODIFIED:20231204T204909Z
UID:10005499-1840095000-1840141800@toledofirstbaptist.com
SUMMARY:Sunday Cool
DESCRIPTION:Sunday Cool is an opportunity for students to get introduced to scripture in an affirming space with caring Small Group Leaders. Separate classes for Middle School and High School students help keep the conversation relevant to the stage of life the students are currently in. \n#youth
URL:https://toledofirstbaptist.com/event/sunday-cool/2028-04-23/
LOCATION:Toledo First Baptist Church\, 1278 Hwy 505\, Toledo\, WA\, 98591
CATEGORIES:Sunday Cool,Youth Ministry
ATTACH;FMTTYPE=image/jpeg:https://toledofirstbaptist.com/wp-content/uploads/2023/06/SCool-16_545.jpg
END:VEVENT
BEGIN:VEVENT
DTSTART;TZID=America/Los_Angeles:20280430T093000
DTEND;TZID=America/Los_Angeles:20280430T223000
DTSTAMP:20260422T151612
CREATED:20231204T204850Z
LAST-MODIFIED:20231204T204909Z
UID:10005500-1840699800-1840746600@toledofirstbaptist.com
SUMMARY:Sunday Cool
DESCRIPTION:Sunday Cool is an opportunity for students to get introduced to scripture in an affirming space with caring Small Group Leaders. Separate classes for Middle School and High School students help keep the conversation relevant to the stage of life the students are currently in. \n#youth
URL:https://toledofirstbaptist.com/event/sunday-cool/2028-04-30/
LOCATION:Toledo First Baptist Church\, 1278 Hwy 505\, Toledo\, WA\, 98591
CATEGORIES:Sunday Cool,Youth Ministry
ATTACH;FMTTYPE=image/jpeg:https://toledofirstbaptist.com/wp-content/uploads/2023/06/SCool-16_545.jpg
END:VEVENT
BEGIN:VEVENT
DTSTART;TZID=America/Los_Angeles:20280507T093000
DTEND;TZID=America/Los_Angeles:20280507T223000
DTSTAMP:20260422T151612
CREATED:20231204T204850Z
LAST-MODIFIED:20231204T204909Z
UID:10005501-1841304600-1841351400@toledofirstbaptist.com
SUMMARY:Sunday Cool
DESCRIPTION:Sunday Cool is an opportunity for students to get introduced to scripture in an affirming space with caring Small Group Leaders. Separate classes for Middle School and High School students help keep the conversation relevant to the stage of life the students are currently in. \n#youth
URL:https://toledofirstbaptist.com/event/sunday-cool/2028-05-07/
LOCATION:Toledo First Baptist Church\, 1278 Hwy 505\, Toledo\, WA\, 98591
CATEGORIES:Sunday Cool,Youth Ministry
ATTACH;FMTTYPE=image/jpeg:https://toledofirstbaptist.com/wp-content/uploads/2023/06/SCool-16_545.jpg
END:VEVENT
BEGIN:VEVENT
DTSTART;TZID=America/Los_Angeles:20280514T093000
DTEND;TZID=America/Los_Angeles:20280514T223000
DTSTAMP:20260422T151612
CREATED:20231204T204850Z
LAST-MODIFIED:20231204T204909Z
UID:10005502-1841909400-1841956200@toledofirstbaptist.com
SUMMARY:Sunday Cool
DESCRIPTION:Sunday Cool is an opportunity for students to get introduced to scripture in an affirming space with caring Small Group Leaders. Separate classes for Middle School and High School students help keep the conversation relevant to the stage of life the students are currently in. \n#youth
URL:https://toledofirstbaptist.com/event/sunday-cool/2028-05-14/
LOCATION:Toledo First Baptist Church\, 1278 Hwy 505\, Toledo\, WA\, 98591
CATEGORIES:Sunday Cool,Youth Ministry
ATTACH;FMTTYPE=image/jpeg:https://toledofirstbaptist.com/wp-content/uploads/2023/06/SCool-16_545.jpg
END:VEVENT
BEGIN:VEVENT
DTSTART;TZID=America/Los_Angeles:20280521T093000
DTEND;TZID=America/Los_Angeles:20280521T223000
DTSTAMP:20260422T151612
CREATED:20231204T204850Z
LAST-MODIFIED:20231204T204909Z
UID:10005503-1842514200-1842561000@toledofirstbaptist.com
SUMMARY:Sunday Cool
DESCRIPTION:Sunday Cool is an opportunity for students to get introduced to scripture in an affirming space with caring Small Group Leaders. Separate classes for Middle School and High School students help keep the conversation relevant to the stage of life the students are currently in. \n#youth
URL:https://toledofirstbaptist.com/event/sunday-cool/2028-05-21/
LOCATION:Toledo First Baptist Church\, 1278 Hwy 505\, Toledo\, WA\, 98591
CATEGORIES:Sunday Cool,Youth Ministry
ATTACH;FMTTYPE=image/jpeg:https://toledofirstbaptist.com/wp-content/uploads/2023/06/SCool-16_545.jpg
END:VEVENT
BEGIN:VEVENT
DTSTART;TZID=America/Los_Angeles:20280528T093000
DTEND;TZID=America/Los_Angeles:20280528T223000
DTSTAMP:20260422T151612
CREATED:20231204T204850Z
LAST-MODIFIED:20231204T204909Z
UID:10005504-1843119000-1843165800@toledofirstbaptist.com
SUMMARY:Sunday Cool
DESCRIPTION:Sunday Cool is an opportunity for students to get introduced to scripture in an affirming space with caring Small Group Leaders. Separate classes for Middle School and High School students help keep the conversation relevant to the stage of life the students are currently in. \n#youth
URL:https://toledofirstbaptist.com/event/sunday-cool/2028-05-28/
LOCATION:Toledo First Baptist Church\, 1278 Hwy 505\, Toledo\, WA\, 98591
CATEGORIES:Sunday Cool,Youth Ministry
ATTACH;FMTTYPE=image/jpeg:https://toledofirstbaptist.com/wp-content/uploads/2023/06/SCool-16_545.jpg
END:VEVENT
BEGIN:VEVENT
DTSTART;TZID=America/Los_Angeles:20280604T093000
DTEND;TZID=America/Los_Angeles:20280604T223000
DTSTAMP:20260422T151612
CREATED:20231204T204850Z
LAST-MODIFIED:20231204T204909Z
UID:10005505-1843723800-1843770600@toledofirstbaptist.com
SUMMARY:Sunday Cool
DESCRIPTION:Sunday Cool is an opportunity for students to get introduced to scripture in an affirming space with caring Small Group Leaders. Separate classes for Middle School and High School students help keep the conversation relevant to the stage of life the students are currently in. \n#youth
URL:https://toledofirstbaptist.com/event/sunday-cool/2028-06-04/
LOCATION:Toledo First Baptist Church\, 1278 Hwy 505\, Toledo\, WA\, 98591
CATEGORIES:Sunday Cool,Youth Ministry
ATTACH;FMTTYPE=image/jpeg:https://toledofirstbaptist.com/wp-content/uploads/2023/06/SCool-16_545.jpg
END:VEVENT
BEGIN:VEVENT
DTSTART;TZID=America/Los_Angeles:20280611T093000
DTEND;TZID=America/Los_Angeles:20280611T223000
DTSTAMP:20260422T151612
CREATED:20231204T204850Z
LAST-MODIFIED:20231204T204909Z
UID:10005506-1844328600-1844375400@toledofirstbaptist.com
SUMMARY:Sunday Cool
DESCRIPTION:Sunday Cool is an opportunity for students to get introduced to scripture in an affirming space with caring Small Group Leaders. Separate classes for Middle School and High School students help keep the conversation relevant to the stage of life the students are currently in. \n#youth
URL:https://toledofirstbaptist.com/event/sunday-cool/2028-06-11/
LOCATION:Toledo First Baptist Church\, 1278 Hwy 505\, Toledo\, WA\, 98591
CATEGORIES:Sunday Cool,Youth Ministry
ATTACH;FMTTYPE=image/jpeg:https://toledofirstbaptist.com/wp-content/uploads/2023/06/SCool-16_545.jpg
END:VEVENT
BEGIN:VEVENT
DTSTART;TZID=America/Los_Angeles:20280618T093000
DTEND;TZID=America/Los_Angeles:20280618T223000
DTSTAMP:20260422T151612
CREATED:20231204T204850Z
LAST-MODIFIED:20231204T204909Z
UID:10005507-1844933400-1844980200@toledofirstbaptist.com
SUMMARY:Sunday Cool
DESCRIPTION:Sunday Cool is an opportunity for students to get introduced to scripture in an affirming space with caring Small Group Leaders. Separate classes for Middle School and High School students help keep the conversation relevant to the stage of life the students are currently in. \n#youth
URL:https://toledofirstbaptist.com/event/sunday-cool/2028-06-18/
LOCATION:Toledo First Baptist Church\, 1278 Hwy 505\, Toledo\, WA\, 98591
CATEGORIES:Sunday Cool,Youth Ministry
ATTACH;FMTTYPE=image/jpeg:https://toledofirstbaptist.com/wp-content/uploads/2023/06/SCool-16_545.jpg
END:VEVENT
BEGIN:VEVENT
DTSTART;TZID=America/Los_Angeles:20280625T093000
DTEND;TZID=America/Los_Angeles:20280625T223000
DTSTAMP:20260422T151612
CREATED:20231204T204850Z
LAST-MODIFIED:20231204T204909Z
UID:10005508-1845538200-1845585000@toledofirstbaptist.com
SUMMARY:Sunday Cool
DESCRIPTION:Sunday Cool is an opportunity for students to get introduced to scripture in an affirming space with caring Small Group Leaders. Separate classes for Middle School and High School students help keep the conversation relevant to the stage of life the students are currently in. \n#youth
URL:https://toledofirstbaptist.com/event/sunday-cool/2028-06-25/
LOCATION:Toledo First Baptist Church\, 1278 Hwy 505\, Toledo\, WA\, 98591
CATEGORIES:Sunday Cool,Youth Ministry
ATTACH;FMTTYPE=image/jpeg:https://toledofirstbaptist.com/wp-content/uploads/2023/06/SCool-16_545.jpg
END:VEVENT
BEGIN:VEVENT
DTSTART;TZID=America/Los_Angeles:20280702T093000
DTEND;TZID=America/Los_Angeles:20280702T223000
DTSTAMP:20260422T151612
CREATED:20231204T204850Z
LAST-MODIFIED:20231204T204909Z
UID:10005509-1846143000-1846189800@toledofirstbaptist.com
SUMMARY:Sunday Cool
DESCRIPTION:Sunday Cool is an opportunity for students to get introduced to scripture in an affirming space with caring Small Group Leaders. Separate classes for Middle School and High School students help keep the conversation relevant to the stage of life the students are currently in. \n#youth
URL:https://toledofirstbaptist.com/event/sunday-cool/2028-07-02/
LOCATION:Toledo First Baptist Church\, 1278 Hwy 505\, Toledo\, WA\, 98591
CATEGORIES:Sunday Cool,Youth Ministry
ATTACH;FMTTYPE=image/jpeg:https://toledofirstbaptist.com/wp-content/uploads/2023/06/SCool-16_545.jpg
END:VEVENT
BEGIN:VEVENT
DTSTART;TZID=America/Los_Angeles:20280709T093000
DTEND;TZID=America/Los_Angeles:20280709T223000
DTSTAMP:20260422T151612
CREATED:20231204T204850Z
LAST-MODIFIED:20231204T204909Z
UID:10005510-1846747800-1846794600@toledofirstbaptist.com
SUMMARY:Sunday Cool
DESCRIPTION:Sunday Cool is an opportunity for students to get introduced to scripture in an affirming space with caring Small Group Leaders. Separate classes for Middle School and High School students help keep the conversation relevant to the stage of life the students are currently in. \n#youth
URL:https://toledofirstbaptist.com/event/sunday-cool/2028-07-09/
LOCATION:Toledo First Baptist Church\, 1278 Hwy 505\, Toledo\, WA\, 98591
CATEGORIES:Sunday Cool,Youth Ministry
ATTACH;FMTTYPE=image/jpeg:https://toledofirstbaptist.com/wp-content/uploads/2023/06/SCool-16_545.jpg
END:VEVENT
BEGIN:VEVENT
DTSTART;TZID=America/Los_Angeles:20280716T093000
DTEND;TZID=America/Los_Angeles:20280716T223000
DTSTAMP:20260422T151612
CREATED:20231204T204850Z
LAST-MODIFIED:20231204T204909Z
UID:10005511-1847352600-1847399400@toledofirstbaptist.com
SUMMARY:Sunday Cool
DESCRIPTION:Sunday Cool is an opportunity for students to get introduced to scripture in an affirming space with caring Small Group Leaders. Separate classes for Middle School and High School students help keep the conversation relevant to the stage of life the students are currently in. \n#youth
URL:https://toledofirstbaptist.com/event/sunday-cool/2028-07-16/
LOCATION:Toledo First Baptist Church\, 1278 Hwy 505\, Toledo\, WA\, 98591
CATEGORIES:Sunday Cool,Youth Ministry
ATTACH;FMTTYPE=image/jpeg:https://toledofirstbaptist.com/wp-content/uploads/2023/06/SCool-16_545.jpg
END:VEVENT
BEGIN:VEVENT
DTSTART;TZID=America/Los_Angeles:20280723T093000
DTEND;TZID=America/Los_Angeles:20280723T223000
DTSTAMP:20260422T151612
CREATED:20231204T204850Z
LAST-MODIFIED:20231204T204909Z
UID:10005512-1847957400-1848004200@toledofirstbaptist.com
SUMMARY:Sunday Cool
DESCRIPTION:Sunday Cool is an opportunity for students to get introduced to scripture in an affirming space with caring Small Group Leaders. Separate classes for Middle School and High School students help keep the conversation relevant to the stage of life the students are currently in. \n#youth
URL:https://toledofirstbaptist.com/event/sunday-cool/2028-07-23/
LOCATION:Toledo First Baptist Church\, 1278 Hwy 505\, Toledo\, WA\, 98591
CATEGORIES:Sunday Cool,Youth Ministry
ATTACH;FMTTYPE=image/jpeg:https://toledofirstbaptist.com/wp-content/uploads/2023/06/SCool-16_545.jpg
END:VEVENT
BEGIN:VEVENT
DTSTART;TZID=America/Los_Angeles:20280730T093000
DTEND;TZID=America/Los_Angeles:20280730T223000
DTSTAMP:20260422T151612
CREATED:20231204T204850Z
LAST-MODIFIED:20231204T204909Z
UID:10005513-1848562200-1848609000@toledofirstbaptist.com
SUMMARY:Sunday Cool
DESCRIPTION:Sunday Cool is an opportunity for students to get introduced to scripture in an affirming space with caring Small Group Leaders. Separate classes for Middle School and High School students help keep the conversation relevant to the stage of life the students are currently in. \n#youth
URL:https://toledofirstbaptist.com/event/sunday-cool/2028-07-30/
LOCATION:Toledo First Baptist Church\, 1278 Hwy 505\, Toledo\, WA\, 98591
CATEGORIES:Sunday Cool,Youth Ministry
ATTACH;FMTTYPE=image/jpeg:https://toledofirstbaptist.com/wp-content/uploads/2023/06/SCool-16_545.jpg
END:VEVENT
BEGIN:VEVENT
DTSTART;TZID=America/Los_Angeles:20280806T093000
DTEND;TZID=America/Los_Angeles:20280806T223000
DTSTAMP:20260422T151612
CREATED:20231204T204850Z
LAST-MODIFIED:20231204T204909Z
UID:10005514-1849167000-1849213800@toledofirstbaptist.com
SUMMARY:Sunday Cool
DESCRIPTION:Sunday Cool is an opportunity for students to get introduced to scripture in an affirming space with caring Small Group Leaders. Separate classes for Middle School and High School students help keep the conversation relevant to the stage of life the students are currently in. \n#youth
URL:https://toledofirstbaptist.com/event/sunday-cool/2028-08-06/
LOCATION:Toledo First Baptist Church\, 1278 Hwy 505\, Toledo\, WA\, 98591
CATEGORIES:Sunday Cool,Youth Ministry
ATTACH;FMTTYPE=image/jpeg:https://toledofirstbaptist.com/wp-content/uploads/2023/06/SCool-16_545.jpg
END:VEVENT
BEGIN:VEVENT
DTSTART;TZID=America/Los_Angeles:20280813T093000
DTEND;TZID=America/Los_Angeles:20280813T223000
DTSTAMP:20260422T151612
CREATED:20231204T204850Z
LAST-MODIFIED:20231204T204909Z
UID:10005515-1849771800-1849818600@toledofirstbaptist.com
SUMMARY:Sunday Cool
DESCRIPTION:Sunday Cool is an opportunity for students to get introduced to scripture in an affirming space with caring Small Group Leaders. Separate classes for Middle School and High School students help keep the conversation relevant to the stage of life the students are currently in. \n#youth
URL:https://toledofirstbaptist.com/event/sunday-cool/2028-08-13/
LOCATION:Toledo First Baptist Church\, 1278 Hwy 505\, Toledo\, WA\, 98591
CATEGORIES:Sunday Cool,Youth Ministry
ATTACH;FMTTYPE=image/jpeg:https://toledofirstbaptist.com/wp-content/uploads/2023/06/SCool-16_545.jpg
END:VEVENT
BEGIN:VEVENT
DTSTART;TZID=America/Los_Angeles:20280820T093000
DTEND;TZID=America/Los_Angeles:20280820T223000
DTSTAMP:20260422T151612
CREATED:20231204T204850Z
LAST-MODIFIED:20231204T204909Z
UID:10005516-1850376600-1850423400@toledofirstbaptist.com
SUMMARY:Sunday Cool
DESCRIPTION:Sunday Cool is an opportunity for students to get introduced to scripture in an affirming space with caring Small Group Leaders. Separate classes for Middle School and High School students help keep the conversation relevant to the stage of life the students are currently in. \n#youth
URL:https://toledofirstbaptist.com/event/sunday-cool/2028-08-20/
LOCATION:Toledo First Baptist Church\, 1278 Hwy 505\, Toledo\, WA\, 98591
CATEGORIES:Sunday Cool,Youth Ministry
ATTACH;FMTTYPE=image/jpeg:https://toledofirstbaptist.com/wp-content/uploads/2023/06/SCool-16_545.jpg
END:VEVENT
BEGIN:VEVENT
DTSTART;TZID=America/Los_Angeles:20280827T093000
DTEND;TZID=America/Los_Angeles:20280827T223000
DTSTAMP:20260422T151612
CREATED:20231204T204850Z
LAST-MODIFIED:20231204T204909Z
UID:10005517-1850981400-1851028200@toledofirstbaptist.com
SUMMARY:Sunday Cool
DESCRIPTION:Sunday Cool is an opportunity for students to get introduced to scripture in an affirming space with caring Small Group Leaders. Separate classes for Middle School and High School students help keep the conversation relevant to the stage of life the students are currently in. \n#youth
URL:https://toledofirstbaptist.com/event/sunday-cool/2028-08-27/
LOCATION:Toledo First Baptist Church\, 1278 Hwy 505\, Toledo\, WA\, 98591
CATEGORIES:Sunday Cool,Youth Ministry
ATTACH;FMTTYPE=image/jpeg:https://toledofirstbaptist.com/wp-content/uploads/2023/06/SCool-16_545.jpg
END:VEVENT
END:VCALENDAR