BEGIN:VCALENDAR
VERSION:2.0
PRODID:-//Toledo First Baptist Church - ECPv6.15.17.1//NONSGML v1.0//EN
CALSCALE:GREGORIAN
METHOD:PUBLISH
X-ORIGINAL-URL:https://toledofirstbaptist.com
X-WR-CALDESC:Events for Toledo First Baptist Church
REFRESH-INTERVAL;VALUE=DURATION:PT1H
X-Robots-Tag:noindex
X-PUBLISHED-TTL:PT1H
BEGIN:VTIMEZONE
TZID:America/Los_Angeles
BEGIN:DAYLIGHT
TZOFFSETFROM:-0800
TZOFFSETTO:-0700
TZNAME:PDT
DTSTART:20230312T100000
END:DAYLIGHT
BEGIN:STANDARD
TZOFFSETFROM:-0700
TZOFFSETTO:-0800
TZNAME:PST
DTSTART:20231105T090000
END:STANDARD
BEGIN:DAYLIGHT
TZOFFSETFROM:-0800
TZOFFSETTO:-0700
TZNAME:PDT
DTSTART:20240310T100000
END:DAYLIGHT
BEGIN:STANDARD
TZOFFSETFROM:-0700
TZOFFSETTO:-0800
TZNAME:PST
DTSTART:20241103T090000
END:STANDARD
BEGIN:DAYLIGHT
TZOFFSETFROM:-0800
TZOFFSETTO:-0700
TZNAME:PDT
DTSTART:20250309T100000
END:DAYLIGHT
BEGIN:STANDARD
TZOFFSETFROM:-0700
TZOFFSETTO:-0800
TZNAME:PST
DTSTART:20251102T090000
END:STANDARD
BEGIN:DAYLIGHT
TZOFFSETFROM:-0800
TZOFFSETTO:-0700
TZNAME:PDT
DTSTART:20260308T100000
END:DAYLIGHT
BEGIN:STANDARD
TZOFFSETFROM:-0700
TZOFFSETTO:-0800
TZNAME:PST
DTSTART:20261101T090000
END:STANDARD
END:VTIMEZONE
BEGIN:VEVENT
DTSTART;TZID=America/Los_Angeles:20250217T160000
DTEND;TZID=America/Los_Angeles:20250217T180000
DTSTAMP:20260421T193515
CREATED:20230316T182759Z
LAST-MODIFIED:20230316T184039Z
UID:10002164-1739808000-1739815200@toledofirstbaptist.com
SUMMARY:Community House Ministry
DESCRIPTION:Are you looking for a way to serve? Working in the Community House\, cooking dinner once a month\, is a great way to serve and share God’s love.\nEvery 3rd Monday\, TFBC sends a crew to cook a hot meal for the\nresidence of the Community House in Longview.\nIf you are interested in helping with this ministry\, get a hold of\nPastor Mike at mikes@toledofirstbaptist.com.
URL:https://toledofirstbaptist.com/event/community-house-ministry-2/2025-02-17/
LOCATION:Community House\, 1107 Broadway St\, Longview\, WA\, 98632\, United States
CATEGORIES:Events,Featured,Youth Service Project
ATTACH;FMTTYPE=image/jpeg:https://toledofirstbaptist.com/wp-content/uploads/2023/03/community-house-banner.jpg
END:VEVENT
BEGIN:VEVENT
DTSTART;TZID=America/Los_Angeles:20250216T093000
DTEND;TZID=America/Los_Angeles:20250216T223000
DTSTAMP:20260421T193515
CREATED:20231204T204850Z
LAST-MODIFIED:20231204T204909Z
UID:10005333-1739698200-1739745000@toledofirstbaptist.com
SUMMARY:Sunday Cool
DESCRIPTION:Sunday Cool is an opportunity for students to get introduced to scripture in an affirming space with caring Small Group Leaders. Separate classes for Middle School and High School students help keep the conversation relevant to the stage of life the students are currently in. \n#youth
URL:https://toledofirstbaptist.com/event/sunday-cool/2025-02-16/
LOCATION:Toledo First Baptist Church\, 1278 Hwy 505\, Toledo\, WA\, 98591
CATEGORIES:Sunday Cool,Youth Ministry
ATTACH;FMTTYPE=image/jpeg:https://toledofirstbaptist.com/wp-content/uploads/2023/06/SCool-16_545.jpg
END:VEVENT
BEGIN:VEVENT
DTSTART;TZID=America/Los_Angeles:20250209T093000
DTEND;TZID=America/Los_Angeles:20250209T223000
DTSTAMP:20260421T193515
CREATED:20231204T204850Z
LAST-MODIFIED:20231204T204909Z
UID:10005332-1739093400-1739140200@toledofirstbaptist.com
SUMMARY:Sunday Cool
DESCRIPTION:Sunday Cool is an opportunity for students to get introduced to scripture in an affirming space with caring Small Group Leaders. Separate classes for Middle School and High School students help keep the conversation relevant to the stage of life the students are currently in. \n#youth
URL:https://toledofirstbaptist.com/event/sunday-cool/2025-02-09/
LOCATION:Toledo First Baptist Church\, 1278 Hwy 505\, Toledo\, WA\, 98591
CATEGORIES:Sunday Cool,Youth Ministry
ATTACH;FMTTYPE=image/jpeg:https://toledofirstbaptist.com/wp-content/uploads/2023/06/SCool-16_545.jpg
END:VEVENT
BEGIN:VEVENT
DTSTART;TZID=America/Los_Angeles:20250202T093000
DTEND;TZID=America/Los_Angeles:20250202T223000
DTSTAMP:20260421T193515
CREATED:20231204T204850Z
LAST-MODIFIED:20231204T204909Z
UID:10005331-1738488600-1738535400@toledofirstbaptist.com
SUMMARY:Sunday Cool
DESCRIPTION:Sunday Cool is an opportunity for students to get introduced to scripture in an affirming space with caring Small Group Leaders. Separate classes for Middle School and High School students help keep the conversation relevant to the stage of life the students are currently in. \n#youth
URL:https://toledofirstbaptist.com/event/sunday-cool/2025-02-02/
LOCATION:Toledo First Baptist Church\, 1278 Hwy 505\, Toledo\, WA\, 98591
CATEGORIES:Sunday Cool,Youth Ministry
ATTACH;FMTTYPE=image/jpeg:https://toledofirstbaptist.com/wp-content/uploads/2023/06/SCool-16_545.jpg
END:VEVENT
BEGIN:VEVENT
DTSTART;TZID=America/Los_Angeles:20250126T093000
DTEND;TZID=America/Los_Angeles:20250126T223000
DTSTAMP:20260421T193515
CREATED:20231204T204850Z
LAST-MODIFIED:20231204T204909Z
UID:10005330-1737883800-1737930600@toledofirstbaptist.com
SUMMARY:Sunday Cool
DESCRIPTION:Sunday Cool is an opportunity for students to get introduced to scripture in an affirming space with caring Small Group Leaders. Separate classes for Middle School and High School students help keep the conversation relevant to the stage of life the students are currently in. \n#youth
URL:https://toledofirstbaptist.com/event/sunday-cool/2025-01-26/
LOCATION:Toledo First Baptist Church\, 1278 Hwy 505\, Toledo\, WA\, 98591
CATEGORIES:Sunday Cool,Youth Ministry
ATTACH;FMTTYPE=image/jpeg:https://toledofirstbaptist.com/wp-content/uploads/2023/06/SCool-16_545.jpg
END:VEVENT
BEGIN:VEVENT
DTSTART;TZID=America/Los_Angeles:20250120T160000
DTEND;TZID=America/Los_Angeles:20250120T180000
DTSTAMP:20260421T193515
CREATED:20230316T182759Z
LAST-MODIFIED:20230316T184039Z
UID:10002163-1737388800-1737396000@toledofirstbaptist.com
SUMMARY:Community House Ministry
DESCRIPTION:Are you looking for a way to serve? Working in the Community House\, cooking dinner once a month\, is a great way to serve and share God’s love.\nEvery 3rd Monday\, TFBC sends a crew to cook a hot meal for the\nresidence of the Community House in Longview.\nIf you are interested in helping with this ministry\, get a hold of\nPastor Mike at mikes@toledofirstbaptist.com.
URL:https://toledofirstbaptist.com/event/community-house-ministry-2/2025-01-20/
LOCATION:Community House\, 1107 Broadway St\, Longview\, WA\, 98632\, United States
CATEGORIES:Events,Featured,Youth Service Project
ATTACH;FMTTYPE=image/jpeg:https://toledofirstbaptist.com/wp-content/uploads/2023/03/community-house-banner.jpg
END:VEVENT
BEGIN:VEVENT
DTSTART;TZID=America/Los_Angeles:20250119T093000
DTEND;TZID=America/Los_Angeles:20250119T223000
DTSTAMP:20260421T193515
CREATED:20231204T204850Z
LAST-MODIFIED:20231204T204909Z
UID:10005329-1737279000-1737325800@toledofirstbaptist.com
SUMMARY:Sunday Cool
DESCRIPTION:Sunday Cool is an opportunity for students to get introduced to scripture in an affirming space with caring Small Group Leaders. Separate classes for Middle School and High School students help keep the conversation relevant to the stage of life the students are currently in. \n#youth
URL:https://toledofirstbaptist.com/event/sunday-cool/2025-01-19/
LOCATION:Toledo First Baptist Church\, 1278 Hwy 505\, Toledo\, WA\, 98591
CATEGORIES:Sunday Cool,Youth Ministry
ATTACH;FMTTYPE=image/jpeg:https://toledofirstbaptist.com/wp-content/uploads/2023/06/SCool-16_545.jpg
END:VEVENT
BEGIN:VEVENT
DTSTART;TZID=America/Los_Angeles:20250112T093000
DTEND;TZID=America/Los_Angeles:20250112T223000
DTSTAMP:20260421T193516
CREATED:20231204T204850Z
LAST-MODIFIED:20231204T204909Z
UID:10005328-1736674200-1736721000@toledofirstbaptist.com
SUMMARY:Sunday Cool
DESCRIPTION:Sunday Cool is an opportunity for students to get introduced to scripture in an affirming space with caring Small Group Leaders. Separate classes for Middle School and High School students help keep the conversation relevant to the stage of life the students are currently in. \n#youth
URL:https://toledofirstbaptist.com/event/sunday-cool/2025-01-12/
LOCATION:Toledo First Baptist Church\, 1278 Hwy 505\, Toledo\, WA\, 98591
CATEGORIES:Sunday Cool,Youth Ministry
ATTACH;FMTTYPE=image/jpeg:https://toledofirstbaptist.com/wp-content/uploads/2023/06/SCool-16_545.jpg
END:VEVENT
BEGIN:VEVENT
DTSTART;TZID=America/Los_Angeles:20250105T093000
DTEND;TZID=America/Los_Angeles:20250105T223000
DTSTAMP:20260421T193516
CREATED:20231204T204850Z
LAST-MODIFIED:20231204T204909Z
UID:10005327-1736069400-1736116200@toledofirstbaptist.com
SUMMARY:Sunday Cool
DESCRIPTION:Sunday Cool is an opportunity for students to get introduced to scripture in an affirming space with caring Small Group Leaders. Separate classes for Middle School and High School students help keep the conversation relevant to the stage of life the students are currently in. \n#youth
URL:https://toledofirstbaptist.com/event/sunday-cool/2025-01-05/
LOCATION:Toledo First Baptist Church\, 1278 Hwy 505\, Toledo\, WA\, 98591
CATEGORIES:Sunday Cool,Youth Ministry
ATTACH;FMTTYPE=image/jpeg:https://toledofirstbaptist.com/wp-content/uploads/2023/06/SCool-16_545.jpg
END:VEVENT
BEGIN:VEVENT
DTSTART;TZID=America/Los_Angeles:20241229T093000
DTEND;TZID=America/Los_Angeles:20241229T223000
DTSTAMP:20260421T193516
CREATED:20231204T204850Z
LAST-MODIFIED:20231204T204909Z
UID:10005326-1735464600-1735511400@toledofirstbaptist.com
SUMMARY:Sunday Cool
DESCRIPTION:Sunday Cool is an opportunity for students to get introduced to scripture in an affirming space with caring Small Group Leaders. Separate classes for Middle School and High School students help keep the conversation relevant to the stage of life the students are currently in. \n#youth
URL:https://toledofirstbaptist.com/event/sunday-cool/2024-12-29/
LOCATION:Toledo First Baptist Church\, 1278 Hwy 505\, Toledo\, WA\, 98591
CATEGORIES:Sunday Cool,Youth Ministry
ATTACH;FMTTYPE=image/jpeg:https://toledofirstbaptist.com/wp-content/uploads/2023/06/SCool-16_545.jpg
END:VEVENT
BEGIN:VEVENT
DTSTART;TZID=America/Los_Angeles:20241225T183000
DTEND;TZID=America/Los_Angeles:20241225T200000
DTSTAMP:20260421T193516
CREATED:20230823T002753Z
LAST-MODIFIED:20240127T190720Z
UID:10005587-1735151400-1735156800@toledofirstbaptist.com
SUMMARY:MdWk ReFUEL
DESCRIPTION:Come and get filled up and encouraged as you head into the last part of the week. \nIt’s a great place to get introduced to “church” without any of the awkwardness that sometimes comes with Sunday Morning. \n6th-12th Grade | Main Auditorium \n#youth
URL:https://toledofirstbaptist.com/event/mdwk/2024-12-25/
LOCATION:Toledo First Baptist Church\, 1278 Hwy 505\, Toledo\, WA\, 98591
CATEGORIES:MdWk ReFUEL,Youth Ministry
ATTACH;FMTTYPE=image/jpeg:https://toledofirstbaptist.com/wp-content/uploads/2020/06/Refuel-1600_545.jpg
END:VEVENT
BEGIN:VEVENT
DTSTART;TZID=America/Los_Angeles:20241222T093000
DTEND;TZID=America/Los_Angeles:20241222T223000
DTSTAMP:20260421T193516
CREATED:20231204T204850Z
LAST-MODIFIED:20231204T204909Z
UID:10005325-1734859800-1734906600@toledofirstbaptist.com
SUMMARY:Sunday Cool
DESCRIPTION:Sunday Cool is an opportunity for students to get introduced to scripture in an affirming space with caring Small Group Leaders. Separate classes for Middle School and High School students help keep the conversation relevant to the stage of life the students are currently in. \n#youth
URL:https://toledofirstbaptist.com/event/sunday-cool/2024-12-22/
LOCATION:Toledo First Baptist Church\, 1278 Hwy 505\, Toledo\, WA\, 98591
CATEGORIES:Sunday Cool,Youth Ministry
ATTACH;FMTTYPE=image/jpeg:https://toledofirstbaptist.com/wp-content/uploads/2023/06/SCool-16_545.jpg
END:VEVENT
BEGIN:VEVENT
DTSTART;TZID=America/Los_Angeles:20241218T183000
DTEND;TZID=America/Los_Angeles:20241218T200000
DTSTAMP:20260421T193516
CREATED:20230823T002753Z
LAST-MODIFIED:20240127T190720Z
UID:10005586-1734546600-1734552000@toledofirstbaptist.com
SUMMARY:MdWk ReFUEL
DESCRIPTION:Come and get filled up and encouraged as you head into the last part of the week. \nIt’s a great place to get introduced to “church” without any of the awkwardness that sometimes comes with Sunday Morning. \n6th-12th Grade | Main Auditorium \n#youth
URL:https://toledofirstbaptist.com/event/mdwk/2024-12-18/
LOCATION:Toledo First Baptist Church\, 1278 Hwy 505\, Toledo\, WA\, 98591
CATEGORIES:MdWk ReFUEL,Youth Ministry
ATTACH;FMTTYPE=image/jpeg:https://toledofirstbaptist.com/wp-content/uploads/2020/06/Refuel-1600_545.jpg
END:VEVENT
BEGIN:VEVENT
DTSTART;TZID=America/Los_Angeles:20241216T160000
DTEND;TZID=America/Los_Angeles:20241216T180000
DTSTAMP:20260421T193516
CREATED:20230316T182759Z
LAST-MODIFIED:20230316T184039Z
UID:10002162-1734364800-1734372000@toledofirstbaptist.com
SUMMARY:Community House Ministry
DESCRIPTION:Are you looking for a way to serve? Working in the Community House\, cooking dinner once a month\, is a great way to serve and share God’s love.\nEvery 3rd Monday\, TFBC sends a crew to cook a hot meal for the\nresidence of the Community House in Longview.\nIf you are interested in helping with this ministry\, get a hold of\nPastor Mike at mikes@toledofirstbaptist.com.
URL:https://toledofirstbaptist.com/event/community-house-ministry-2/2024-12-16/
LOCATION:Community House\, 1107 Broadway St\, Longview\, WA\, 98632\, United States
CATEGORIES:Events,Featured,Youth Service Project
ATTACH;FMTTYPE=image/jpeg:https://toledofirstbaptist.com/wp-content/uploads/2023/03/community-house-banner.jpg
END:VEVENT
BEGIN:VEVENT
DTSTART;TZID=America/Los_Angeles:20241215T093000
DTEND;TZID=America/Los_Angeles:20241215T223000
DTSTAMP:20260421T193516
CREATED:20231204T204850Z
LAST-MODIFIED:20231204T204909Z
UID:10005324-1734255000-1734301800@toledofirstbaptist.com
SUMMARY:Sunday Cool
DESCRIPTION:Sunday Cool is an opportunity for students to get introduced to scripture in an affirming space with caring Small Group Leaders. Separate classes for Middle School and High School students help keep the conversation relevant to the stage of life the students are currently in. \n#youth
URL:https://toledofirstbaptist.com/event/sunday-cool/2024-12-15/
LOCATION:Toledo First Baptist Church\, 1278 Hwy 505\, Toledo\, WA\, 98591
CATEGORIES:Sunday Cool,Youth Ministry
ATTACH;FMTTYPE=image/jpeg:https://toledofirstbaptist.com/wp-content/uploads/2023/06/SCool-16_545.jpg
END:VEVENT
BEGIN:VEVENT
DTSTART;TZID=America/Los_Angeles:20241211T183000
DTEND;TZID=America/Los_Angeles:20241211T200000
DTSTAMP:20260421T193516
CREATED:20230823T002753Z
LAST-MODIFIED:20240127T190720Z
UID:10005585-1733941800-1733947200@toledofirstbaptist.com
SUMMARY:MdWk ReFUEL
DESCRIPTION:Come and get filled up and encouraged as you head into the last part of the week. \nIt’s a great place to get introduced to “church” without any of the awkwardness that sometimes comes with Sunday Morning. \n6th-12th Grade | Main Auditorium \n#youth
URL:https://toledofirstbaptist.com/event/mdwk/2024-12-11/
LOCATION:Toledo First Baptist Church\, 1278 Hwy 505\, Toledo\, WA\, 98591
CATEGORIES:MdWk ReFUEL,Youth Ministry
ATTACH;FMTTYPE=image/jpeg:https://toledofirstbaptist.com/wp-content/uploads/2020/06/Refuel-1600_545.jpg
END:VEVENT
BEGIN:VEVENT
DTSTART;TZID=America/Los_Angeles:20241208T093000
DTEND;TZID=America/Los_Angeles:20241208T223000
DTSTAMP:20260421T193516
CREATED:20231204T204850Z
LAST-MODIFIED:20231204T204909Z
UID:10005323-1733650200-1733697000@toledofirstbaptist.com
SUMMARY:Sunday Cool
DESCRIPTION:Sunday Cool is an opportunity for students to get introduced to scripture in an affirming space with caring Small Group Leaders. Separate classes for Middle School and High School students help keep the conversation relevant to the stage of life the students are currently in. \n#youth
URL:https://toledofirstbaptist.com/event/sunday-cool/2024-12-08/
LOCATION:Toledo First Baptist Church\, 1278 Hwy 505\, Toledo\, WA\, 98591
CATEGORIES:Sunday Cool,Youth Ministry
ATTACH;FMTTYPE=image/jpeg:https://toledofirstbaptist.com/wp-content/uploads/2023/06/SCool-16_545.jpg
END:VEVENT
BEGIN:VEVENT
DTSTART;TZID=America/Los_Angeles:20241204T183000
DTEND;TZID=America/Los_Angeles:20241204T200000
DTSTAMP:20260421T193516
CREATED:20230823T002753Z
LAST-MODIFIED:20240127T190720Z
UID:10005584-1733337000-1733342400@toledofirstbaptist.com
SUMMARY:MdWk ReFUEL
DESCRIPTION:Come and get filled up and encouraged as you head into the last part of the week. \nIt’s a great place to get introduced to “church” without any of the awkwardness that sometimes comes with Sunday Morning. \n6th-12th Grade | Main Auditorium \n#youth
URL:https://toledofirstbaptist.com/event/mdwk/2024-12-04/
LOCATION:Toledo First Baptist Church\, 1278 Hwy 505\, Toledo\, WA\, 98591
CATEGORIES:MdWk ReFUEL,Youth Ministry
ATTACH;FMTTYPE=image/jpeg:https://toledofirstbaptist.com/wp-content/uploads/2020/06/Refuel-1600_545.jpg
END:VEVENT
BEGIN:VEVENT
DTSTART;TZID=America/Los_Angeles:20241201T093000
DTEND;TZID=America/Los_Angeles:20241201T223000
DTSTAMP:20260421T193516
CREATED:20231204T204850Z
LAST-MODIFIED:20231204T204909Z
UID:10005322-1733045400-1733092200@toledofirstbaptist.com
SUMMARY:Sunday Cool
DESCRIPTION:Sunday Cool is an opportunity for students to get introduced to scripture in an affirming space with caring Small Group Leaders. Separate classes for Middle School and High School students help keep the conversation relevant to the stage of life the students are currently in. \n#youth
URL:https://toledofirstbaptist.com/event/sunday-cool/2024-12-01/
LOCATION:Toledo First Baptist Church\, 1278 Hwy 505\, Toledo\, WA\, 98591
CATEGORIES:Sunday Cool,Youth Ministry
ATTACH;FMTTYPE=image/jpeg:https://toledofirstbaptist.com/wp-content/uploads/2023/06/SCool-16_545.jpg
END:VEVENT
BEGIN:VEVENT
DTSTART;TZID=America/Los_Angeles:20241127T183000
DTEND;TZID=America/Los_Angeles:20241127T200000
DTSTAMP:20260421T193516
CREATED:20230823T002753Z
LAST-MODIFIED:20240127T190720Z
UID:10005583-1732732200-1732737600@toledofirstbaptist.com
SUMMARY:MdWk ReFUEL
DESCRIPTION:Come and get filled up and encouraged as you head into the last part of the week. \nIt’s a great place to get introduced to “church” without any of the awkwardness that sometimes comes with Sunday Morning. \n6th-12th Grade | Main Auditorium \n#youth
URL:https://toledofirstbaptist.com/event/mdwk/2024-11-27/
LOCATION:Toledo First Baptist Church\, 1278 Hwy 505\, Toledo\, WA\, 98591
CATEGORIES:MdWk ReFUEL,Youth Ministry
ATTACH;FMTTYPE=image/jpeg:https://toledofirstbaptist.com/wp-content/uploads/2020/06/Refuel-1600_545.jpg
END:VEVENT
BEGIN:VEVENT
DTSTART;TZID=America/Los_Angeles:20241124T093000
DTEND;TZID=America/Los_Angeles:20241124T223000
DTSTAMP:20260421T193516
CREATED:20231204T204850Z
LAST-MODIFIED:20231204T204909Z
UID:10005321-1732440600-1732487400@toledofirstbaptist.com
SUMMARY:Sunday Cool
DESCRIPTION:Sunday Cool is an opportunity for students to get introduced to scripture in an affirming space with caring Small Group Leaders. Separate classes for Middle School and High School students help keep the conversation relevant to the stage of life the students are currently in. \n#youth
URL:https://toledofirstbaptist.com/event/sunday-cool/2024-11-24/
LOCATION:Toledo First Baptist Church\, 1278 Hwy 505\, Toledo\, WA\, 98591
CATEGORIES:Sunday Cool,Youth Ministry
ATTACH;FMTTYPE=image/jpeg:https://toledofirstbaptist.com/wp-content/uploads/2023/06/SCool-16_545.jpg
END:VEVENT
BEGIN:VEVENT
DTSTART;TZID=America/Los_Angeles:20241120T183000
DTEND;TZID=America/Los_Angeles:20241120T200000
DTSTAMP:20260421T193516
CREATED:20230823T002753Z
LAST-MODIFIED:20240127T190720Z
UID:10005582-1732127400-1732132800@toledofirstbaptist.com
SUMMARY:MdWk ReFUEL
DESCRIPTION:Come and get filled up and encouraged as you head into the last part of the week. \nIt’s a great place to get introduced to “church” without any of the awkwardness that sometimes comes with Sunday Morning. \n6th-12th Grade | Main Auditorium \n#youth
URL:https://toledofirstbaptist.com/event/mdwk/2024-11-20/
LOCATION:Toledo First Baptist Church\, 1278 Hwy 505\, Toledo\, WA\, 98591
CATEGORIES:MdWk ReFUEL,Youth Ministry
ATTACH;FMTTYPE=image/jpeg:https://toledofirstbaptist.com/wp-content/uploads/2020/06/Refuel-1600_545.jpg
END:VEVENT
BEGIN:VEVENT
DTSTART;TZID=America/Los_Angeles:20241118T160000
DTEND;TZID=America/Los_Angeles:20241118T180000
DTSTAMP:20260421T193516
CREATED:20230316T182759Z
LAST-MODIFIED:20230316T184039Z
UID:10002161-1731945600-1731952800@toledofirstbaptist.com
SUMMARY:Community House Ministry
DESCRIPTION:Are you looking for a way to serve? Working in the Community House\, cooking dinner once a month\, is a great way to serve and share God’s love.\nEvery 3rd Monday\, TFBC sends a crew to cook a hot meal for the\nresidence of the Community House in Longview.\nIf you are interested in helping with this ministry\, get a hold of\nPastor Mike at mikes@toledofirstbaptist.com.
URL:https://toledofirstbaptist.com/event/community-house-ministry-2/2024-11-18/
LOCATION:Community House\, 1107 Broadway St\, Longview\, WA\, 98632\, United States
CATEGORIES:Events,Featured,Youth Service Project
ATTACH;FMTTYPE=image/jpeg:https://toledofirstbaptist.com/wp-content/uploads/2023/03/community-house-banner.jpg
END:VEVENT
BEGIN:VEVENT
DTSTART;TZID=America/Los_Angeles:20241117T093000
DTEND;TZID=America/Los_Angeles:20241117T223000
DTSTAMP:20260421T193516
CREATED:20231204T204850Z
LAST-MODIFIED:20231204T204909Z
UID:10005320-1731835800-1731882600@toledofirstbaptist.com
SUMMARY:Sunday Cool
DESCRIPTION:Sunday Cool is an opportunity for students to get introduced to scripture in an affirming space with caring Small Group Leaders. Separate classes for Middle School and High School students help keep the conversation relevant to the stage of life the students are currently in. \n#youth
URL:https://toledofirstbaptist.com/event/sunday-cool/2024-11-17/
LOCATION:Toledo First Baptist Church\, 1278 Hwy 505\, Toledo\, WA\, 98591
CATEGORIES:Sunday Cool,Youth Ministry
ATTACH;FMTTYPE=image/jpeg:https://toledofirstbaptist.com/wp-content/uploads/2023/06/SCool-16_545.jpg
END:VEVENT
BEGIN:VEVENT
DTSTART;TZID=America/Los_Angeles:20241113T183000
DTEND;TZID=America/Los_Angeles:20241113T200000
DTSTAMP:20260421T193516
CREATED:20230823T002753Z
LAST-MODIFIED:20240127T190720Z
UID:10005581-1731522600-1731528000@toledofirstbaptist.com
SUMMARY:MdWk ReFUEL
DESCRIPTION:Come and get filled up and encouraged as you head into the last part of the week. \nIt’s a great place to get introduced to “church” without any of the awkwardness that sometimes comes with Sunday Morning. \n6th-12th Grade | Main Auditorium \n#youth
URL:https://toledofirstbaptist.com/event/mdwk/2024-11-13/
LOCATION:Toledo First Baptist Church\, 1278 Hwy 505\, Toledo\, WA\, 98591
CATEGORIES:MdWk ReFUEL,Youth Ministry
ATTACH;FMTTYPE=image/jpeg:https://toledofirstbaptist.com/wp-content/uploads/2020/06/Refuel-1600_545.jpg
END:VEVENT
BEGIN:VEVENT
DTSTART;TZID=America/Los_Angeles:20241110T093000
DTEND;TZID=America/Los_Angeles:20241110T223000
DTSTAMP:20260421T193516
CREATED:20231204T204850Z
LAST-MODIFIED:20231204T204909Z
UID:10005319-1731231000-1731277800@toledofirstbaptist.com
SUMMARY:Sunday Cool
DESCRIPTION:Sunday Cool is an opportunity for students to get introduced to scripture in an affirming space with caring Small Group Leaders. Separate classes for Middle School and High School students help keep the conversation relevant to the stage of life the students are currently in. \n#youth
URL:https://toledofirstbaptist.com/event/sunday-cool/2024-11-10/
LOCATION:Toledo First Baptist Church\, 1278 Hwy 505\, Toledo\, WA\, 98591
CATEGORIES:Sunday Cool,Youth Ministry
ATTACH;FMTTYPE=image/jpeg:https://toledofirstbaptist.com/wp-content/uploads/2023/06/SCool-16_545.jpg
END:VEVENT
BEGIN:VEVENT
DTSTART;TZID=America/Los_Angeles:20241106T183000
DTEND;TZID=America/Los_Angeles:20241106T200000
DTSTAMP:20260421T193516
CREATED:20230823T002753Z
LAST-MODIFIED:20240127T190720Z
UID:10005580-1730917800-1730923200@toledofirstbaptist.com
SUMMARY:MdWk ReFUEL
DESCRIPTION:Come and get filled up and encouraged as you head into the last part of the week. \nIt’s a great place to get introduced to “church” without any of the awkwardness that sometimes comes with Sunday Morning. \n6th-12th Grade | Main Auditorium \n#youth
URL:https://toledofirstbaptist.com/event/mdwk/2024-11-06/
LOCATION:Toledo First Baptist Church\, 1278 Hwy 505\, Toledo\, WA\, 98591
CATEGORIES:MdWk ReFUEL,Youth Ministry
ATTACH;FMTTYPE=image/jpeg:https://toledofirstbaptist.com/wp-content/uploads/2020/06/Refuel-1600_545.jpg
END:VEVENT
BEGIN:VEVENT
DTSTART;TZID=America/Los_Angeles:20241103T093000
DTEND;TZID=America/Los_Angeles:20241103T223000
DTSTAMP:20260421T193516
CREATED:20231204T204850Z
LAST-MODIFIED:20231204T204909Z
UID:10005318-1730626200-1730673000@toledofirstbaptist.com
SUMMARY:Sunday Cool
DESCRIPTION:Sunday Cool is an opportunity for students to get introduced to scripture in an affirming space with caring Small Group Leaders. Separate classes for Middle School and High School students help keep the conversation relevant to the stage of life the students are currently in. \n#youth
URL:https://toledofirstbaptist.com/event/sunday-cool/2024-11-03/
LOCATION:Toledo First Baptist Church\, 1278 Hwy 505\, Toledo\, WA\, 98591
CATEGORIES:Sunday Cool,Youth Ministry
ATTACH;FMTTYPE=image/jpeg:https://toledofirstbaptist.com/wp-content/uploads/2023/06/SCool-16_545.jpg
END:VEVENT
BEGIN:VEVENT
DTSTART;TZID=America/Los_Angeles:20241030T183000
DTEND;TZID=America/Los_Angeles:20241030T200000
DTSTAMP:20260421T193516
CREATED:20230823T002753Z
LAST-MODIFIED:20240127T190720Z
UID:10005579-1730313000-1730318400@toledofirstbaptist.com
SUMMARY:MdWk ReFUEL
DESCRIPTION:Come and get filled up and encouraged as you head into the last part of the week. \nIt’s a great place to get introduced to “church” without any of the awkwardness that sometimes comes with Sunday Morning. \n6th-12th Grade | Main Auditorium \n#youth
URL:https://toledofirstbaptist.com/event/mdwk/2024-10-30/
LOCATION:Toledo First Baptist Church\, 1278 Hwy 505\, Toledo\, WA\, 98591
CATEGORIES:MdWk ReFUEL,Youth Ministry
ATTACH;FMTTYPE=image/jpeg:https://toledofirstbaptist.com/wp-content/uploads/2020/06/Refuel-1600_545.jpg
END:VEVENT
BEGIN:VEVENT
DTSTART;TZID=America/Los_Angeles:20241027T093000
DTEND;TZID=America/Los_Angeles:20241027T223000
DTSTAMP:20260421T193516
CREATED:20231204T204850Z
LAST-MODIFIED:20231204T204909Z
UID:10005317-1730021400-1730068200@toledofirstbaptist.com
SUMMARY:Sunday Cool
DESCRIPTION:Sunday Cool is an opportunity for students to get introduced to scripture in an affirming space with caring Small Group Leaders. Separate classes for Middle School and High School students help keep the conversation relevant to the stage of life the students are currently in. \n#youth
URL:https://toledofirstbaptist.com/event/sunday-cool/2024-10-27/
LOCATION:Toledo First Baptist Church\, 1278 Hwy 505\, Toledo\, WA\, 98591
CATEGORIES:Sunday Cool,Youth Ministry
ATTACH;FMTTYPE=image/jpeg:https://toledofirstbaptist.com/wp-content/uploads/2023/06/SCool-16_545.jpg
END:VEVENT
END:VCALENDAR