BEGIN:VCALENDAR
VERSION:2.0
PRODID:-//Toledo First Baptist Church - ECPv6.15.17.1//NONSGML v1.0//EN
CALSCALE:GREGORIAN
METHOD:PUBLISH
X-ORIGINAL-URL:https://toledofirstbaptist.com
X-WR-CALDESC:Events for Toledo First Baptist Church
REFRESH-INTERVAL;VALUE=DURATION:PT1H
X-Robots-Tag:noindex
X-PUBLISHED-TTL:PT1H
BEGIN:VTIMEZONE
TZID:America/Los_Angeles
BEGIN:DAYLIGHT
TZOFFSETFROM:-0800
TZOFFSETTO:-0700
TZNAME:PDT
DTSTART:20250309T100000
END:DAYLIGHT
BEGIN:STANDARD
TZOFFSETFROM:-0700
TZOFFSETTO:-0800
TZNAME:PST
DTSTART:20251102T090000
END:STANDARD
BEGIN:DAYLIGHT
TZOFFSETFROM:-0800
TZOFFSETTO:-0700
TZNAME:PDT
DTSTART:20260308T100000
END:DAYLIGHT
BEGIN:STANDARD
TZOFFSETFROM:-0700
TZOFFSETTO:-0800
TZNAME:PST
DTSTART:20261101T090000
END:STANDARD
BEGIN:DAYLIGHT
TZOFFSETFROM:-0800
TZOFFSETTO:-0700
TZNAME:PDT
DTSTART:20270314T100000
END:DAYLIGHT
BEGIN:STANDARD
TZOFFSETFROM:-0700
TZOFFSETTO:-0800
TZNAME:PST
DTSTART:20271107T090000
END:STANDARD
BEGIN:DAYLIGHT
TZOFFSETFROM:-0800
TZOFFSETTO:-0700
TZNAME:PDT
DTSTART:20280312T100000
END:DAYLIGHT
BEGIN:STANDARD
TZOFFSETFROM:-0700
TZOFFSETTO:-0800
TZNAME:PST
DTSTART:20281105T090000
END:STANDARD
END:VTIMEZONE
BEGIN:VEVENT
DTSTART;TZID=America/Los_Angeles:20261115T093000
DTEND;TZID=America/Los_Angeles:20261115T223000
DTSTAMP:20260422T152449
CREATED:20231204T204850Z
LAST-MODIFIED:20231204T204909Z
UID:10005424-1794735000-1794781800@toledofirstbaptist.com
SUMMARY:Sunday Cool
DESCRIPTION:Sunday Cool is an opportunity for students to get introduced to scripture in an affirming space with caring Small Group Leaders. Separate classes for Middle School and High School students help keep the conversation relevant to the stage of life the students are currently in. \n#youth
URL:https://toledofirstbaptist.com/event/sunday-cool/2026-11-15/
LOCATION:Toledo First Baptist Church\, 1278 Hwy 505\, Toledo\, WA\, 98591
CATEGORIES:Sunday Cool,Youth Ministry
ATTACH;FMTTYPE=image/jpeg:https://toledofirstbaptist.com/wp-content/uploads/2023/06/SCool-16_545.jpg
END:VEVENT
BEGIN:VEVENT
DTSTART;TZID=America/Los_Angeles:20261122T093000
DTEND;TZID=America/Los_Angeles:20261122T223000
DTSTAMP:20260422T152449
CREATED:20231204T204850Z
LAST-MODIFIED:20231204T204909Z
UID:10005425-1795339800-1795386600@toledofirstbaptist.com
SUMMARY:Sunday Cool
DESCRIPTION:Sunday Cool is an opportunity for students to get introduced to scripture in an affirming space with caring Small Group Leaders. Separate classes for Middle School and High School students help keep the conversation relevant to the stage of life the students are currently in. \n#youth
URL:https://toledofirstbaptist.com/event/sunday-cool/2026-11-22/
LOCATION:Toledo First Baptist Church\, 1278 Hwy 505\, Toledo\, WA\, 98591
CATEGORIES:Sunday Cool,Youth Ministry
ATTACH;FMTTYPE=image/jpeg:https://toledofirstbaptist.com/wp-content/uploads/2023/06/SCool-16_545.jpg
END:VEVENT
BEGIN:VEVENT
DTSTART;TZID=America/Los_Angeles:20261129T093000
DTEND;TZID=America/Los_Angeles:20261129T223000
DTSTAMP:20260422T152449
CREATED:20231204T204850Z
LAST-MODIFIED:20231204T204909Z
UID:10005426-1795944600-1795991400@toledofirstbaptist.com
SUMMARY:Sunday Cool
DESCRIPTION:Sunday Cool is an opportunity for students to get introduced to scripture in an affirming space with caring Small Group Leaders. Separate classes for Middle School and High School students help keep the conversation relevant to the stage of life the students are currently in. \n#youth
URL:https://toledofirstbaptist.com/event/sunday-cool/2026-11-29/
LOCATION:Toledo First Baptist Church\, 1278 Hwy 505\, Toledo\, WA\, 98591
CATEGORIES:Sunday Cool,Youth Ministry
ATTACH;FMTTYPE=image/jpeg:https://toledofirstbaptist.com/wp-content/uploads/2023/06/SCool-16_545.jpg
END:VEVENT
BEGIN:VEVENT
DTSTART;TZID=America/Los_Angeles:20261206T093000
DTEND;TZID=America/Los_Angeles:20261206T223000
DTSTAMP:20260422T152449
CREATED:20231204T204850Z
LAST-MODIFIED:20231204T204909Z
UID:10005427-1796549400-1796596200@toledofirstbaptist.com
SUMMARY:Sunday Cool
DESCRIPTION:Sunday Cool is an opportunity for students to get introduced to scripture in an affirming space with caring Small Group Leaders. Separate classes for Middle School and High School students help keep the conversation relevant to the stage of life the students are currently in. \n#youth
URL:https://toledofirstbaptist.com/event/sunday-cool/2026-12-06/
LOCATION:Toledo First Baptist Church\, 1278 Hwy 505\, Toledo\, WA\, 98591
CATEGORIES:Sunday Cool,Youth Ministry
ATTACH;FMTTYPE=image/jpeg:https://toledofirstbaptist.com/wp-content/uploads/2023/06/SCool-16_545.jpg
END:VEVENT
BEGIN:VEVENT
DTSTART;TZID=America/Los_Angeles:20261213T093000
DTEND;TZID=America/Los_Angeles:20261213T223000
DTSTAMP:20260422T152449
CREATED:20231204T204850Z
LAST-MODIFIED:20231204T204909Z
UID:10005428-1797154200-1797201000@toledofirstbaptist.com
SUMMARY:Sunday Cool
DESCRIPTION:Sunday Cool is an opportunity for students to get introduced to scripture in an affirming space with caring Small Group Leaders. Separate classes for Middle School and High School students help keep the conversation relevant to the stage of life the students are currently in. \n#youth
URL:https://toledofirstbaptist.com/event/sunday-cool/2026-12-13/
LOCATION:Toledo First Baptist Church\, 1278 Hwy 505\, Toledo\, WA\, 98591
CATEGORIES:Sunday Cool,Youth Ministry
ATTACH;FMTTYPE=image/jpeg:https://toledofirstbaptist.com/wp-content/uploads/2023/06/SCool-16_545.jpg
END:VEVENT
BEGIN:VEVENT
DTSTART;TZID=America/Los_Angeles:20261220T093000
DTEND;TZID=America/Los_Angeles:20261220T223000
DTSTAMP:20260422T152449
CREATED:20231204T204850Z
LAST-MODIFIED:20231204T204909Z
UID:10005429-1797759000-1797805800@toledofirstbaptist.com
SUMMARY:Sunday Cool
DESCRIPTION:Sunday Cool is an opportunity for students to get introduced to scripture in an affirming space with caring Small Group Leaders. Separate classes for Middle School and High School students help keep the conversation relevant to the stage of life the students are currently in. \n#youth
URL:https://toledofirstbaptist.com/event/sunday-cool/2026-12-20/
LOCATION:Toledo First Baptist Church\, 1278 Hwy 505\, Toledo\, WA\, 98591
CATEGORIES:Sunday Cool,Youth Ministry
ATTACH;FMTTYPE=image/jpeg:https://toledofirstbaptist.com/wp-content/uploads/2023/06/SCool-16_545.jpg
END:VEVENT
BEGIN:VEVENT
DTSTART;TZID=America/Los_Angeles:20261227T093000
DTEND;TZID=America/Los_Angeles:20261227T223000
DTSTAMP:20260422T152449
CREATED:20231204T204850Z
LAST-MODIFIED:20231204T204909Z
UID:10005430-1798363800-1798410600@toledofirstbaptist.com
SUMMARY:Sunday Cool
DESCRIPTION:Sunday Cool is an opportunity for students to get introduced to scripture in an affirming space with caring Small Group Leaders. Separate classes for Middle School and High School students help keep the conversation relevant to the stage of life the students are currently in. \n#youth
URL:https://toledofirstbaptist.com/event/sunday-cool/2026-12-27/
LOCATION:Toledo First Baptist Church\, 1278 Hwy 505\, Toledo\, WA\, 98591
CATEGORIES:Sunday Cool,Youth Ministry
ATTACH;FMTTYPE=image/jpeg:https://toledofirstbaptist.com/wp-content/uploads/2023/06/SCool-16_545.jpg
END:VEVENT
BEGIN:VEVENT
DTSTART;TZID=America/Los_Angeles:20270103T093000
DTEND;TZID=America/Los_Angeles:20270103T223000
DTSTAMP:20260422T152449
CREATED:20231204T204850Z
LAST-MODIFIED:20231204T204909Z
UID:10005431-1798968600-1799015400@toledofirstbaptist.com
SUMMARY:Sunday Cool
DESCRIPTION:Sunday Cool is an opportunity for students to get introduced to scripture in an affirming space with caring Small Group Leaders. Separate classes for Middle School and High School students help keep the conversation relevant to the stage of life the students are currently in. \n#youth
URL:https://toledofirstbaptist.com/event/sunday-cool/2027-01-03/
LOCATION:Toledo First Baptist Church\, 1278 Hwy 505\, Toledo\, WA\, 98591
CATEGORIES:Sunday Cool,Youth Ministry
ATTACH;FMTTYPE=image/jpeg:https://toledofirstbaptist.com/wp-content/uploads/2023/06/SCool-16_545.jpg
END:VEVENT
BEGIN:VEVENT
DTSTART;TZID=America/Los_Angeles:20270110T093000
DTEND;TZID=America/Los_Angeles:20270110T223000
DTSTAMP:20260422T152449
CREATED:20231204T204850Z
LAST-MODIFIED:20231204T204909Z
UID:10005432-1799573400-1799620200@toledofirstbaptist.com
SUMMARY:Sunday Cool
DESCRIPTION:Sunday Cool is an opportunity for students to get introduced to scripture in an affirming space with caring Small Group Leaders. Separate classes for Middle School and High School students help keep the conversation relevant to the stage of life the students are currently in. \n#youth
URL:https://toledofirstbaptist.com/event/sunday-cool/2027-01-10/
LOCATION:Toledo First Baptist Church\, 1278 Hwy 505\, Toledo\, WA\, 98591
CATEGORIES:Sunday Cool,Youth Ministry
ATTACH;FMTTYPE=image/jpeg:https://toledofirstbaptist.com/wp-content/uploads/2023/06/SCool-16_545.jpg
END:VEVENT
BEGIN:VEVENT
DTSTART;TZID=America/Los_Angeles:20270117T093000
DTEND;TZID=America/Los_Angeles:20270117T223000
DTSTAMP:20260422T152449
CREATED:20231204T204850Z
LAST-MODIFIED:20231204T204909Z
UID:10005433-1800178200-1800225000@toledofirstbaptist.com
SUMMARY:Sunday Cool
DESCRIPTION:Sunday Cool is an opportunity for students to get introduced to scripture in an affirming space with caring Small Group Leaders. Separate classes for Middle School and High School students help keep the conversation relevant to the stage of life the students are currently in. \n#youth
URL:https://toledofirstbaptist.com/event/sunday-cool/2027-01-17/
LOCATION:Toledo First Baptist Church\, 1278 Hwy 505\, Toledo\, WA\, 98591
CATEGORIES:Sunday Cool,Youth Ministry
ATTACH;FMTTYPE=image/jpeg:https://toledofirstbaptist.com/wp-content/uploads/2023/06/SCool-16_545.jpg
END:VEVENT
BEGIN:VEVENT
DTSTART;TZID=America/Los_Angeles:20270124T093000
DTEND;TZID=America/Los_Angeles:20270124T223000
DTSTAMP:20260422T152449
CREATED:20231204T204850Z
LAST-MODIFIED:20231204T204909Z
UID:10005434-1800783000-1800829800@toledofirstbaptist.com
SUMMARY:Sunday Cool
DESCRIPTION:Sunday Cool is an opportunity for students to get introduced to scripture in an affirming space with caring Small Group Leaders. Separate classes for Middle School and High School students help keep the conversation relevant to the stage of life the students are currently in. \n#youth
URL:https://toledofirstbaptist.com/event/sunday-cool/2027-01-24/
LOCATION:Toledo First Baptist Church\, 1278 Hwy 505\, Toledo\, WA\, 98591
CATEGORIES:Sunday Cool,Youth Ministry
ATTACH;FMTTYPE=image/jpeg:https://toledofirstbaptist.com/wp-content/uploads/2023/06/SCool-16_545.jpg
END:VEVENT
BEGIN:VEVENT
DTSTART;TZID=America/Los_Angeles:20270131T093000
DTEND;TZID=America/Los_Angeles:20270131T223000
DTSTAMP:20260422T152449
CREATED:20231204T204850Z
LAST-MODIFIED:20231204T204909Z
UID:10005435-1801387800-1801434600@toledofirstbaptist.com
SUMMARY:Sunday Cool
DESCRIPTION:Sunday Cool is an opportunity for students to get introduced to scripture in an affirming space with caring Small Group Leaders. Separate classes for Middle School and High School students help keep the conversation relevant to the stage of life the students are currently in. \n#youth
URL:https://toledofirstbaptist.com/event/sunday-cool/2027-01-31/
LOCATION:Toledo First Baptist Church\, 1278 Hwy 505\, Toledo\, WA\, 98591
CATEGORIES:Sunday Cool,Youth Ministry
ATTACH;FMTTYPE=image/jpeg:https://toledofirstbaptist.com/wp-content/uploads/2023/06/SCool-16_545.jpg
END:VEVENT
BEGIN:VEVENT
DTSTART;TZID=America/Los_Angeles:20270207T093000
DTEND;TZID=America/Los_Angeles:20270207T223000
DTSTAMP:20260422T152449
CREATED:20231204T204850Z
LAST-MODIFIED:20231204T204909Z
UID:10005436-1801992600-1802039400@toledofirstbaptist.com
SUMMARY:Sunday Cool
DESCRIPTION:Sunday Cool is an opportunity for students to get introduced to scripture in an affirming space with caring Small Group Leaders. Separate classes for Middle School and High School students help keep the conversation relevant to the stage of life the students are currently in. \n#youth
URL:https://toledofirstbaptist.com/event/sunday-cool/2027-02-07/
LOCATION:Toledo First Baptist Church\, 1278 Hwy 505\, Toledo\, WA\, 98591
CATEGORIES:Sunday Cool,Youth Ministry
ATTACH;FMTTYPE=image/jpeg:https://toledofirstbaptist.com/wp-content/uploads/2023/06/SCool-16_545.jpg
END:VEVENT
BEGIN:VEVENT
DTSTART;TZID=America/Los_Angeles:20270214T093000
DTEND;TZID=America/Los_Angeles:20270214T223000
DTSTAMP:20260422T152449
CREATED:20231204T204850Z
LAST-MODIFIED:20231204T204909Z
UID:10005437-1802597400-1802644200@toledofirstbaptist.com
SUMMARY:Sunday Cool
DESCRIPTION:Sunday Cool is an opportunity for students to get introduced to scripture in an affirming space with caring Small Group Leaders. Separate classes for Middle School and High School students help keep the conversation relevant to the stage of life the students are currently in. \n#youth
URL:https://toledofirstbaptist.com/event/sunday-cool/2027-02-14/
LOCATION:Toledo First Baptist Church\, 1278 Hwy 505\, Toledo\, WA\, 98591
CATEGORIES:Sunday Cool,Youth Ministry
ATTACH;FMTTYPE=image/jpeg:https://toledofirstbaptist.com/wp-content/uploads/2023/06/SCool-16_545.jpg
END:VEVENT
BEGIN:VEVENT
DTSTART;TZID=America/Los_Angeles:20270221T093000
DTEND;TZID=America/Los_Angeles:20270221T223000
DTSTAMP:20260422T152449
CREATED:20231204T204850Z
LAST-MODIFIED:20231204T204909Z
UID:10005438-1803202200-1803249000@toledofirstbaptist.com
SUMMARY:Sunday Cool
DESCRIPTION:Sunday Cool is an opportunity for students to get introduced to scripture in an affirming space with caring Small Group Leaders. Separate classes for Middle School and High School students help keep the conversation relevant to the stage of life the students are currently in. \n#youth
URL:https://toledofirstbaptist.com/event/sunday-cool/2027-02-21/
LOCATION:Toledo First Baptist Church\, 1278 Hwy 505\, Toledo\, WA\, 98591
CATEGORIES:Sunday Cool,Youth Ministry
ATTACH;FMTTYPE=image/jpeg:https://toledofirstbaptist.com/wp-content/uploads/2023/06/SCool-16_545.jpg
END:VEVENT
BEGIN:VEVENT
DTSTART;TZID=America/Los_Angeles:20270228T093000
DTEND;TZID=America/Los_Angeles:20270228T223000
DTSTAMP:20260422T152449
CREATED:20231204T204850Z
LAST-MODIFIED:20231204T204909Z
UID:10005439-1803807000-1803853800@toledofirstbaptist.com
SUMMARY:Sunday Cool
DESCRIPTION:Sunday Cool is an opportunity for students to get introduced to scripture in an affirming space with caring Small Group Leaders. Separate classes for Middle School and High School students help keep the conversation relevant to the stage of life the students are currently in. \n#youth
URL:https://toledofirstbaptist.com/event/sunday-cool/2027-02-28/
LOCATION:Toledo First Baptist Church\, 1278 Hwy 505\, Toledo\, WA\, 98591
CATEGORIES:Sunday Cool,Youth Ministry
ATTACH;FMTTYPE=image/jpeg:https://toledofirstbaptist.com/wp-content/uploads/2023/06/SCool-16_545.jpg
END:VEVENT
BEGIN:VEVENT
DTSTART;TZID=America/Los_Angeles:20270307T093000
DTEND;TZID=America/Los_Angeles:20270307T223000
DTSTAMP:20260422T152449
CREATED:20231204T204850Z
LAST-MODIFIED:20231204T204909Z
UID:10005440-1804411800-1804458600@toledofirstbaptist.com
SUMMARY:Sunday Cool
DESCRIPTION:Sunday Cool is an opportunity for students to get introduced to scripture in an affirming space with caring Small Group Leaders. Separate classes for Middle School and High School students help keep the conversation relevant to the stage of life the students are currently in. \n#youth
URL:https://toledofirstbaptist.com/event/sunday-cool/2027-03-07/
LOCATION:Toledo First Baptist Church\, 1278 Hwy 505\, Toledo\, WA\, 98591
CATEGORIES:Sunday Cool,Youth Ministry
ATTACH;FMTTYPE=image/jpeg:https://toledofirstbaptist.com/wp-content/uploads/2023/06/SCool-16_545.jpg
END:VEVENT
BEGIN:VEVENT
DTSTART;TZID=America/Los_Angeles:20270314T093000
DTEND;TZID=America/Los_Angeles:20270314T223000
DTSTAMP:20260422T152449
CREATED:20231204T204850Z
LAST-MODIFIED:20231204T204909Z
UID:10005441-1805016600-1805063400@toledofirstbaptist.com
SUMMARY:Sunday Cool
DESCRIPTION:Sunday Cool is an opportunity for students to get introduced to scripture in an affirming space with caring Small Group Leaders. Separate classes for Middle School and High School students help keep the conversation relevant to the stage of life the students are currently in. \n#youth
URL:https://toledofirstbaptist.com/event/sunday-cool/2027-03-14/
LOCATION:Toledo First Baptist Church\, 1278 Hwy 505\, Toledo\, WA\, 98591
CATEGORIES:Sunday Cool,Youth Ministry
ATTACH;FMTTYPE=image/jpeg:https://toledofirstbaptist.com/wp-content/uploads/2023/06/SCool-16_545.jpg
END:VEVENT
BEGIN:VEVENT
DTSTART;TZID=America/Los_Angeles:20270321T093000
DTEND;TZID=America/Los_Angeles:20270321T223000
DTSTAMP:20260422T152449
CREATED:20231204T204850Z
LAST-MODIFIED:20231204T204909Z
UID:10005442-1805621400-1805668200@toledofirstbaptist.com
SUMMARY:Sunday Cool
DESCRIPTION:Sunday Cool is an opportunity for students to get introduced to scripture in an affirming space with caring Small Group Leaders. Separate classes for Middle School and High School students help keep the conversation relevant to the stage of life the students are currently in. \n#youth
URL:https://toledofirstbaptist.com/event/sunday-cool/2027-03-21/
LOCATION:Toledo First Baptist Church\, 1278 Hwy 505\, Toledo\, WA\, 98591
CATEGORIES:Sunday Cool,Youth Ministry
ATTACH;FMTTYPE=image/jpeg:https://toledofirstbaptist.com/wp-content/uploads/2023/06/SCool-16_545.jpg
END:VEVENT
BEGIN:VEVENT
DTSTART;TZID=America/Los_Angeles:20270328T093000
DTEND;TZID=America/Los_Angeles:20270328T223000
DTSTAMP:20260422T152449
CREATED:20231204T204850Z
LAST-MODIFIED:20231204T204909Z
UID:10005443-1806226200-1806273000@toledofirstbaptist.com
SUMMARY:Sunday Cool
DESCRIPTION:Sunday Cool is an opportunity for students to get introduced to scripture in an affirming space with caring Small Group Leaders. Separate classes for Middle School and High School students help keep the conversation relevant to the stage of life the students are currently in. \n#youth
URL:https://toledofirstbaptist.com/event/sunday-cool/2027-03-28/
LOCATION:Toledo First Baptist Church\, 1278 Hwy 505\, Toledo\, WA\, 98591
CATEGORIES:Sunday Cool,Youth Ministry
ATTACH;FMTTYPE=image/jpeg:https://toledofirstbaptist.com/wp-content/uploads/2023/06/SCool-16_545.jpg
END:VEVENT
BEGIN:VEVENT
DTSTART;TZID=America/Los_Angeles:20270404T093000
DTEND;TZID=America/Los_Angeles:20270404T223000
DTSTAMP:20260422T152449
CREATED:20231204T204850Z
LAST-MODIFIED:20231204T204909Z
UID:10005444-1806831000-1806877800@toledofirstbaptist.com
SUMMARY:Sunday Cool
DESCRIPTION:Sunday Cool is an opportunity for students to get introduced to scripture in an affirming space with caring Small Group Leaders. Separate classes for Middle School and High School students help keep the conversation relevant to the stage of life the students are currently in. \n#youth
URL:https://toledofirstbaptist.com/event/sunday-cool/2027-04-04/
LOCATION:Toledo First Baptist Church\, 1278 Hwy 505\, Toledo\, WA\, 98591
CATEGORIES:Sunday Cool,Youth Ministry
ATTACH;FMTTYPE=image/jpeg:https://toledofirstbaptist.com/wp-content/uploads/2023/06/SCool-16_545.jpg
END:VEVENT
BEGIN:VEVENT
DTSTART;TZID=America/Los_Angeles:20270411T093000
DTEND;TZID=America/Los_Angeles:20270411T223000
DTSTAMP:20260422T152449
CREATED:20231204T204850Z
LAST-MODIFIED:20231204T204909Z
UID:10005445-1807435800-1807482600@toledofirstbaptist.com
SUMMARY:Sunday Cool
DESCRIPTION:Sunday Cool is an opportunity for students to get introduced to scripture in an affirming space with caring Small Group Leaders. Separate classes for Middle School and High School students help keep the conversation relevant to the stage of life the students are currently in. \n#youth
URL:https://toledofirstbaptist.com/event/sunday-cool/2027-04-11/
LOCATION:Toledo First Baptist Church\, 1278 Hwy 505\, Toledo\, WA\, 98591
CATEGORIES:Sunday Cool,Youth Ministry
ATTACH;FMTTYPE=image/jpeg:https://toledofirstbaptist.com/wp-content/uploads/2023/06/SCool-16_545.jpg
END:VEVENT
BEGIN:VEVENT
DTSTART;TZID=America/Los_Angeles:20270418T093000
DTEND;TZID=America/Los_Angeles:20270418T223000
DTSTAMP:20260422T152449
CREATED:20231204T204850Z
LAST-MODIFIED:20231204T204909Z
UID:10005446-1808040600-1808087400@toledofirstbaptist.com
SUMMARY:Sunday Cool
DESCRIPTION:Sunday Cool is an opportunity for students to get introduced to scripture in an affirming space with caring Small Group Leaders. Separate classes for Middle School and High School students help keep the conversation relevant to the stage of life the students are currently in. \n#youth
URL:https://toledofirstbaptist.com/event/sunday-cool/2027-04-18/
LOCATION:Toledo First Baptist Church\, 1278 Hwy 505\, Toledo\, WA\, 98591
CATEGORIES:Sunday Cool,Youth Ministry
ATTACH;FMTTYPE=image/jpeg:https://toledofirstbaptist.com/wp-content/uploads/2023/06/SCool-16_545.jpg
END:VEVENT
BEGIN:VEVENT
DTSTART;TZID=America/Los_Angeles:20270425T093000
DTEND;TZID=America/Los_Angeles:20270425T223000
DTSTAMP:20260422T152449
CREATED:20231204T204850Z
LAST-MODIFIED:20231204T204909Z
UID:10005447-1808645400-1808692200@toledofirstbaptist.com
SUMMARY:Sunday Cool
DESCRIPTION:Sunday Cool is an opportunity for students to get introduced to scripture in an affirming space with caring Small Group Leaders. Separate classes for Middle School and High School students help keep the conversation relevant to the stage of life the students are currently in. \n#youth
URL:https://toledofirstbaptist.com/event/sunday-cool/2027-04-25/
LOCATION:Toledo First Baptist Church\, 1278 Hwy 505\, Toledo\, WA\, 98591
CATEGORIES:Sunday Cool,Youth Ministry
ATTACH;FMTTYPE=image/jpeg:https://toledofirstbaptist.com/wp-content/uploads/2023/06/SCool-16_545.jpg
END:VEVENT
BEGIN:VEVENT
DTSTART;TZID=America/Los_Angeles:20270502T093000
DTEND;TZID=America/Los_Angeles:20270502T223000
DTSTAMP:20260422T152449
CREATED:20231204T204850Z
LAST-MODIFIED:20231204T204909Z
UID:10005448-1809250200-1809297000@toledofirstbaptist.com
SUMMARY:Sunday Cool
DESCRIPTION:Sunday Cool is an opportunity for students to get introduced to scripture in an affirming space with caring Small Group Leaders. Separate classes for Middle School and High School students help keep the conversation relevant to the stage of life the students are currently in. \n#youth
URL:https://toledofirstbaptist.com/event/sunday-cool/2027-05-02/
LOCATION:Toledo First Baptist Church\, 1278 Hwy 505\, Toledo\, WA\, 98591
CATEGORIES:Sunday Cool,Youth Ministry
ATTACH;FMTTYPE=image/jpeg:https://toledofirstbaptist.com/wp-content/uploads/2023/06/SCool-16_545.jpg
END:VEVENT
BEGIN:VEVENT
DTSTART;TZID=America/Los_Angeles:20270509T093000
DTEND;TZID=America/Los_Angeles:20270509T223000
DTSTAMP:20260422T152449
CREATED:20231204T204850Z
LAST-MODIFIED:20231204T204909Z
UID:10005449-1809855000-1809901800@toledofirstbaptist.com
SUMMARY:Sunday Cool
DESCRIPTION:Sunday Cool is an opportunity for students to get introduced to scripture in an affirming space with caring Small Group Leaders. Separate classes for Middle School and High School students help keep the conversation relevant to the stage of life the students are currently in. \n#youth
URL:https://toledofirstbaptist.com/event/sunday-cool/2027-05-09/
LOCATION:Toledo First Baptist Church\, 1278 Hwy 505\, Toledo\, WA\, 98591
CATEGORIES:Sunday Cool,Youth Ministry
ATTACH;FMTTYPE=image/jpeg:https://toledofirstbaptist.com/wp-content/uploads/2023/06/SCool-16_545.jpg
END:VEVENT
BEGIN:VEVENT
DTSTART;TZID=America/Los_Angeles:20270516T093000
DTEND;TZID=America/Los_Angeles:20270516T223000
DTSTAMP:20260422T152449
CREATED:20231204T204850Z
LAST-MODIFIED:20231204T204909Z
UID:10005450-1810459800-1810506600@toledofirstbaptist.com
SUMMARY:Sunday Cool
DESCRIPTION:Sunday Cool is an opportunity for students to get introduced to scripture in an affirming space with caring Small Group Leaders. Separate classes for Middle School and High School students help keep the conversation relevant to the stage of life the students are currently in. \n#youth
URL:https://toledofirstbaptist.com/event/sunday-cool/2027-05-16/
LOCATION:Toledo First Baptist Church\, 1278 Hwy 505\, Toledo\, WA\, 98591
CATEGORIES:Sunday Cool,Youth Ministry
ATTACH;FMTTYPE=image/jpeg:https://toledofirstbaptist.com/wp-content/uploads/2023/06/SCool-16_545.jpg
END:VEVENT
BEGIN:VEVENT
DTSTART;TZID=America/Los_Angeles:20270523T093000
DTEND;TZID=America/Los_Angeles:20270523T223000
DTSTAMP:20260422T152449
CREATED:20231204T204850Z
LAST-MODIFIED:20231204T204909Z
UID:10005451-1811064600-1811111400@toledofirstbaptist.com
SUMMARY:Sunday Cool
DESCRIPTION:Sunday Cool is an opportunity for students to get introduced to scripture in an affirming space with caring Small Group Leaders. Separate classes for Middle School and High School students help keep the conversation relevant to the stage of life the students are currently in. \n#youth
URL:https://toledofirstbaptist.com/event/sunday-cool/2027-05-23/
LOCATION:Toledo First Baptist Church\, 1278 Hwy 505\, Toledo\, WA\, 98591
CATEGORIES:Sunday Cool,Youth Ministry
ATTACH;FMTTYPE=image/jpeg:https://toledofirstbaptist.com/wp-content/uploads/2023/06/SCool-16_545.jpg
END:VEVENT
BEGIN:VEVENT
DTSTART;TZID=America/Los_Angeles:20270530T093000
DTEND;TZID=America/Los_Angeles:20270530T223000
DTSTAMP:20260422T152449
CREATED:20231204T204850Z
LAST-MODIFIED:20231204T204909Z
UID:10005452-1811669400-1811716200@toledofirstbaptist.com
SUMMARY:Sunday Cool
DESCRIPTION:Sunday Cool is an opportunity for students to get introduced to scripture in an affirming space with caring Small Group Leaders. Separate classes for Middle School and High School students help keep the conversation relevant to the stage of life the students are currently in. \n#youth
URL:https://toledofirstbaptist.com/event/sunday-cool/2027-05-30/
LOCATION:Toledo First Baptist Church\, 1278 Hwy 505\, Toledo\, WA\, 98591
CATEGORIES:Sunday Cool,Youth Ministry
ATTACH;FMTTYPE=image/jpeg:https://toledofirstbaptist.com/wp-content/uploads/2023/06/SCool-16_545.jpg
END:VEVENT
BEGIN:VEVENT
DTSTART;TZID=America/Los_Angeles:20270606T093000
DTEND;TZID=America/Los_Angeles:20270606T223000
DTSTAMP:20260422T152449
CREATED:20231204T204850Z
LAST-MODIFIED:20231204T204909Z
UID:10005453-1812274200-1812321000@toledofirstbaptist.com
SUMMARY:Sunday Cool
DESCRIPTION:Sunday Cool is an opportunity for students to get introduced to scripture in an affirming space with caring Small Group Leaders. Separate classes for Middle School and High School students help keep the conversation relevant to the stage of life the students are currently in. \n#youth
URL:https://toledofirstbaptist.com/event/sunday-cool/2027-06-06/
LOCATION:Toledo First Baptist Church\, 1278 Hwy 505\, Toledo\, WA\, 98591
CATEGORIES:Sunday Cool,Youth Ministry
ATTACH;FMTTYPE=image/jpeg:https://toledofirstbaptist.com/wp-content/uploads/2023/06/SCool-16_545.jpg
END:VEVENT
END:VCALENDAR