BEGIN:VCALENDAR
VERSION:2.0
PRODID:-//Toledo First Baptist Church - ECPv6.15.17.1//NONSGML v1.0//EN
CALSCALE:GREGORIAN
METHOD:PUBLISH
X-ORIGINAL-URL:https://toledofirstbaptist.com
X-WR-CALDESC:Events for Toledo First Baptist Church
REFRESH-INTERVAL;VALUE=DURATION:PT1H
X-Robots-Tag:noindex
X-PUBLISHED-TTL:PT1H
BEGIN:VTIMEZONE
TZID:America/Los_Angeles
BEGIN:DAYLIGHT
TZOFFSETFROM:-0800
TZOFFSETTO:-0700
TZNAME:PDT
DTSTART:20160313T100000
END:DAYLIGHT
BEGIN:STANDARD
TZOFFSETFROM:-0700
TZOFFSETTO:-0800
TZNAME:PST
DTSTART:20161106T090000
END:STANDARD
BEGIN:DAYLIGHT
TZOFFSETFROM:-0800
TZOFFSETTO:-0700
TZNAME:PDT
DTSTART:20170312T100000
END:DAYLIGHT
BEGIN:STANDARD
TZOFFSETFROM:-0700
TZOFFSETTO:-0800
TZNAME:PST
DTSTART:20171105T090000
END:STANDARD
BEGIN:DAYLIGHT
TZOFFSETFROM:-0800
TZOFFSETTO:-0700
TZNAME:PDT
DTSTART:20180311T100000
END:DAYLIGHT
BEGIN:STANDARD
TZOFFSETFROM:-0700
TZOFFSETTO:-0800
TZNAME:PST
DTSTART:20181104T090000
END:STANDARD
BEGIN:DAYLIGHT
TZOFFSETFROM:-0800
TZOFFSETTO:-0700
TZNAME:PDT
DTSTART:20190310T100000
END:DAYLIGHT
BEGIN:STANDARD
TZOFFSETFROM:-0700
TZOFFSETTO:-0800
TZNAME:PST
DTSTART:20191103T090000
END:STANDARD
BEGIN:DAYLIGHT
TZOFFSETFROM:-0800
TZOFFSETTO:-0700
TZNAME:PDT
DTSTART:20200308T100000
END:DAYLIGHT
BEGIN:STANDARD
TZOFFSETFROM:-0700
TZOFFSETTO:-0800
TZNAME:PST
DTSTART:20201101T090000
END:STANDARD
BEGIN:DAYLIGHT
TZOFFSETFROM:-0800
TZOFFSETTO:-0700
TZNAME:PDT
DTSTART:20210314T100000
END:DAYLIGHT
BEGIN:STANDARD
TZOFFSETFROM:-0700
TZOFFSETTO:-0800
TZNAME:PST
DTSTART:20211107T090000
END:STANDARD
BEGIN:DAYLIGHT
TZOFFSETFROM:-0800
TZOFFSETTO:-0700
TZNAME:PDT
DTSTART:20220313T100000
END:DAYLIGHT
BEGIN:STANDARD
TZOFFSETFROM:-0700
TZOFFSETTO:-0800
TZNAME:PST
DTSTART:20221106T090000
END:STANDARD
BEGIN:DAYLIGHT
TZOFFSETFROM:-0800
TZOFFSETTO:-0700
TZNAME:PDT
DTSTART:20230312T100000
END:DAYLIGHT
BEGIN:STANDARD
TZOFFSETFROM:-0700
TZOFFSETTO:-0800
TZNAME:PST
DTSTART:20231105T090000
END:STANDARD
BEGIN:DAYLIGHT
TZOFFSETFROM:-0800
TZOFFSETTO:-0700
TZNAME:PDT
DTSTART:20240310T100000
END:DAYLIGHT
BEGIN:STANDARD
TZOFFSETFROM:-0700
TZOFFSETTO:-0800
TZNAME:PST
DTSTART:20241103T090000
END:STANDARD
END:VTIMEZONE
BEGIN:VEVENT
DTSTART;TZID=America/Los_Angeles:20230621T183000
DTEND;TZID=America/Los_Angeles:20230621T200000
DTSTAMP:20260421T190954
CREATED:20230602T154419Z
LAST-MODIFIED:20230609T122707Z
UID:10004685-1687372200-1687377600@toledofirstbaptist.com
SUMMARY:Sundaes on Wednesday
DESCRIPTION:I scream you scream\, we all scream for ice cream! \nSummer is here\, and it’s time for some ice cream and great fellowship. \nJoin us for a fun evening. Bring a friend or family member to join the fun! \nSee you there! \nChildren | Youth | Adults
URL:https://toledofirstbaptist.com/event/sundaes-on-wednesday/
LOCATION:Toledo First Baptist Church\, 1278 Hwy 505\, Toledo\, WA\, 98591
CATEGORIES:Events,Featured,Summer Events
END:VEVENT
BEGIN:VEVENT
DTSTART;TZID=America/Los_Angeles:20220713T180000
DTEND;TZID=America/Los_Angeles:20220713T190000
DTSTAMP:20260421T190954
CREATED:20220705T214926Z
LAST-MODIFIED:20220705T214926Z
UID:10001149-1657735200-1657738800@toledofirstbaptist.com
SUMMARY:Worship & Pie Social In The Park
DESCRIPTION:Join us for an evening of worshiping\, music and PIES!!!\nWe will meet in the City Park at 6:00 pm. \nBring a pie to share\, chairs\, or a picnic blanket for your family.\nSee you then!
URL:https://toledofirstbaptist.com/event/worship-pie-social-in-the-park/
LOCATION:Toledo Park\, 599 Cedar St\, Toledo\, WA\, 98591\, United States
CATEGORIES:Events,Services,Summer Events
ATTACH;FMTTYPE=image/jpeg:https://toledofirstbaptist.com/wp-content/uploads/2022/07/Untitled-1.jpg
GEO:46.4372456;-122.8520935
X-APPLE-STRUCTURED-LOCATION;VALUE=URI;X-ADDRESS=Toledo Park 599 Cedar St Toledo WA 98591 United States;X-APPLE-RADIUS=500;X-TITLE=599 Cedar St:geo:-122.8520935,46.4372456
END:VEVENT
BEGIN:VEVENT
DTSTART;TZID=America/Los_Angeles:20190821T173000
DTEND;TZID=America/Los_Angeles:20190821T200000
DTSTAMP:20260421T190954
CREATED:20190604T233939Z
LAST-MODIFIED:20190821T212108Z
UID:10000511-1566408600-1566417600@toledofirstbaptist.com
SUMMARY:Chili Cook Off & Family Reunion
DESCRIPTION:If you think you make the best pot of chili\, then come to the Chili Cook-Off and prove it. \nThere will be many who would love to prove you wrong. Start planning now\, cause we have some \namazing cooks in our church! \nWhere: Toledo Baseball Park \nWhen: August 21st \nTime: 5:30-8:00 pm \nBring your best pot of chili to share and get judged. Winner holds the title for the year. \nSee you then.
URL:https://toledofirstbaptist.com/event/chili-cook-off-family-reunion/
LOCATION:Toledo Park\, 599 Cedar St\, Toledo\, WA\, 98591\, United States
CATEGORIES:Events,Featured,Summer Events
ATTACH;FMTTYPE=image/jpeg:https://toledofirstbaptist.com/wp-content/uploads/2019/06/chili-cookof.1f-1.jpg
GEO:46.4372456;-122.8520935
X-APPLE-STRUCTURED-LOCATION;VALUE=URI;X-ADDRESS=Toledo Park 599 Cedar St Toledo WA 98591 United States;X-APPLE-RADIUS=500;X-TITLE=599 Cedar St:geo:-122.8520935,46.4372456
END:VEVENT
BEGIN:VEVENT
DTSTART;TZID=America/Los_Angeles:20190814T183000
DTEND;TZID=America/Los_Angeles:20190814T200000
DTSTAMP:20260421T190954
CREATED:20190604T225909Z
LAST-MODIFIED:20190723T193306Z
UID:10000510-1565807400-1565812800@toledofirstbaptist.com
SUMMARY:Family Fun Run
DESCRIPTION:Where: TBA \nWhen: August 14th \nTime: 6:30-8:00 pm \nMark your calendars. \nAs this event gets closer\, we will post more information. \n  \n 
URL:https://toledofirstbaptist.com/event/family-fun-run-2/
LOCATION:1278 State Route 505\, Toledo\, WA\, 98591\, United States
CATEGORIES:Events,Featured,Summer Events
ATTACH;FMTTYPE=image/jpeg:https://toledofirstbaptist.com/wp-content/uploads/2019/06/fun-run-1.jpg
END:VEVENT
BEGIN:VEVENT
DTSTART;TZID=America/Los_Angeles:20190807T173000
DTEND;TZID=America/Los_Angeles:20190807T200000
DTSTAMP:20260421T190954
CREATED:20190604T221129Z
LAST-MODIFIED:20190723T193456Z
UID:10000509-1565199000-1565208000@toledofirstbaptist.com
SUMMARY:Bluegrass  BBQ
DESCRIPTION:Our summer bluegrass music and bbq in the park. \nWhere: Toledo City Park \nWhen: August 7th \nTime: 5:30-8:00 pm \nInvite your family and friends and come join us in the park for a nice meal and some great music. \nPlease bring a side dish\, salad or dessert to share. \nWe will provide the main course\, utensils\, and plates. \nBring a lawn chair or blanket to sit on during the music. \nWe’ll see you there. \n 
URL:https://toledofirstbaptist.com/event/bluegrass-bbq/
LOCATION:1278 State Route 505\, Toledo\, WA\, 98591\, United States
CATEGORIES:Events,Featured,Summer Events
ATTACH;FMTTYPE=image/jpeg:https://toledofirstbaptist.com/wp-content/uploads/2019/06/bluegrass-bbq.jpg
END:VEVENT
BEGIN:VEVENT
DTSTART;TZID=America/Los_Angeles:20190724T183000
DTEND;TZID=America/Los_Angeles:20190724T200000
DTSTAMP:20260421T190954
CREATED:20190604T212630Z
LAST-MODIFIED:20190604T212630Z
UID:10000508-1563993000-1563998400@toledofirstbaptist.com
SUMMARY:Open Mic & Pie Social
DESCRIPTION:If you can sing\, play an instrument\, or just humm\, then open mic is for you. \nPlease come share your talents with us and enjoy some great pie. \nWhen: July 24th \nTime: 6:30-8:00 pm \nWhere: Toledo City Park \nPlease bring a pie to share.
URL:https://toledofirstbaptist.com/event/open-mic-pie-social-2/
LOCATION:1278 State Route 505\, Toledo\, WA\, 98591\, United States
CATEGORIES:Events,Featured,Summer Events
ATTACH;FMTTYPE=image/jpeg:https://toledofirstbaptist.com/wp-content/uploads/2019/06/open-mic.jpg
END:VEVENT
BEGIN:VEVENT
DTSTART;TZID=America/Los_Angeles:20190717T183000
DTEND;TZID=America/Los_Angeles:20190717T200000
DTSTAMP:20260421T190954
CREATED:20190604T205949Z
LAST-MODIFIED:20190604T205949Z
UID:10000498-1563388200-1563393600@toledofirstbaptist.com
SUMMARY:Nerf War Games
DESCRIPTION:Another great family event you don’t want to miss. Come join us for a Nerf War Game Night. \nBring your whole family all ages are welcome. \nWhen: July 17 \nTime: 6:30-8:00 pm \nWhere: Toledo First Baptist Church \nBring your own nerf guns and darts and be prepared for some fun!
URL:https://toledofirstbaptist.com/event/nerf-war-games/
LOCATION:1278 State Route 505\, Toledo\, WA\, 98591\, United States
CATEGORIES:Events,Featured,Summer Events
ATTACH;FMTTYPE=image/jpeg:https://toledofirstbaptist.com/wp-content/uploads/2019/06/nerf-war-games.jpg
END:VEVENT
BEGIN:VEVENT
DTSTART;TZID=America/Los_Angeles:20190710T173000
DTEND;TZID=America/Los_Angeles:20190710T200000
DTSTAMP:20260421T190954
CREATED:20190604T205247Z
LAST-MODIFIED:20190604T205307Z
UID:10000507-1562779800-1562788800@toledofirstbaptist.com
SUMMARY:Church Picnic at the Lake
DESCRIPTION:Please join us for our annual church picnic at the lake. We will have awesome food\, fun games\, and lots of swimming. \nBring your family\, invite your friends and head out to the lake for an evening of fun and fellowship. \nWhen: July 10th \nWhere: Koppert Lake \nTime: 5:000-8:00 pm \nBring your lawn chairs\, and drinks for your family and a dessert or salad to share. \nDon’t miss the fun! It only happens once a year!
URL:https://toledofirstbaptist.com/event/church-picnic-at-the-lake/
LOCATION:1278 State Route 505\, Toledo\, WA\, 98591\, United States
CATEGORIES:Events,Featured,Summer Events
ATTACH;FMTTYPE=image/jpeg:https://toledofirstbaptist.com/wp-content/uploads/2019/05/Church-Picnic.jpg
END:VEVENT
BEGIN:VEVENT
DTSTART;TZID=America/Los_Angeles:20190624T090000
DTEND;TZID=America/Los_Angeles:20190628T120000
DTSTAMP:20260421T190954
CREATED:20190326T223014Z
LAST-MODIFIED:20190507T060008Z
UID:10000497-1561366800-1561723200@toledofirstbaptist.com
SUMMARY:VBS 2019
DESCRIPTION:Mark your calendar and get ready to throw on your camera strap and buckle your seatbelt. VBS 2019 takes you on a wild adventure—with elephants and egrets\, polar bears and penguins\, cockatoos and crocodiles. As you seek out exotic animals\, you’ll also find snapshots of real-life encounters with Jesus in Scripture. Kids go from bewildered to believing as they get In The Wild at this summer’s VBS here at Toledo First Baptist Church. June 24-28 9:00 am to 12:00 pm. It’s not too early to register\, please see the links below to get registered. \nTo register your child please \nclick here \nTo register to volunteer please \nclick here\n 
URL:https://toledofirstbaptist.com/event/vbs-2019/
LOCATION:1278 State Route 505\, Toledo\, WA\, 98591\, United States
CATEGORIES:Events,Featured,Summer Events
ATTACH;FMTTYPE=image/jpeg:https://toledofirstbaptist.com/wp-content/uploads/2019/03/VBS-2019-Website.jpg
END:VEVENT
BEGIN:VEVENT
DTSTART;TZID=America/Los_Angeles:20170809T183000
DTEND;TZID=America/Los_Angeles:20170809T200000
DTSTAMP:20260421T190954
CREATED:20170629T210529Z
LAST-MODIFIED:20170801T192116Z
UID:10000355-1502303400-1502308800@toledofirstbaptist.com
SUMMARY:Church Picnic & Chili Cookoff
DESCRIPTION:[vc_row][vc_column][vc_column_text]Our church picnic is an annual event that we have to celebrate our church community and enjoy each other’s company.  We will also have a battle for the title of having the best chili of TFBC!  We hope you can join us! \nLocation: The ball fields behind the Elementary School. \nThe church will supply all the hamburgers\, hot dogs and buns. Please bring a dessert\, salad or side dish (and of course your world famous chili) to share at the picnic. Water will be available but if you want pop you must bring it yourselves for your family.  For your comfort\, we recommend you bring a lawn chair and canopy for shade.  For water activities\, bring your swimsuit and towels. \nWe can’t wait to see you all![/vc_column_text][vc_separator color=”mulled_wine” style=”shadow”][vc_column_text]Address and Directions to Koppert Lake: \n215 Pine Tree Road\, Toledo\, Wa. \nFrom Toledo: Go northwest on Highway 505 until you come to Henriott Rd.\nTake a right onto Henriott Rd. Continue north until you come to Pine Tree Rd.\nTake a right onto Pine Tree Road. \n[/vc_column_text][/vc_column][/vc_row]
URL:https://toledofirstbaptist.com/event/church-picnic-2017/
LOCATION:Koppert Lake\, 215 Pine Tree Road\, Toledo\, WA\, 98591\, United States
CATEGORIES:Featured,Summer Events
ATTACH;FMTTYPE=image/jpeg:https://toledofirstbaptist.com/wp-content/uploads/2016/07/senior-adult-potluck.jpg
GEO:46.482519;-122.8584506
X-APPLE-STRUCTURED-LOCATION;VALUE=URI;X-ADDRESS=Koppert Lake 215 Pine Tree Road Toledo WA 98591 United States;X-APPLE-RADIUS=500;X-TITLE=215 Pine Tree Road:geo:-122.8584506,46.482519
END:VEVENT
BEGIN:VEVENT
DTSTART;TZID=America/Los_Angeles:20170802T183000
DTEND;TZID=America/Los_Angeles:20170802T200000
DTSTAMP:20260421T190954
CREATED:20170622T231706Z
LAST-MODIFIED:20170801T192418Z
UID:10000326-1501698600-1501704000@toledofirstbaptist.com
SUMMARY:CANCELED: Baseball in the Park & Chili Cookoff
DESCRIPTION:Due to the heat\, we are canceling our Baseball in the Park & Chili Cookoff.  We’ll be having the chili cookoff during our church picnic.   Stay cool\, friends!
URL:https://toledofirstbaptist.com/event/baseball-in-the-park-chili-cookoff/
LOCATION:1278 State Route 505\, Toledo\, WA\, 98591\, United States
CATEGORIES:Summer Events
ATTACH;FMTTYPE=image/jpeg:https://toledofirstbaptist.com/wp-content/uploads/2016/05/baseballandchilidogs.jpg
END:VEVENT
BEGIN:VEVENT
DTSTART;TZID=America/Los_Angeles:20170726T183000
DTEND;TZID=America/Los_Angeles:20170726T200000
DTSTAMP:20260421T190954
CREATED:20170622T231706Z
LAST-MODIFIED:20170723T053338Z
UID:10000325-1501093800-1501099200@toledofirstbaptist.com
SUMMARY:Bluegrass in the Park & Pie Social
DESCRIPTION:Come and hear some great bluegrass and eat some awesome pie at the Toledo Park.  We hope you can make it!
URL:https://toledofirstbaptist.com/event/bluegrass-in-the-park-pie-social/
LOCATION:Toledo Park\, 599 Cedar St\, Toledo\, WA\, 98591\, United States
CATEGORIES:Featured,Summer Events
ATTACH;FMTTYPE=image/jpeg:https://toledofirstbaptist.com/wp-content/uploads/2016/05/bluegrassinthepark.jpg
GEO:46.4372456;-122.8520935
X-APPLE-STRUCTURED-LOCATION;VALUE=URI;X-ADDRESS=Toledo Park 599 Cedar St Toledo WA 98591 United States;X-APPLE-RADIUS=500;X-TITLE=599 Cedar St:geo:-122.8520935,46.4372456
END:VEVENT
BEGIN:VEVENT
DTSTART;TZID=America/Los_Angeles:20170712T183000
DTEND;TZID=America/Los_Angeles:20170712T200000
DTSTAMP:20260421T190954
CREATED:20170629T210447Z
LAST-MODIFIED:20170629T211559Z
UID:10000354-1499884200-1499889600@toledofirstbaptist.com
SUMMARY:TFBC Service Project
DESCRIPTION:A service project that Pastor Mike is putting together.  More details to come!
URL:https://toledofirstbaptist.com/event/tfbc-service-project/
LOCATION:1278 State Route 505\, Toledo\, WA\, 98591\, United States
CATEGORIES:Summer Events
ATTACH;FMTTYPE=image/jpeg:https://toledofirstbaptist.com/wp-content/uploads/2017/06/Service-Project-AS1.jpg
END:VEVENT
BEGIN:VEVENT
DTSTART;TZID=America/Los_Angeles:20170705T183000
DTEND;TZID=America/Los_Angeles:20170705T200000
DTSTAMP:20260421T190954
CREATED:20170622T231706Z
LAST-MODIFIED:20170629T213344Z
UID:10000327-1499279400-1499284800@toledofirstbaptist.com
SUMMARY:Freedom Fest Concert
DESCRIPTION:Join us this Wednesday at the church for a fun time of music.  Bring yourself\, your friends\, and your family!
URL:https://toledofirstbaptist.com/event/freedom-fest-concert/
LOCATION:1278 State Route 505\, Toledo\, WA\, 98591\, United States
CATEGORIES:Summer Events
ATTACH;FMTTYPE=image/jpeg:https://toledofirstbaptist.com/wp-content/uploads/2016/05/worshipinthepark.jpg
END:VEVENT
END:VCALENDAR