BEGIN:VCALENDAR
VERSION:2.0
PRODID:-//Toledo First Baptist Church - ECPv6.15.17.1//NONSGML v1.0//EN
CALSCALE:GREGORIAN
METHOD:PUBLISH
X-WR-CALNAME:Toledo First Baptist Church
X-ORIGINAL-URL:https://toledofirstbaptist.com
X-WR-CALDESC:Events for Toledo First Baptist Church
REFRESH-INTERVAL;VALUE=DURATION:PT1H
X-Robots-Tag:noindex
X-PUBLISHED-TTL:PT1H
BEGIN:VTIMEZONE
TZID:America/Los_Angeles
BEGIN:DAYLIGHT
TZOFFSETFROM:-0800
TZOFFSETTO:-0700
TZNAME:PDT
DTSTART:20250309T100000
END:DAYLIGHT
BEGIN:STANDARD
TZOFFSETFROM:-0700
TZOFFSETTO:-0800
TZNAME:PST
DTSTART:20251102T090000
END:STANDARD
BEGIN:DAYLIGHT
TZOFFSETFROM:-0800
TZOFFSETTO:-0700
TZNAME:PDT
DTSTART:20260308T100000
END:DAYLIGHT
BEGIN:STANDARD
TZOFFSETFROM:-0700
TZOFFSETTO:-0800
TZNAME:PST
DTSTART:20261101T090000
END:STANDARD
BEGIN:DAYLIGHT
TZOFFSETFROM:-0800
TZOFFSETTO:-0700
TZNAME:PDT
DTSTART:20270314T100000
END:DAYLIGHT
BEGIN:STANDARD
TZOFFSETFROM:-0700
TZOFFSETTO:-0800
TZNAME:PST
DTSTART:20271107T090000
END:STANDARD
END:VTIMEZONE
BEGIN:VEVENT
DTSTART;TZID=America/Los_Angeles:20260426T120000
DTEND;TZID=America/Los_Angeles:20260426T143000
DTSTAMP:20260421T171653
CREATED:20260312T010347Z
LAST-MODIFIED:20260312T010348Z
UID:10006319-1777204800-1777213800@toledofirstbaptist.com
SUMMARY:VBS Training Luncheon
DESCRIPTION:If you are volunteering for VBS this year\, or are interested in volunteering\, please join us after the 11:00 a.m. service downstairs in the Fellowship Hall for lunch\, training\, and an informational meeting about VBS 2026\, taking place June 22–26. \nWe’ll go over important details\, review our training manual\, answer questions\, and help everyone prepare for a great week of ministry. \nIf you have any questions or want more information\, please call Terri VanVleck at 360.520.2266
URL:https://toledofirstbaptist.com/event/vbs-training-luncheon/
LOCATION:Toledo First Baptist Church\, 1278 Hwy 505\, Toledo\, WA\, 98591
CATEGORIES:Events,Featured,Kids Events,Summer Events
ATTACH;FMTTYPE=image/jpeg:https://toledofirstbaptist.com/wp-content/uploads/2026/03/training-luncheon.jpg
END:VEVENT
END:VCALENDAR