BEGIN:VCALENDAR
VERSION:2.0
PRODID:-//Toledo First Baptist Church - ECPv6.15.17.1//NONSGML v1.0//EN
CALSCALE:GREGORIAN
METHOD:PUBLISH
X-WR-CALNAME:Toledo First Baptist Church
X-ORIGINAL-URL:https://toledofirstbaptist.com
X-WR-CALDESC:Events for Toledo First Baptist Church
REFRESH-INTERVAL;VALUE=DURATION:PT1H
X-Robots-Tag:noindex
X-PUBLISHED-TTL:PT1H
BEGIN:VTIMEZONE
TZID:America/Los_Angeles
BEGIN:DAYLIGHT
TZOFFSETFROM:-0800
TZOFFSETTO:-0700
TZNAME:PDT
DTSTART:20250309T100000
END:DAYLIGHT
BEGIN:STANDARD
TZOFFSETFROM:-0700
TZOFFSETTO:-0800
TZNAME:PST
DTSTART:20251102T090000
END:STANDARD
BEGIN:DAYLIGHT
TZOFFSETFROM:-0800
TZOFFSETTO:-0700
TZNAME:PDT
DTSTART:20260308T100000
END:DAYLIGHT
BEGIN:STANDARD
TZOFFSETFROM:-0700
TZOFFSETTO:-0800
TZNAME:PST
DTSTART:20261101T090000
END:STANDARD
BEGIN:DAYLIGHT
TZOFFSETFROM:-0800
TZOFFSETTO:-0700
TZNAME:PDT
DTSTART:20270314T100000
END:DAYLIGHT
BEGIN:STANDARD
TZOFFSETFROM:-0700
TZOFFSETTO:-0800
TZNAME:PST
DTSTART:20271107T090000
END:STANDARD
END:VTIMEZONE
BEGIN:VEVENT
DTSTART;TZID=America/Los_Angeles:20260426T093000
DTEND;TZID=America/Los_Angeles:20260426T103000
DTSTAMP:20260421T184606
CREATED:20230518T182216Z
LAST-MODIFIED:20230831T213816Z
UID:10004414-1777195800-1777199400@toledofirstbaptist.com
SUMMARY:Children's Sunday School
DESCRIPTION:We have moved the Children’s Sunday School hour to 9:30 am. \nOur classes are… \nNursery – Preschool Wing  \nInfant to 2 years old \nPreschool Wing  \n3- 5-year-old \nGrade School – Children’s Wing  \n1st-3rd grade girls \n4th-5th grade girls \n1st-5th grade boys
URL:https://toledofirstbaptist.com/event/childrens-sunday-school/2026-04-26/
LOCATION:Toledo First Baptist Church\, 1278 Hwy 505\, Toledo\, WA\, 98591
CATEGORIES:Classes,Featured,Services
ATTACH;FMTTYPE=image/jpeg:https://toledofirstbaptist.com/wp-content/uploads/2023/08/HAPPY-5.jpg
END:VEVENT
BEGIN:VEVENT
DTSTART;TZID=America/Los_Angeles:20260503T093000
DTEND;TZID=America/Los_Angeles:20260503T103000
DTSTAMP:20260421T184607
CREATED:20230518T182216Z
LAST-MODIFIED:20230831T213816Z
UID:10004415-1777800600-1777804200@toledofirstbaptist.com
SUMMARY:Children's Sunday School
DESCRIPTION:We have moved the Children’s Sunday School hour to 9:30 am. \nOur classes are… \nNursery – Preschool Wing  \nInfant to 2 years old \nPreschool Wing  \n3- 5-year-old \nGrade School – Children’s Wing  \n1st-3rd grade girls \n4th-5th grade girls \n1st-5th grade boys
URL:https://toledofirstbaptist.com/event/childrens-sunday-school/2026-05-03/
LOCATION:Toledo First Baptist Church\, 1278 Hwy 505\, Toledo\, WA\, 98591
CATEGORIES:Classes,Featured,Services
ATTACH;FMTTYPE=image/jpeg:https://toledofirstbaptist.com/wp-content/uploads/2023/08/HAPPY-5.jpg
END:VEVENT
BEGIN:VEVENT
DTSTART;TZID=America/Los_Angeles:20260510T093000
DTEND;TZID=America/Los_Angeles:20260510T103000
DTSTAMP:20260421T184607
CREATED:20230518T182216Z
LAST-MODIFIED:20230831T213816Z
UID:10004416-1778405400-1778409000@toledofirstbaptist.com
SUMMARY:Children's Sunday School
DESCRIPTION:We have moved the Children’s Sunday School hour to 9:30 am. \nOur classes are… \nNursery – Preschool Wing  \nInfant to 2 years old \nPreschool Wing  \n3- 5-year-old \nGrade School – Children’s Wing  \n1st-3rd grade girls \n4th-5th grade girls \n1st-5th grade boys
URL:https://toledofirstbaptist.com/event/childrens-sunday-school/2026-05-10/
LOCATION:Toledo First Baptist Church\, 1278 Hwy 505\, Toledo\, WA\, 98591
CATEGORIES:Classes,Featured,Services
ATTACH;FMTTYPE=image/jpeg:https://toledofirstbaptist.com/wp-content/uploads/2023/08/HAPPY-5.jpg
END:VEVENT
BEGIN:VEVENT
DTSTART;TZID=America/Los_Angeles:20260517T093000
DTEND;TZID=America/Los_Angeles:20260517T103000
DTSTAMP:20260421T184607
CREATED:20230518T182216Z
LAST-MODIFIED:20230831T213816Z
UID:10004417-1779010200-1779013800@toledofirstbaptist.com
SUMMARY:Children's Sunday School
DESCRIPTION:We have moved the Children’s Sunday School hour to 9:30 am. \nOur classes are… \nNursery – Preschool Wing  \nInfant to 2 years old \nPreschool Wing  \n3- 5-year-old \nGrade School – Children’s Wing  \n1st-3rd grade girls \n4th-5th grade girls \n1st-5th grade boys
URL:https://toledofirstbaptist.com/event/childrens-sunday-school/2026-05-17/
LOCATION:Toledo First Baptist Church\, 1278 Hwy 505\, Toledo\, WA\, 98591
CATEGORIES:Classes,Featured,Services
ATTACH;FMTTYPE=image/jpeg:https://toledofirstbaptist.com/wp-content/uploads/2023/08/HAPPY-5.jpg
END:VEVENT
BEGIN:VEVENT
DTSTART;TZID=America/Los_Angeles:20260524T093000
DTEND;TZID=America/Los_Angeles:20260524T103000
DTSTAMP:20260421T184607
CREATED:20230518T182216Z
LAST-MODIFIED:20230831T213816Z
UID:10004418-1779615000-1779618600@toledofirstbaptist.com
SUMMARY:Children's Sunday School
DESCRIPTION:We have moved the Children’s Sunday School hour to 9:30 am. \nOur classes are… \nNursery – Preschool Wing  \nInfant to 2 years old \nPreschool Wing  \n3- 5-year-old \nGrade School – Children’s Wing  \n1st-3rd grade girls \n4th-5th grade girls \n1st-5th grade boys
URL:https://toledofirstbaptist.com/event/childrens-sunday-school/2026-05-24/
LOCATION:Toledo First Baptist Church\, 1278 Hwy 505\, Toledo\, WA\, 98591
CATEGORIES:Classes,Featured,Services
ATTACH;FMTTYPE=image/jpeg:https://toledofirstbaptist.com/wp-content/uploads/2023/08/HAPPY-5.jpg
END:VEVENT
BEGIN:VEVENT
DTSTART;TZID=America/Los_Angeles:20260531T093000
DTEND;TZID=America/Los_Angeles:20260531T103000
DTSTAMP:20260421T184607
CREATED:20230518T182216Z
LAST-MODIFIED:20230831T213816Z
UID:10004419-1780219800-1780223400@toledofirstbaptist.com
SUMMARY:Children's Sunday School
DESCRIPTION:We have moved the Children’s Sunday School hour to 9:30 am. \nOur classes are… \nNursery – Preschool Wing  \nInfant to 2 years old \nPreschool Wing  \n3- 5-year-old \nGrade School – Children’s Wing  \n1st-3rd grade girls \n4th-5th grade girls \n1st-5th grade boys
URL:https://toledofirstbaptist.com/event/childrens-sunday-school/2026-05-31/
LOCATION:Toledo First Baptist Church\, 1278 Hwy 505\, Toledo\, WA\, 98591
CATEGORIES:Classes,Featured,Services
ATTACH;FMTTYPE=image/jpeg:https://toledofirstbaptist.com/wp-content/uploads/2023/08/HAPPY-5.jpg
END:VEVENT
BEGIN:VEVENT
DTSTART;TZID=America/Los_Angeles:20260607T093000
DTEND;TZID=America/Los_Angeles:20260607T103000
DTSTAMP:20260421T184607
CREATED:20230518T182216Z
LAST-MODIFIED:20230831T213816Z
UID:10004420-1780824600-1780828200@toledofirstbaptist.com
SUMMARY:Children's Sunday School
DESCRIPTION:We have moved the Children’s Sunday School hour to 9:30 am. \nOur classes are… \nNursery – Preschool Wing  \nInfant to 2 years old \nPreschool Wing  \n3- 5-year-old \nGrade School – Children’s Wing  \n1st-3rd grade girls \n4th-5th grade girls \n1st-5th grade boys
URL:https://toledofirstbaptist.com/event/childrens-sunday-school/2026-06-07/
LOCATION:Toledo First Baptist Church\, 1278 Hwy 505\, Toledo\, WA\, 98591
CATEGORIES:Classes,Featured,Services
ATTACH;FMTTYPE=image/jpeg:https://toledofirstbaptist.com/wp-content/uploads/2023/08/HAPPY-5.jpg
END:VEVENT
BEGIN:VEVENT
DTSTART;TZID=America/Los_Angeles:20260614T093000
DTEND;TZID=America/Los_Angeles:20260614T103000
DTSTAMP:20260421T184607
CREATED:20230518T182216Z
LAST-MODIFIED:20230831T213816Z
UID:10004421-1781429400-1781433000@toledofirstbaptist.com
SUMMARY:Children's Sunday School
DESCRIPTION:We have moved the Children’s Sunday School hour to 9:30 am. \nOur classes are… \nNursery – Preschool Wing  \nInfant to 2 years old \nPreschool Wing  \n3- 5-year-old \nGrade School – Children’s Wing  \n1st-3rd grade girls \n4th-5th grade girls \n1st-5th grade boys
URL:https://toledofirstbaptist.com/event/childrens-sunday-school/2026-06-14/
LOCATION:Toledo First Baptist Church\, 1278 Hwy 505\, Toledo\, WA\, 98591
CATEGORIES:Classes,Featured,Services
ATTACH;FMTTYPE=image/jpeg:https://toledofirstbaptist.com/wp-content/uploads/2023/08/HAPPY-5.jpg
END:VEVENT
BEGIN:VEVENT
DTSTART;TZID=America/Los_Angeles:20260621T093000
DTEND;TZID=America/Los_Angeles:20260621T103000
DTSTAMP:20260421T184607
CREATED:20230518T182216Z
LAST-MODIFIED:20230831T213816Z
UID:10004422-1782034200-1782037800@toledofirstbaptist.com
SUMMARY:Children's Sunday School
DESCRIPTION:We have moved the Children’s Sunday School hour to 9:30 am. \nOur classes are… \nNursery – Preschool Wing  \nInfant to 2 years old \nPreschool Wing  \n3- 5-year-old \nGrade School – Children’s Wing  \n1st-3rd grade girls \n4th-5th grade girls \n1st-5th grade boys
URL:https://toledofirstbaptist.com/event/childrens-sunday-school/2026-06-21/
LOCATION:Toledo First Baptist Church\, 1278 Hwy 505\, Toledo\, WA\, 98591
CATEGORIES:Classes,Featured,Services
ATTACH;FMTTYPE=image/jpeg:https://toledofirstbaptist.com/wp-content/uploads/2023/08/HAPPY-5.jpg
END:VEVENT
BEGIN:VEVENT
DTSTART;TZID=America/Los_Angeles:20260705T093000
DTEND;TZID=America/Los_Angeles:20260705T103000
DTSTAMP:20260421T184607
CREATED:20230518T182216Z
LAST-MODIFIED:20230831T213816Z
UID:10004424-1783243800-1783247400@toledofirstbaptist.com
SUMMARY:Children's Sunday School
DESCRIPTION:We have moved the Children’s Sunday School hour to 9:30 am. \nOur classes are… \nNursery – Preschool Wing  \nInfant to 2 years old \nPreschool Wing  \n3- 5-year-old \nGrade School – Children’s Wing  \n1st-3rd grade girls \n4th-5th grade girls \n1st-5th grade boys
URL:https://toledofirstbaptist.com/event/childrens-sunday-school/2026-07-05/
LOCATION:Toledo First Baptist Church\, 1278 Hwy 505\, Toledo\, WA\, 98591
CATEGORIES:Classes,Featured,Services
ATTACH;FMTTYPE=image/jpeg:https://toledofirstbaptist.com/wp-content/uploads/2023/08/HAPPY-5.jpg
END:VEVENT
BEGIN:VEVENT
DTSTART;TZID=America/Los_Angeles:20260712T093000
DTEND;TZID=America/Los_Angeles:20260712T103000
DTSTAMP:20260421T184607
CREATED:20230518T182216Z
LAST-MODIFIED:20230831T213816Z
UID:10004425-1783848600-1783852200@toledofirstbaptist.com
SUMMARY:Children's Sunday School
DESCRIPTION:We have moved the Children’s Sunday School hour to 9:30 am. \nOur classes are… \nNursery – Preschool Wing  \nInfant to 2 years old \nPreschool Wing  \n3- 5-year-old \nGrade School – Children’s Wing  \n1st-3rd grade girls \n4th-5th grade girls \n1st-5th grade boys
URL:https://toledofirstbaptist.com/event/childrens-sunday-school/2026-07-12/
LOCATION:Toledo First Baptist Church\, 1278 Hwy 505\, Toledo\, WA\, 98591
CATEGORIES:Classes,Featured,Services
ATTACH;FMTTYPE=image/jpeg:https://toledofirstbaptist.com/wp-content/uploads/2023/08/HAPPY-5.jpg
END:VEVENT
BEGIN:VEVENT
DTSTART;TZID=America/Los_Angeles:20260719T093000
DTEND;TZID=America/Los_Angeles:20260719T103000
DTSTAMP:20260421T184607
CREATED:20230518T182216Z
LAST-MODIFIED:20230831T213816Z
UID:10004426-1784453400-1784457000@toledofirstbaptist.com
SUMMARY:Children's Sunday School
DESCRIPTION:We have moved the Children’s Sunday School hour to 9:30 am. \nOur classes are… \nNursery – Preschool Wing  \nInfant to 2 years old \nPreschool Wing  \n3- 5-year-old \nGrade School – Children’s Wing  \n1st-3rd grade girls \n4th-5th grade girls \n1st-5th grade boys
URL:https://toledofirstbaptist.com/event/childrens-sunday-school/2026-07-19/
LOCATION:Toledo First Baptist Church\, 1278 Hwy 505\, Toledo\, WA\, 98591
CATEGORIES:Classes,Featured,Services
ATTACH;FMTTYPE=image/jpeg:https://toledofirstbaptist.com/wp-content/uploads/2023/08/HAPPY-5.jpg
END:VEVENT
BEGIN:VEVENT
DTSTART;TZID=America/Los_Angeles:20260726T093000
DTEND;TZID=America/Los_Angeles:20260726T103000
DTSTAMP:20260421T184607
CREATED:20230518T182216Z
LAST-MODIFIED:20230831T213816Z
UID:10004427-1785058200-1785061800@toledofirstbaptist.com
SUMMARY:Children's Sunday School
DESCRIPTION:We have moved the Children’s Sunday School hour to 9:30 am. \nOur classes are… \nNursery – Preschool Wing  \nInfant to 2 years old \nPreschool Wing  \n3- 5-year-old \nGrade School – Children’s Wing  \n1st-3rd grade girls \n4th-5th grade girls \n1st-5th grade boys
URL:https://toledofirstbaptist.com/event/childrens-sunday-school/2026-07-26/
LOCATION:Toledo First Baptist Church\, 1278 Hwy 505\, Toledo\, WA\, 98591
CATEGORIES:Classes,Featured,Services
ATTACH;FMTTYPE=image/jpeg:https://toledofirstbaptist.com/wp-content/uploads/2023/08/HAPPY-5.jpg
END:VEVENT
BEGIN:VEVENT
DTSTART;TZID=America/Los_Angeles:20260802T093000
DTEND;TZID=America/Los_Angeles:20260802T103000
DTSTAMP:20260421T184607
CREATED:20230518T182216Z
LAST-MODIFIED:20230831T213816Z
UID:10004428-1785663000-1785666600@toledofirstbaptist.com
SUMMARY:Children's Sunday School
DESCRIPTION:We have moved the Children’s Sunday School hour to 9:30 am. \nOur classes are… \nNursery – Preschool Wing  \nInfant to 2 years old \nPreschool Wing  \n3- 5-year-old \nGrade School – Children’s Wing  \n1st-3rd grade girls \n4th-5th grade girls \n1st-5th grade boys
URL:https://toledofirstbaptist.com/event/childrens-sunday-school/2026-08-02/
LOCATION:Toledo First Baptist Church\, 1278 Hwy 505\, Toledo\, WA\, 98591
CATEGORIES:Classes,Featured,Services
ATTACH;FMTTYPE=image/jpeg:https://toledofirstbaptist.com/wp-content/uploads/2023/08/HAPPY-5.jpg
END:VEVENT
BEGIN:VEVENT
DTSTART;TZID=America/Los_Angeles:20260809T093000
DTEND;TZID=America/Los_Angeles:20260809T103000
DTSTAMP:20260421T184607
CREATED:20230518T182216Z
LAST-MODIFIED:20230831T213816Z
UID:10004429-1786267800-1786271400@toledofirstbaptist.com
SUMMARY:Children's Sunday School
DESCRIPTION:We have moved the Children’s Sunday School hour to 9:30 am. \nOur classes are… \nNursery – Preschool Wing  \nInfant to 2 years old \nPreschool Wing  \n3- 5-year-old \nGrade School – Children’s Wing  \n1st-3rd grade girls \n4th-5th grade girls \n1st-5th grade boys
URL:https://toledofirstbaptist.com/event/childrens-sunday-school/2026-08-09/
LOCATION:Toledo First Baptist Church\, 1278 Hwy 505\, Toledo\, WA\, 98591
CATEGORIES:Classes,Featured,Services
ATTACH;FMTTYPE=image/jpeg:https://toledofirstbaptist.com/wp-content/uploads/2023/08/HAPPY-5.jpg
END:VEVENT
BEGIN:VEVENT
DTSTART;TZID=America/Los_Angeles:20260816T093000
DTEND;TZID=America/Los_Angeles:20260816T103000
DTSTAMP:20260421T184607
CREATED:20230518T182216Z
LAST-MODIFIED:20230831T213816Z
UID:10004430-1786872600-1786876200@toledofirstbaptist.com
SUMMARY:Children's Sunday School
DESCRIPTION:We have moved the Children’s Sunday School hour to 9:30 am. \nOur classes are… \nNursery – Preschool Wing  \nInfant to 2 years old \nPreschool Wing  \n3- 5-year-old \nGrade School – Children’s Wing  \n1st-3rd grade girls \n4th-5th grade girls \n1st-5th grade boys
URL:https://toledofirstbaptist.com/event/childrens-sunday-school/2026-08-16/
LOCATION:Toledo First Baptist Church\, 1278 Hwy 505\, Toledo\, WA\, 98591
CATEGORIES:Classes,Featured,Services
ATTACH;FMTTYPE=image/jpeg:https://toledofirstbaptist.com/wp-content/uploads/2023/08/HAPPY-5.jpg
END:VEVENT
BEGIN:VEVENT
DTSTART;TZID=America/Los_Angeles:20260823T093000
DTEND;TZID=America/Los_Angeles:20260823T103000
DTSTAMP:20260421T184607
CREATED:20230518T182216Z
LAST-MODIFIED:20230831T213816Z
UID:10004431-1787477400-1787481000@toledofirstbaptist.com
SUMMARY:Children's Sunday School
DESCRIPTION:We have moved the Children’s Sunday School hour to 9:30 am. \nOur classes are… \nNursery – Preschool Wing  \nInfant to 2 years old \nPreschool Wing  \n3- 5-year-old \nGrade School – Children’s Wing  \n1st-3rd grade girls \n4th-5th grade girls \n1st-5th grade boys
URL:https://toledofirstbaptist.com/event/childrens-sunday-school/2026-08-23/
LOCATION:Toledo First Baptist Church\, 1278 Hwy 505\, Toledo\, WA\, 98591
CATEGORIES:Classes,Featured,Services
ATTACH;FMTTYPE=image/jpeg:https://toledofirstbaptist.com/wp-content/uploads/2023/08/HAPPY-5.jpg
END:VEVENT
BEGIN:VEVENT
DTSTART;TZID=America/Los_Angeles:20260830T093000
DTEND;TZID=America/Los_Angeles:20260830T103000
DTSTAMP:20260421T184607
CREATED:20230518T182216Z
LAST-MODIFIED:20230831T213816Z
UID:10004432-1788082200-1788085800@toledofirstbaptist.com
SUMMARY:Children's Sunday School
DESCRIPTION:We have moved the Children’s Sunday School hour to 9:30 am. \nOur classes are… \nNursery – Preschool Wing  \nInfant to 2 years old \nPreschool Wing  \n3- 5-year-old \nGrade School – Children’s Wing  \n1st-3rd grade girls \n4th-5th grade girls \n1st-5th grade boys
URL:https://toledofirstbaptist.com/event/childrens-sunday-school/2026-08-30/
LOCATION:Toledo First Baptist Church\, 1278 Hwy 505\, Toledo\, WA\, 98591
CATEGORIES:Classes,Featured,Services
ATTACH;FMTTYPE=image/jpeg:https://toledofirstbaptist.com/wp-content/uploads/2023/08/HAPPY-5.jpg
END:VEVENT
BEGIN:VEVENT
DTSTART;TZID=America/Los_Angeles:20260906T093000
DTEND;TZID=America/Los_Angeles:20260906T103000
DTSTAMP:20260421T184607
CREATED:20230518T182216Z
LAST-MODIFIED:20230831T213816Z
UID:10004433-1788687000-1788690600@toledofirstbaptist.com
SUMMARY:Children's Sunday School
DESCRIPTION:We have moved the Children’s Sunday School hour to 9:30 am. \nOur classes are… \nNursery – Preschool Wing  \nInfant to 2 years old \nPreschool Wing  \n3- 5-year-old \nGrade School – Children’s Wing  \n1st-3rd grade girls \n4th-5th grade girls \n1st-5th grade boys
URL:https://toledofirstbaptist.com/event/childrens-sunday-school/2026-09-06/
LOCATION:Toledo First Baptist Church\, 1278 Hwy 505\, Toledo\, WA\, 98591
CATEGORIES:Classes,Featured,Services
ATTACH;FMTTYPE=image/jpeg:https://toledofirstbaptist.com/wp-content/uploads/2023/08/HAPPY-5.jpg
END:VEVENT
BEGIN:VEVENT
DTSTART;TZID=America/Los_Angeles:20260913T093000
DTEND;TZID=America/Los_Angeles:20260913T103000
DTSTAMP:20260421T184607
CREATED:20230518T182216Z
LAST-MODIFIED:20230831T213816Z
UID:10004434-1789291800-1789295400@toledofirstbaptist.com
SUMMARY:Children's Sunday School
DESCRIPTION:We have moved the Children’s Sunday School hour to 9:30 am. \nOur classes are… \nNursery – Preschool Wing  \nInfant to 2 years old \nPreschool Wing  \n3- 5-year-old \nGrade School – Children’s Wing  \n1st-3rd grade girls \n4th-5th grade girls \n1st-5th grade boys
URL:https://toledofirstbaptist.com/event/childrens-sunday-school/2026-09-13/
LOCATION:Toledo First Baptist Church\, 1278 Hwy 505\, Toledo\, WA\, 98591
CATEGORIES:Classes,Featured,Services
ATTACH;FMTTYPE=image/jpeg:https://toledofirstbaptist.com/wp-content/uploads/2023/08/HAPPY-5.jpg
END:VEVENT
BEGIN:VEVENT
DTSTART;TZID=America/Los_Angeles:20260920T093000
DTEND;TZID=America/Los_Angeles:20260920T103000
DTSTAMP:20260421T184607
CREATED:20230518T182216Z
LAST-MODIFIED:20230831T213816Z
UID:10004435-1789896600-1789900200@toledofirstbaptist.com
SUMMARY:Children's Sunday School
DESCRIPTION:We have moved the Children’s Sunday School hour to 9:30 am. \nOur classes are… \nNursery – Preschool Wing  \nInfant to 2 years old \nPreschool Wing  \n3- 5-year-old \nGrade School – Children’s Wing  \n1st-3rd grade girls \n4th-5th grade girls \n1st-5th grade boys
URL:https://toledofirstbaptist.com/event/childrens-sunday-school/2026-09-20/
LOCATION:Toledo First Baptist Church\, 1278 Hwy 505\, Toledo\, WA\, 98591
CATEGORIES:Classes,Featured,Services
ATTACH;FMTTYPE=image/jpeg:https://toledofirstbaptist.com/wp-content/uploads/2023/08/HAPPY-5.jpg
END:VEVENT
BEGIN:VEVENT
DTSTART;TZID=America/Los_Angeles:20260927T093000
DTEND;TZID=America/Los_Angeles:20260927T103000
DTSTAMP:20260421T184607
CREATED:20230518T182216Z
LAST-MODIFIED:20230831T213816Z
UID:10004436-1790501400-1790505000@toledofirstbaptist.com
SUMMARY:Children's Sunday School
DESCRIPTION:We have moved the Children’s Sunday School hour to 9:30 am. \nOur classes are… \nNursery – Preschool Wing  \nInfant to 2 years old \nPreschool Wing  \n3- 5-year-old \nGrade School – Children’s Wing  \n1st-3rd grade girls \n4th-5th grade girls \n1st-5th grade boys
URL:https://toledofirstbaptist.com/event/childrens-sunday-school/2026-09-27/
LOCATION:Toledo First Baptist Church\, 1278 Hwy 505\, Toledo\, WA\, 98591
CATEGORIES:Classes,Featured,Services
ATTACH;FMTTYPE=image/jpeg:https://toledofirstbaptist.com/wp-content/uploads/2023/08/HAPPY-5.jpg
END:VEVENT
BEGIN:VEVENT
DTSTART;TZID=America/Los_Angeles:20261004T093000
DTEND;TZID=America/Los_Angeles:20261004T103000
DTSTAMP:20260421T184607
CREATED:20230518T182216Z
LAST-MODIFIED:20230831T213816Z
UID:10004437-1791106200-1791109800@toledofirstbaptist.com
SUMMARY:Children's Sunday School
DESCRIPTION:We have moved the Children’s Sunday School hour to 9:30 am. \nOur classes are… \nNursery – Preschool Wing  \nInfant to 2 years old \nPreschool Wing  \n3- 5-year-old \nGrade School – Children’s Wing  \n1st-3rd grade girls \n4th-5th grade girls \n1st-5th grade boys
URL:https://toledofirstbaptist.com/event/childrens-sunday-school/2026-10-04/
LOCATION:Toledo First Baptist Church\, 1278 Hwy 505\, Toledo\, WA\, 98591
CATEGORIES:Classes,Featured,Services
ATTACH;FMTTYPE=image/jpeg:https://toledofirstbaptist.com/wp-content/uploads/2023/08/HAPPY-5.jpg
END:VEVENT
BEGIN:VEVENT
DTSTART;TZID=America/Los_Angeles:20261011T093000
DTEND;TZID=America/Los_Angeles:20261011T103000
DTSTAMP:20260421T184607
CREATED:20230518T182216Z
LAST-MODIFIED:20230831T213816Z
UID:10004438-1791711000-1791714600@toledofirstbaptist.com
SUMMARY:Children's Sunday School
DESCRIPTION:We have moved the Children’s Sunday School hour to 9:30 am. \nOur classes are… \nNursery – Preschool Wing  \nInfant to 2 years old \nPreschool Wing  \n3- 5-year-old \nGrade School – Children’s Wing  \n1st-3rd grade girls \n4th-5th grade girls \n1st-5th grade boys
URL:https://toledofirstbaptist.com/event/childrens-sunday-school/2026-10-11/
LOCATION:Toledo First Baptist Church\, 1278 Hwy 505\, Toledo\, WA\, 98591
CATEGORIES:Classes,Featured,Services
ATTACH;FMTTYPE=image/jpeg:https://toledofirstbaptist.com/wp-content/uploads/2023/08/HAPPY-5.jpg
END:VEVENT
BEGIN:VEVENT
DTSTART;TZID=America/Los_Angeles:20261018T093000
DTEND;TZID=America/Los_Angeles:20261018T103000
DTSTAMP:20260421T184607
CREATED:20230518T182216Z
LAST-MODIFIED:20230831T213816Z
UID:10004439-1792315800-1792319400@toledofirstbaptist.com
SUMMARY:Children's Sunday School
DESCRIPTION:We have moved the Children’s Sunday School hour to 9:30 am. \nOur classes are… \nNursery – Preschool Wing  \nInfant to 2 years old \nPreschool Wing  \n3- 5-year-old \nGrade School – Children’s Wing  \n1st-3rd grade girls \n4th-5th grade girls \n1st-5th grade boys
URL:https://toledofirstbaptist.com/event/childrens-sunday-school/2026-10-18/
LOCATION:Toledo First Baptist Church\, 1278 Hwy 505\, Toledo\, WA\, 98591
CATEGORIES:Classes,Featured,Services
ATTACH;FMTTYPE=image/jpeg:https://toledofirstbaptist.com/wp-content/uploads/2023/08/HAPPY-5.jpg
END:VEVENT
BEGIN:VEVENT
DTSTART;TZID=America/Los_Angeles:20261025T093000
DTEND;TZID=America/Los_Angeles:20261025T103000
DTSTAMP:20260421T184607
CREATED:20230518T182216Z
LAST-MODIFIED:20230831T213816Z
UID:10004440-1792920600-1792924200@toledofirstbaptist.com
SUMMARY:Children's Sunday School
DESCRIPTION:We have moved the Children’s Sunday School hour to 9:30 am. \nOur classes are… \nNursery – Preschool Wing  \nInfant to 2 years old \nPreschool Wing  \n3- 5-year-old \nGrade School – Children’s Wing  \n1st-3rd grade girls \n4th-5th grade girls \n1st-5th grade boys
URL:https://toledofirstbaptist.com/event/childrens-sunday-school/2026-10-25/
LOCATION:Toledo First Baptist Church\, 1278 Hwy 505\, Toledo\, WA\, 98591
CATEGORIES:Classes,Featured,Services
ATTACH;FMTTYPE=image/jpeg:https://toledofirstbaptist.com/wp-content/uploads/2023/08/HAPPY-5.jpg
END:VEVENT
BEGIN:VEVENT
DTSTART;TZID=America/Los_Angeles:20261101T093000
DTEND;TZID=America/Los_Angeles:20261101T103000
DTSTAMP:20260421T184607
CREATED:20230518T182216Z
LAST-MODIFIED:20230831T213816Z
UID:10004441-1793525400-1793529000@toledofirstbaptist.com
SUMMARY:Children's Sunday School
DESCRIPTION:We have moved the Children’s Sunday School hour to 9:30 am. \nOur classes are… \nNursery – Preschool Wing  \nInfant to 2 years old \nPreschool Wing  \n3- 5-year-old \nGrade School – Children’s Wing  \n1st-3rd grade girls \n4th-5th grade girls \n1st-5th grade boys
URL:https://toledofirstbaptist.com/event/childrens-sunday-school/2026-11-01/
LOCATION:Toledo First Baptist Church\, 1278 Hwy 505\, Toledo\, WA\, 98591
CATEGORIES:Classes,Featured,Services
ATTACH;FMTTYPE=image/jpeg:https://toledofirstbaptist.com/wp-content/uploads/2023/08/HAPPY-5.jpg
END:VEVENT
BEGIN:VEVENT
DTSTART;TZID=America/Los_Angeles:20261108T093000
DTEND;TZID=America/Los_Angeles:20261108T103000
DTSTAMP:20260421T184607
CREATED:20230518T182216Z
LAST-MODIFIED:20230831T213816Z
UID:10004442-1794130200-1794133800@toledofirstbaptist.com
SUMMARY:Children's Sunday School
DESCRIPTION:We have moved the Children’s Sunday School hour to 9:30 am. \nOur classes are… \nNursery – Preschool Wing  \nInfant to 2 years old \nPreschool Wing  \n3- 5-year-old \nGrade School – Children’s Wing  \n1st-3rd grade girls \n4th-5th grade girls \n1st-5th grade boys
URL:https://toledofirstbaptist.com/event/childrens-sunday-school/2026-11-08/
LOCATION:Toledo First Baptist Church\, 1278 Hwy 505\, Toledo\, WA\, 98591
CATEGORIES:Classes,Featured,Services
ATTACH;FMTTYPE=image/jpeg:https://toledofirstbaptist.com/wp-content/uploads/2023/08/HAPPY-5.jpg
END:VEVENT
BEGIN:VEVENT
DTSTART;TZID=America/Los_Angeles:20261115T093000
DTEND;TZID=America/Los_Angeles:20261115T103000
DTSTAMP:20260421T184607
CREATED:20230518T182216Z
LAST-MODIFIED:20230831T213816Z
UID:10004443-1794735000-1794738600@toledofirstbaptist.com
SUMMARY:Children's Sunday School
DESCRIPTION:We have moved the Children’s Sunday School hour to 9:30 am. \nOur classes are… \nNursery – Preschool Wing  \nInfant to 2 years old \nPreschool Wing  \n3- 5-year-old \nGrade School – Children’s Wing  \n1st-3rd grade girls \n4th-5th grade girls \n1st-5th grade boys
URL:https://toledofirstbaptist.com/event/childrens-sunday-school/2026-11-15/
LOCATION:Toledo First Baptist Church\, 1278 Hwy 505\, Toledo\, WA\, 98591
CATEGORIES:Classes,Featured,Services
ATTACH;FMTTYPE=image/jpeg:https://toledofirstbaptist.com/wp-content/uploads/2023/08/HAPPY-5.jpg
END:VEVENT
BEGIN:VEVENT
DTSTART;TZID=America/Los_Angeles:20261122T093000
DTEND;TZID=America/Los_Angeles:20261122T103000
DTSTAMP:20260421T184607
CREATED:20230518T182216Z
LAST-MODIFIED:20230831T213816Z
UID:10004444-1795339800-1795343400@toledofirstbaptist.com
SUMMARY:Children's Sunday School
DESCRIPTION:We have moved the Children’s Sunday School hour to 9:30 am. \nOur classes are… \nNursery – Preschool Wing  \nInfant to 2 years old \nPreschool Wing  \n3- 5-year-old \nGrade School – Children’s Wing  \n1st-3rd grade girls \n4th-5th grade girls \n1st-5th grade boys
URL:https://toledofirstbaptist.com/event/childrens-sunday-school/2026-11-22/
LOCATION:Toledo First Baptist Church\, 1278 Hwy 505\, Toledo\, WA\, 98591
CATEGORIES:Classes,Featured,Services
ATTACH;FMTTYPE=image/jpeg:https://toledofirstbaptist.com/wp-content/uploads/2023/08/HAPPY-5.jpg
END:VEVENT
END:VCALENDAR