BEGIN:VCALENDAR
VERSION:2.0
PRODID:-//Toledo First Baptist Church - ECPv6.15.17.1//NONSGML v1.0//EN
CALSCALE:GREGORIAN
METHOD:PUBLISH
X-ORIGINAL-URL:https://toledofirstbaptist.com
X-WR-CALDESC:Events for Toledo First Baptist Church
REFRESH-INTERVAL;VALUE=DURATION:PT1H
X-Robots-Tag:noindex
X-PUBLISHED-TTL:PT1H
BEGIN:VTIMEZONE
TZID:America/Los_Angeles
BEGIN:DAYLIGHT
TZOFFSETFROM:-0800
TZOFFSETTO:-0700
TZNAME:PDT
DTSTART:20170312T100000
END:DAYLIGHT
BEGIN:STANDARD
TZOFFSETFROM:-0700
TZOFFSETTO:-0800
TZNAME:PST
DTSTART:20171105T090000
END:STANDARD
BEGIN:DAYLIGHT
TZOFFSETFROM:-0800
TZOFFSETTO:-0700
TZNAME:PDT
DTSTART:20180311T100000
END:DAYLIGHT
BEGIN:STANDARD
TZOFFSETFROM:-0700
TZOFFSETTO:-0800
TZNAME:PST
DTSTART:20181104T090000
END:STANDARD
BEGIN:DAYLIGHT
TZOFFSETFROM:-0800
TZOFFSETTO:-0700
TZNAME:PDT
DTSTART:20190310T100000
END:DAYLIGHT
BEGIN:STANDARD
TZOFFSETFROM:-0700
TZOFFSETTO:-0800
TZNAME:PST
DTSTART:20191103T090000
END:STANDARD
END:VTIMEZONE
BEGIN:VEVENT
DTSTART;TZID=America/Los_Angeles:20181121T190000
DTEND;TZID=America/Los_Angeles:20181121T203000
DTSTAMP:20260422T150138
CREATED:20181114T002917Z
LAST-MODIFIED:20181114T002958Z
UID:10000440-1542826800-1542832200@toledofirstbaptist.com
SUMMARY:Thanksgiving Eve Service
DESCRIPTION:Please join us for our Thanksgiving Eve Service\, Wednesday evening\, \nNovember 21st at 7:00 pm. \nDessert in the fellowship hall will follow the service. There is no meal this week. \nThere will be no classes\, youth group\, or Awanas. \nThere will be no childcare provided. \nPlease bring a dessert a pie or dessert to share. \nSee you all there.
URL:https://toledofirstbaptist.com/event/thanksgiving-eve-service/
LOCATION:1278 State Route 505\, Toledo\, WASHINGTON\, 98591\, United States
CATEGORIES:Events,Featured,Services
ATTACH;FMTTYPE=image/jpeg:https://toledofirstbaptist.com/wp-content/uploads/2018/11/Untitled-1.jpg
END:VEVENT
END:VCALENDAR