BEGIN:VCALENDAR
VERSION:2.0
PRODID:-//Toledo First Baptist Church - ECPv6.15.17.1//NONSGML v1.0//EN
CALSCALE:GREGORIAN
METHOD:PUBLISH
X-WR-CALNAME:Toledo First Baptist Church
X-ORIGINAL-URL:https://toledofirstbaptist.com
X-WR-CALDESC:Events for Toledo First Baptist Church
REFRESH-INTERVAL;VALUE=DURATION:PT1H
X-Robots-Tag:noindex
X-PUBLISHED-TTL:PT1H
BEGIN:VTIMEZONE
TZID:America/Los_Angeles
BEGIN:DAYLIGHT
TZOFFSETFROM:-0800
TZOFFSETTO:-0700
TZNAME:PDT
DTSTART:20170312T100000
END:DAYLIGHT
BEGIN:STANDARD
TZOFFSETFROM:-0700
TZOFFSETTO:-0800
TZNAME:PST
DTSTART:20171105T090000
END:STANDARD
BEGIN:DAYLIGHT
TZOFFSETFROM:-0800
TZOFFSETTO:-0700
TZNAME:PDT
DTSTART:20180311T100000
END:DAYLIGHT
BEGIN:STANDARD
TZOFFSETFROM:-0700
TZOFFSETTO:-0800
TZNAME:PST
DTSTART:20181104T090000
END:STANDARD
BEGIN:DAYLIGHT
TZOFFSETFROM:-0800
TZOFFSETTO:-0700
TZNAME:PDT
DTSTART:20190310T100000
END:DAYLIGHT
BEGIN:STANDARD
TZOFFSETFROM:-0700
TZOFFSETTO:-0800
TZNAME:PST
DTSTART:20191103T090000
END:STANDARD
END:VTIMEZONE
BEGIN:VEVENT
DTSTART;TZID=America/Los_Angeles:20181003T183000
DTEND;TZID=America/Los_Angeles:20181003T200000
DTSTAMP:20260422T131154
CREATED:20160824T232314Z
LAST-MODIFIED:20180824T222218Z
UID:10000048-1538591400-1538596800@toledofirstbaptist.com
SUMMARY:Awanas Starts!
DESCRIPTION:CLASSES: 6:30pm \nWe are starting Awanas this week!  Awanas is for children and is designed to meet kids where they’re at and help guide them on their journey of faith in a fun and safe environment.  If you’d like more information\, please contact Pastor Mike. \nWednesday Family Night is here to help us to escape the midweek drag and refuel our spirits through worship\, fellowship\, prayer\, and digging into God’s Word.  We provide classes from children ages 3 and up and childcare for those who are under the age of 3
URL:https://toledofirstbaptist.com/event/wednesday-family-night-100516/
LOCATION:1278 State Route 505\, Toledo\, WASHINGTON\, 98591\, United States
CATEGORIES:Featured,Services
ATTACH;FMTTYPE=image/jpeg:https://toledofirstbaptist.com/wp-content/uploads/2016/10/awanabanner.jpg
END:VEVENT
END:VCALENDAR