BEGIN:VCALENDAR
VERSION:2.0
PRODID:-//Toledo First Baptist Church - ECPv6.15.17.1//NONSGML v1.0//EN
CALSCALE:GREGORIAN
METHOD:PUBLISH
X-ORIGINAL-URL:https://toledofirstbaptist.com
X-WR-CALDESC:Events for Toledo First Baptist Church
REFRESH-INTERVAL;VALUE=DURATION:PT1H
X-Robots-Tag:noindex
X-PUBLISHED-TTL:PT1H
BEGIN:VTIMEZONE
TZID:America/Los_Angeles
BEGIN:DAYLIGHT
TZOFFSETFROM:-0800
TZOFFSETTO:-0700
TZNAME:PDT
DTSTART:20170312T100000
END:DAYLIGHT
BEGIN:STANDARD
TZOFFSETFROM:-0700
TZOFFSETTO:-0800
TZNAME:PST
DTSTART:20171105T090000
END:STANDARD
BEGIN:DAYLIGHT
TZOFFSETFROM:-0800
TZOFFSETTO:-0700
TZNAME:PDT
DTSTART:20180311T100000
END:DAYLIGHT
BEGIN:STANDARD
TZOFFSETFROM:-0700
TZOFFSETTO:-0800
TZNAME:PST
DTSTART:20181104T090000
END:STANDARD
BEGIN:DAYLIGHT
TZOFFSETFROM:-0800
TZOFFSETTO:-0700
TZNAME:PDT
DTSTART:20190310T100000
END:DAYLIGHT
BEGIN:STANDARD
TZOFFSETFROM:-0700
TZOFFSETTO:-0800
TZNAME:PST
DTSTART:20191103T090000
END:STANDARD
END:VTIMEZONE
BEGIN:VEVENT
DTSTART;TZID=America/Los_Angeles:20180905T183000
DTEND;TZID=America/Los_Angeles:20180905T200000
DTSTAMP:20260422T150129
CREATED:20230823T005023Z
LAST-MODIFIED:20230823T005352Z
UID:10000328-1536172200-1536177600@toledofirstbaptist.com
SUMMARY:Wednesday Family Night
DESCRIPTION:CLASSES: 6:30pm \n\nWednesday Family Night is here to help us escape the midweek drag and refuel our spirits through worship\, fellowship\, prayer\, and digging into God’s Word.  Over the summer we have had exciting and fun things to do that drew you and your family closer to God and each other. Now its time for our Wednesday family night to begin. Will be starting some new evening adult classes this week and Pastor Mike will have a children’s program starting for preschool up to 6th grade. Grab your family and join a class and enjoy fellowshipping and learning what God has prepared for you at Wednesday Family Nights.
URL:https://toledofirstbaptist.com/event/wednesday-family-night-4/
LOCATION:1278 State Route 505\, Toledo\, WASHINGTON\, 98591\, United States
CATEGORIES:Featured,Services
ATTACH;FMTTYPE=image/jpeg:https://toledofirstbaptist.com/wp-content/uploads/2016/08/Wednesday-Family-Night.jpg
END:VEVENT
END:VCALENDAR